Workbook

Sheet 案件管理表
A1: 案件管理表
A2: 確度は A(90%)・B(60%)・C(30%)・D(10%)。加重金額=見込み金額×確度(受注は100%、失注は0%)。期限を過ぎた案件は赤、受注は緑、失注は灰色で表示します。
A4: No. | B4: 案件名 | C4: 顧客 | D4: 担当 | E4: 状況 | F4: 確度 | G4: 見込み金額 | H4: 加重金額 | I4: 受注予定月 | J4: 次のアクション | K4: 期限 | L4: メモ
A5: 1 | B5: 会議室の家具の入れ替え | C5: 株式会社○○商事 | D5: 佐藤 | E5: 見積提出 | F5: A | G5: 850000 | H5: =IF(G5="","",ROUND(G5*IF(E5="受注",1,IF(E5="失注",0,IFERROR(LOOKUP(F5,{"A","B","C","D"},{0.9,0.6,0.3,0.1}),0))),0)) | I5: 46327 | J5: 見積の返事を確認 | K5: 46323
A6: 2 | B6: 複合機のリース更新 | C6: △△工業株式会社 | D6: 田中 | E6: 提案中 | F6: B | G6: 420000 | H6: =IF(G6="","",ROUND(G6*IF(E6="受注",1,IF(E6="失注",0,IFERROR(LOOKUP(F6,{"A","B","C","D"},{0.9,0.6,0.3,0.1}),0))),0)) | I6: 46357 | J6: 比較資料を送る | K6: 46315 | L6: 他社と比較中
A7: 3 | B7: 事務用品の定期購入 | C7: □□デザイン | D7: 佐藤 | E7: 見込み | F7: C | G7: 180000 | H7: =IF(G7="","",ROUND(G7*IF(E7="受注",1,IF(E7="失注",0,IFERROR(LOOKUP(F7,{"A","B","C","D"},{0.9,0.6,0.3,0.1}),0))),0)) | I7: 46388 | J7: 訪問のアポを取る | K7: 46336
A8: 4 | B8: 倉庫の棚の増設 | C8: 株式会社◇◇ | D8: 田中 | E8: 受注 | F8: A | G8: 1200000 | H8: =IF(G8="","",ROUND(G8*IF(E8="受注",1,IF(E8="失注",0,IFERROR(LOOKUP(F8,{"A","B","C","D"},{0.9,0.6,0.3,0.1}),0))),0)) | I8: 46296 | J8: 納品日の調整 | K8: 46341
A9: 5 | B9: ロッカーの購入 | C9: ○○クリニック | D9: 鈴木 | E9: 失注 | F9: C | G9: 300000 | H9: =IF(G9="","",ROUND(G9*IF(E9="受注",1,IF(E9="失注",0,IFERROR(LOOKUP(F9,{"A","B","C","D"},{0.9,0.6,0.3,0.1}),0))),0)) | I9: 46266 | L9: 価格で他社に決定
A10: 6 | H10: =IF(G10="","",ROUND(G10*IF(E10="受注",1,IF(E10="失注",0,IFERROR(LOOKUP(F10,{"A","B","C","D"},{0.9,0.6,0.3,0.1}),0))),0))
A11: 7 | H11: =IF(G11="","",ROUND(G11*IF(E11="受注",1,IF(E11="失注",0,IFERROR(LOOKUP(F11,{"A","B","C","D"},{0.9,0.6,0.3,0.1}),0))),0))
A12: 8 | H12: =IF(G12="","",ROUND(G12*IF(E12="受注",1,IF(E12="失注",0,IFERROR(LOOKUP(F12,{"A","B","C","D"},{0.9,0.6,0.3,0.1}),0))),0))
A13: 9 | H13: =IF(G13="","",ROUND(G13*IF(E13="受注",1,IF(E13="失注",0,IFERROR(LOOKUP(F13,{"A","B","C","D"},{0.9,0.6,0.3,0.1}),0))),0))
A14: 10 | H14: =IF(G14="","",ROUND(G14*IF(E14="受注",1,IF(E14="失注",0,IFERROR(LOOKUP(F14,{"A","B","C","D"},{0.9,0.6,0.3,0.1}),0))),0))
A15: 11 | H15: =IF(G15="","",ROUND(G15*IF(E15="受注",1,IF(E15="失注",0,IFERROR(LOOKUP(F15,{"A","B","C","D"},{0.9,0.6,0.3,0.1}),0))),0))
A16: 12 | H16: =IF(G16="","",ROUND(G16*IF(E16="受注",1,IF(E16="失注",0,IFERROR(LOOKUP(F16,{"A","B","C","D"},{0.9,0.6,0.3,0.1}),0))),0))
A17: 13 | H17: =IF(G17="","",ROUND(G17*IF(E17="受注",1,IF(E17="失注",0,IFERROR(LOOKUP(F17,{"A","B","C","D"},{0.9,0.6,0.3,0.1}),0))),0))
A18: 14 | H18: =IF(G18="","",ROUND(G18*IF(E18="受注",1,IF(E18="失注",0,IFERROR(LOOKUP(F18,{"A","B","C","D"},{0.9,0.6,0.3,0.1}),0))),0))
A19: 15 | H19: =IF(G19="","",ROUND(G19*IF(E19="受注",1,IF(E19="失注",0,IFERROR(LOOKUP(F19,{"A","B","C","D"},{0.9,0.6,0.3,0.1}),0))),0))
A20: 16 | H20: =IF(G20="","",ROUND(G20*IF(E20="受注",1,IF(E20="失注",0,IFERROR(LOOKUP(F20,{"A","B","C","D"},{0.9,0.6,0.3,0.1}),0))),0))
A21: 17 | H21: =IF(G21="","",ROUND(G21*IF(E21="受注",1,IF(E21="失注",0,IFERROR(LOOKUP(F21,{"A","B","C","D"},{0.9,0.6,0.3,0.1}),0))),0))
... A54: 50 | H54: =IF(G54="","",ROUND(G54*IF(E54="受注",1,IF(E54="失注",0,IFERROR(LOOKUP(F54,{"A","B","C","D"},{0.9,0.6,0.3,0.1}),0))),0))

Sheet 集計
A1: 案件の集計
A2: 案件管理表から自動で集計します。
A4: 状況 | B4: 件数 | C4: 見込み金額 | D4: 加重金額 | F4: 担当者 | G4: 件数 | H4: 加重金額(進行中)
A5: 見込み | B5: =COUNTIF(案件管理表!$E$5:$E$54,A5) | C5: =SUMIF(案件管理表!$E$5:$E$54,A5,案件管理表!$G$5:$G$54) | D5: =SUMIF(案件管理表!$E$5:$E$54,A5,案件管理表!$H$5:$H$54) | F5: 佐藤 | G5: =IF(F5="","",COUNTIF(案件管理表!$D$5:$D$54,F5)) | H5: =IF(F5="","",SUMIFS(案件管理表!$H$5:$H$54,案件管理表!$D$5:$D$54,F5,案件管理表!$E$5:$E$54,"<>受注",案件管理表!$E$5:$E$54,"<>失注"))
A6: 提案中 | B6: =COUNTIF(案件管理表!$E$5:$E$54,A6) | C6: =SUMIF(案件管理表!$E$5:$E$54,A6,案件管理表!$G$5:$G$54) | D6: =SUMIF(案件管理表!$E$5:$E$54,A6,案件管理表!$H$5:$H$54) | F6: 田中 | G6: =IF(F6="","",COUNTIF(案件管理表!$D$5:$D$54,F6)) | H6: =IF(F6="","",SUMIFS(案件管理表!$H$5:$H$54,案件管理表!$D$5:$D$54,F6,案件管理表!$E$5:$E$54,"<>受注",案件管理表!$E$5:$E$54,"<>失注"))
A7: 見積提出 | B7: =COUNTIF(案件管理表!$E$5:$E$54,A7) | C7: =SUMIF(案件管理表!$E$5:$E$54,A7,案件管理表!$G$5:$G$54) | D7: =SUMIF(案件管理表!$E$5:$E$54,A7,案件管理表!$H$5:$H$54) | F7: 鈴木 | G7: =IF(F7="","",COUNTIF(案件管理表!$D$5:$D$54,F7)) | H7: =IF(F7="","",SUMIFS(案件管理表!$H$5:$H$54,案件管理表!$D$5:$D$54,F7,案件管理表!$E$5:$E$54,"<>受注",案件管理表!$E$5:$E$54,"<>失注"))
A8: 受注 | B8: =COUNTIF(案件管理表!$E$5:$E$54,A8) | C8: =SUMIF(案件管理表!$E$5:$E$54,A8,案件管理表!$G$5:$G$54) | D8: =SUMIF(案件管理表!$E$5:$E$54,A8,案件管理表!$H$5:$H$54) | G8: =IF(F8="","",COUNTIF(案件管理表!$D$5:$D$54,F8)) | H8: =IF(F8="","",SUMIFS(案件管理表!$H$5:$H$54,案件管理表!$D$5:$D$54,F8,案件管理表!$E$5:$E$54,"<>受注",案件管理表!$E$5:$E$54,"<>失注"))
A9: 失注 | B9: =COUNTIF(案件管理表!$E$5:$E$54,A9) | C9: =SUMIF(案件管理表!$E$5:$E$54,A9,案件管理表!$G$5:$G$54) | D9: =SUMIF(案件管理表!$E$5:$E$54,A9,案件管理表!$H$5:$H$54) | G9: =IF(F9="","",COUNTIF(案件管理表!$D$5:$D$54,F9)) | H9: =IF(F9="","",SUMIFS(案件管理表!$H$5:$H$54,案件管理表!$D$5:$D$54,F9,案件管理表!$E$5:$E$54,"<>受注",案件管理表!$E$5:$E$54,"<>失注"))
A10: 進行中の合計 | B10: =SUM(B5:B7) | C10: =SUM(C5:C7) | D10: =SUM(D5:D7)
A11: 受注率 | B11: =IF(B8+B9=0,"",B8/(B8+B9))
A12: ※進行中=見込み・提案中・見積提出。受注率=受注÷(受注+失注)の件数。
A13: 受注予定月別の加重金額(進行中の案件)
A14: 月 | B14: 件数 | C14: 加重金額
A15: =DATE(YEAR(TODAY()),MONTH(TODAY()),1) | B15: =COUNTIFS(案件管理表!$I$5:$I$54,">="&A15,案件管理表!$I$5:$I$54,"<"&EDATE(A15,1),案件管理表!$E$5:$E$54,"<>受注",案件管理表!$E$5:$E$54,"<>失注") | C15: =SUMIFS(案件管理表!$H$5:$H$54,案件管理表!$I$5:$I$54,">="&A15,案件管理表!$I$5:$I$54,"<"&EDATE(A15,1),案件管理表!$E$5:$E$54,"<>受注",案件管理表!$E$5:$E$54,"<>失注")
A16: =EDATE(A15,1) | B16: =COUNTIFS(案件管理表!$I$5:$I$54,">="&A16,案件管理表!$I$5:$I$54,"<"&EDATE(A16,1),案件管理表!$E$5:$E$54,"<>受注",案件管理表!$E$5:$E$54,"<>失注") | C16: =SUMIFS(案件管理表!$H$5:$H$54,案件管理表!$I$5:$I$54,">="&A16,案件管理表!$I$5:$I$54,"<"&EDATE(A16,1),案件管理表!$E$5:$E$54,"<>受注",案件管理表!$E$5:$E$54,"<>失注")
A17: =EDATE(A16,1) | B17: =COUNTIFS(案件管理表!$I$5:$I$54,">="&A17,案件管理表!$I$5:$I$54,"<"&EDATE(A17,1),案件管理表!$E$5:$E$54,"<>受注",案件管理表!$E$5:$E$54,"<>失注") | C17: =SUMIFS(案件管理表!$H$5:$H$54,案件管理表!$I$5:$I$54,">="&A17,案件管理表!$I$5:$I$54,"<"&EDATE(A17,1),案件管理表!$E$5:$E$54,"<>受注",案件管理表!$E$5:$E$54,"<>失注")
A18: =EDATE(A17,1) | B18: =COUNTIFS(案件管理表!$I$5:$I$54,">="&A18,案件管理表!$I$5:$I$54,"<"&EDATE(A18,1),案件管理表!$E$5:$E$54,"<>受注",案件管理表!$E$5:$E$54,"<>失注") | C18: =SUMIFS(案件管理表!$H$5:$H$54,案件管理表!$I$5:$I$54,">="&A18,案件管理表!$I$5:$I$54,"<"&EDATE(A18,1),案件管理表!$E$5:$E$54,"<>受注",案件管理表!$E$5:$E$54,"<>失注")
A19: =EDATE(A18,1) | B19: =COUNTIFS(案件管理表!$I$5:$I$54,">="&A19,案件管理表!$I$5:$I$54,"<"&EDATE(A19,1),案件管理表!$E$5:$E$54,"<>受注",案件管理表!$E$5:$E$54,"<>失注") | C19: =SUMIFS(案件管理表!$H$5:$H$54,案件管理表!$I$5:$I$54,">="&A19,案件管理表!$I$5:$I$54,"<"&EDATE(A19,1),案件管理表!$E$5:$E$54,"<>受注",案件管理表!$E$5:$E$54,"<>失注")
A20: =EDATE(A19,1) | B20: =COUNTIFS(案件管理表!$I$5:$I$54,">="&A20,案件管理表!$I$5:$I$54,"<"&EDATE(A20,1),案件管理表!$E$5:$E$54,"<>受注",案件管理表!$E$5:$E$54,"<>失注") | C20: =SUMIFS(案件管理表!$H$5:$H$54,案件管理表!$I$5:$I$54,">="&A20,案件管理表!$I$5:$I$54,"<"&EDATE(A20,1),案件管理表!$E$5:$E$54,"<>受注",案件管理表!$E$5:$E$54,"<>失注")
