Workbook

Sheet 年間
A1: 年: | C1: 2027 | F1: ←年を入れると全シートが変わります | J1: =C1&"年 カレンダー" -> 2027年 カレンダー
A3: 1月 | I3: 2月 | Q3: 3月 | Y3: 4月
A4: 日 | B4: 月 | C4: 火 | D4: 水 | E4: 木 | F4: 金 | G4: 土 | I4: 日 | J4: 月 | K4: 火 | L4: 水 | M4: 木 | N4: 金 | O4: 土 | Q4: 日 | R4: 月 | S4: 火 | T4: 水 | U4: 木 | V4: 金 | W4: 土 | Y4: 日 | Z4: 月 | AA4: 火 | AB4: 水 | AC4: 木 | AD4: 金 | AE4: 土
A5: =IF(MONTH((DATE($C$1,1,1)-WEEKDAY(DATE($C$1,1,1))+1))=1,DAY((DATE($C$1,1,1)-WEEKDAY(DATE($C$1,1,1))+1)),"") | B5: =IF(MONTH((DATE($C$1,1,1)-WEEKDAY(DATE($C$1,1,1))+2))=1,DAY((DATE($C$1,1,1)-WEEKDAY(DATE($C$1,1,1))+2)),"") | C5: =IF(MONTH((DATE($C$1,1,1)-WEEKDAY(DATE($C$1,1,1))+3))=1,DAY((DATE($C$1,1,1)-WEEKDAY(DATE($C$1,1,1))+3)),"") | D5: =IF(MONTH((DATE($C$1,1,1)-WEEKDAY(DATE($C$1,1,1))+4))=1,DAY((DATE($C$1,1,1)-WEEKDAY(DATE($C$1,1,1))+4)),"") | E5: =IF(MONTH((DATE($C$1,1,1)-WEEKDAY(DATE($C$1,1,1))+5))=1,DAY((DATE($C$1,1,1)-WEEKDAY(DATE($C$1,1,1))+5)),"") | F5: =IF(MONTH((DATE($C$1,1,1)-WEEKDAY(DATE($C$1,1,1))+6))=1,DAY((DATE($C$1,1,1)-WEEKDAY(DATE($C$1,1,1))+6)),"") -> 1 | G5: =IF(MONTH((DATE($C$1,1,1)-WEEKDAY(DATE($C$1,1,1))+7))=1,DAY((DATE($C$1,1,1)-WEEKDAY(DATE($C$1,1,1))+7)),"") -> 2 | I5: =IF(MONTH((DATE($C$1,2,1)-WEEKDAY(DATE($C$1,2,1))+1))=2,DAY((DATE($C$1,2,1)-WEEKDAY(DATE($C$1,2,1))+1)),"") | J5: =IF(MONTH((DATE($C$1,2,1)-WEEKDAY(DATE($C$1,2,1))+2))=2,DAY((DATE($C$1,2,1)-WEEKDAY(DATE($C$1,2,1))+2)),"") -> 1 | K5: =IF(MONTH((DATE($C$1,2,1)-WEEKDAY(DATE($C$1,2,1))+3))=2,DAY((DATE($C$1,2,1)-WEEKDAY(DATE($C$1,2,1))+3)),"") -> 2 | L5: =IF(MONTH((DATE($C$1,2,1)-WEEKDAY(DATE($C$1,2,1))+4))=2,DAY((DATE($C$1,2,1)-WEEKDAY(DATE($C$1,2,1))+4)),"") -> 3 | M5: =IF(MONTH((DATE($C$1,2,1)-WEEKDAY(DATE($C$1,2,1))+5))=2,DAY((DATE($C$1,2,1)-WEEKDAY(DATE($C$1,2,1))+5)),"") -> 4 | N5: =IF(MONTH((DATE($C$1,2,1)-WEEKDAY(DATE($C$1,2,1))+6))=2,DAY((DATE($C$1,2,1)-WEEKDAY(DATE($C$1,2,1))+6)),"") -> 5 | O5: =IF(MONTH((DATE($C$1,2,1)-WEEKDAY(DATE($C$1,2,1))+7))=2,DAY((DATE($C$1,2,1)-WEEKDAY(DATE($C$1,2,1))+7)),"") -> 6 | Q5: =IF(MONTH((DATE($C$1,3,1)-WEEKDAY(DATE($C$1,3,1))+1))=3,DAY((DATE($C$1,3,1)-WEEKDAY(DATE($C$1,3,1))+1)),"") | R5: =IF(MONTH((DATE($C$1,3,1)-WEEKDAY(DATE($C$1,3,1))+2))=3,DAY((DATE($C$1,3,1)-WEEKDAY(DATE($C$1,3,1))+2)),"") -> 1 | S5: =IF(MONTH((DATE($C$1,3,1)-WEEKDAY(DATE($C$1,3,1))+3))=3,DAY((DATE($C$1,3,1)-WEEKDAY(DATE($C$1,3,1))+3)),"") -> 2 | T5: =IF(MONTH((DATE($C$1,3,1)-WEEKDAY(DATE($C$1,3,1))+4))=3,DAY((DATE($C$1,3,1)-WEEKDAY(DATE($C$1,3,1))+4)),"") -> 3 | U5: =IF(MONTH((DATE($C$1,3,1)-WEEKDAY(DATE($C$1,3,1))+5))=3,DAY((DATE($C$1,3,1)-WEEKDAY(DATE($C$1,3,1))+5)),"") -> 4 | V5: =IF(MONTH((DATE($C$1,3,1)-WEEKDAY(DATE($C$1,3,1))+6))=3,DAY((DATE($C$1,3,1)-WEEKDAY(DATE($C$1,3,1))+6)),"") -> 5 | W5: =IF(MONTH((DATE($C$1,3,1)-WEEKDAY(DATE($C$1,3,1))+7))=3,DAY((DATE($C$1,3,1)-WEEKDAY(DATE($C$1,3,1))+7)),"") -> 6 | Y5: =IF(MONTH((DATE($C$1,4,1)-WEEKDAY(DATE($C$1,4,1))+1))=4,DAY((DATE($C$1,4,1)-WEEKDAY(DATE($C$1,4,1))+1)),"") | Z5: =IF(MONTH((DATE($C$1,4,1)-WEEKDAY(DATE($C$1,4,1))+2))=4,DAY((DATE($C$1,4,1)-WEEKDAY(DATE($C$1,4,1))+2)),"") | AA5: =IF(MONTH((DATE($C$1,4,1)-WEEKDAY(DATE($C$1,4,1))+3))=4,DAY((DATE($C$1,4,1)-WEEKDAY(DATE($C$1,4,1))+3)),"") | AB5: =IF(MONTH((DATE($C$1,4,1)-WEEKDAY(DATE($C$1,4,1))+4))=4,DAY((DATE($C$1,4,1)-WEEKDAY(DATE($C$1,4,1))+4)),"") | AC5: =IF(MONTH((DATE($C$1,4,1)-WEEKDAY(DATE($C$1,4,1))+5))=4,DAY((DATE($C$1,4,1)-WEEKDAY(DATE($C$1,4,1))+5)),"") -> 1 | AD5: =IF(MONTH((DATE($C$1,4,1)-WEEKDAY(DATE($C$1,4,1))+6))=4,DAY((DATE($C$1,4,1)-WEEKDAY(DATE($C$1,4,1))+6)),"") -> 2 | AE5: =IF(MONTH((DATE($C$1,4,1)-WEEKDAY(DATE($C$1,4,1))+7))=4,DAY((DATE($C$1,4,1)-WEEKDAY(DATE($C$1,4,1))+7)),"") -> 3
A6: =IF(MONTH((DATE($C$1,1,1)-WEEKDAY(DATE($C$1,1,1))+8))=1,DAY((DATE($C$1,1,1)-WEEKDAY(DATE($C$1,1,1))+8)),"") -> 3 | B6: =IF(MONTH((DATE($C$1,1,1)-WEEKDAY(DATE($C$1,1,1))+9))=1,DAY((DATE($C$1,1,1)-WEEKDAY(DATE($C$1,1,1))+9)),"") -> 4 | C6: =IF(MONTH((DATE($C$1,1,1)-WEEKDAY(DATE($C$1,1,1))+10))=1,DAY((DATE($C$1,1,1)-WEEKDAY(DATE($C$1,1,1))+10)),"") -> 5 | D6: =IF(MONTH((DATE($C$1,1,1)-WEEKDAY(DATE($C$1,1,1))+11))=1,DAY((DATE($C$1,1,1)-WEEKDAY(DATE($C$1,1,1))+11)),"") -> 6 | E6: =IF(MONTH((DATE($C$1,1,1)-WEEKDAY(DATE($C$1,1,1))+12))=1,DAY((DATE($C$1,1,1)-WEEKDAY(DATE($C$1,1,1))+12)),"") -> 7 | F6: =IF(MONTH((DATE($C$1,1,1)-WEEKDAY(DATE($C$1,1,1))+13))=1,DAY((DATE($C$1,1,1)-WEEKDAY(DATE($C$1,1,1))+13)),"") -> 8 | G6: =IF(MONTH((DATE($C$1,1,1)-WEEKDAY(DATE($C$1,1,1))+14))=1,DAY((DATE($C$1,1,1)-WEEKDAY(DATE($C$1,1,1))+14)),"") -> 9 | I6: =IF(MONTH((DATE($C$1,2,1)-WEEKDAY(DATE($C$1,2,1))+8))=2,DAY((DATE($C$1,2,1)-WEEKDAY(DATE($C$1,2,1))+8)),"") -> 7 | J6: =IF(MONTH((DATE($C$1,2,1)-WEEKDAY(DATE($C$1,2,1))+9))=2,DAY((DATE($C$1,2,1)-WEEKDAY(DATE($C$1,2,1))+9)),"") -> 8 | K6: =IF(MONTH((DATE($C$1,2,1)-WEEKDAY(DATE($C$1,2,1))+10))=2,DAY((DATE($C$1,2,1)-WEEKDAY(DATE($C$1,2,1))+10)),"") -> 9 | L6: =IF(MONTH((DATE($C$1,2,1)-WEEKDAY(DATE($C$1,2,1))+11))=2,DAY((DATE($C$1,2,1)-WEEKDAY(DATE($C$1,2,1))+11)),"") -> 10 | M6: =IF(MONTH((DATE($C$1,2,1)-WEEKDAY(DATE($C$1,2,1))+12))=2,DAY((DATE($C$1,2,1)-WEEKDAY(DATE($C$1,2,1))+12)),"") -> 11 | N6: =IF(MONTH((DATE($C$1,2,1)-WEEKDAY(DATE($C$1,2,1))+13))=2,DAY((DATE($C$1,2,1)-WEEKDAY(DATE($C$1,2,1))+13)),"") -> 12 | O6: =IF(MONTH((DATE($C$1,2,1)-WEEKDAY(DATE($C$1,2,1))+14))=2,DAY((DATE($C$1,2,1)-WEEKDAY(DATE($C$1,2,1))+14)),"") -> 13 | Q6: =IF(MONTH((DATE($C$1,3,1)-WEEKDAY(DATE($C$1,3,1))+8))=3,DAY((DATE($C$1,3,1)-WEEKDAY(DATE($C$1,3,1))+8)),"") -> 7 | R6: =IF(MONTH((DATE($C$1,3,1)-WEEKDAY(DATE($C$1,3,1))+9))=3,DAY((DATE($C$1,3,1)-WEEKDAY(DATE($C$1,3,1))+9)),"") -> 8 | S6: =IF(MONTH((DATE($C$1,3,1)-WEEKDAY(DATE($C$1,3,1))+10))=3,DAY((DATE($C$1,3,1)-WEEKDAY(DATE($C$1,3,1))+10)),"") -> 9 | T6: =IF(MONTH((DATE($C$1,3,1)-WEEKDAY(DATE($C$1,3,1))+11))=3,DAY((DATE($C$1,3,1)-WEEKDAY(DATE($C$1,3,1))+11)),"") -> 10 | U6: =IF(MONTH((DATE($C$1,3,1)-WEEKDAY(DATE($C$1,3,1))+12))=3,DAY((DATE($C$1,3,1)-WEEKDAY(DATE($C$1,3,1))+12)),"") -> 11 | V6: =IF(MONTH((DATE($C$1,3,1)-WEEKDAY(DATE($C$1,3,1))+13))=3,DAY((DATE($C$1,3,1)-WEEKDAY(DATE($C$1,3,1))+13)),"") -> 12 | W6: =IF(MONTH((DATE($C$1,3,1)-WEEKDAY(DATE($C$1,3,1))+14))=3,DAY((DATE($C$1,3,1)-WEEKDAY(DATE($C$1,3,1))+14)),"") -> 13 | Y6: =IF(MONTH((DATE($C$1,4,1)-WEEKDAY(DATE($C$1,4,1))+8))=4,DAY((DATE($C$1,4,1)-WEEKDAY(DATE($C$1,4,1))+8)),"") -> 4 | Z6: =IF(MONTH((DATE($C$1,4,1)-WEEKDAY(DATE($C$1,4,1))+9))=4,DAY((DATE($C$1,4,1)-WEEKDAY(DATE($C$1,4,1))+9)),"") -> 5 | AA6: =IF(MONTH((DATE($C$1,4,1)-WEEKDAY(DATE($C$1,4,1))+10))=4,DAY((DATE($C$1,4,1)-WEEKDAY(DATE($C$1,4,1))+10)),"") -> 6 | AB6: =IF(MONTH((DATE($C$1,4,1)-WEEKDAY(DATE($C$1,4,1))+11))=4,DAY((DATE($C$1,4,1)-WEEKDAY(DATE($C$1,4,1))+11)),"") -> 7 | AC6: =IF(MONTH((DATE($C$1,4,1)-WEEKDAY(DATE($C$1,4,1))+12))=4,DAY((DATE($C$1,4,1)-WEEKDAY(DATE($C$1,4,1))+12)),"") -> 8 | AD6: =IF(MONTH((DATE($C$1,4,1)-WEEKDAY(DATE($C$1,4,1))+13))=4,DAY((DATE($C$1,4,1)-WEEKDAY(DATE($C$1,4,1))+13)),"") -> 9 | AE6: =IF(MONTH((DATE($C$1,4,1)-WEEKDAY(DATE($C$1,4,1))+14))=4,DAY((DATE($C$1,4,1)-WEEKDAY(DATE($C$1,4,1))+14)),"") -> 10
A7: =IF(MONTH((DATE($C$1,1,1)-WEEKDAY(DATE($C$1,1,1))+15))=1,DAY((DATE($C$1,1,1)-WEEKDAY(DATE($C$1,1,1))+15)),"") -> 10 | B7: =IF(MONTH((DATE($C$1,1,1)-WEEKDAY(DATE($C$1,1,1))+16))=1,DAY((DATE($C$1,1,1)-WEEKDAY(DATE($C$1,1,1))+16)),"") -> 11 | C7: =IF(MONTH((DATE($C$1,1,1)-WEEKDAY(DATE($C$1,1,1))+17))=1,DAY((DATE($C$1,1,1)-WEEKDAY(DATE($C$1,1,1))+17)),"") -> 12 | D7: =IF(MONTH((DATE($C$1,1,1)-WEEKDAY(DATE($C$1,1,1))+18))=1,DAY((DATE($C$1,1,1)-WEEKDAY(DATE($C$1,1,1))+18)),"") -> 13 | E7: =IF(MONTH((DATE($C$1,1,1)-WEEKDAY(DATE($C$1,1,1))+19))=1,DAY((DATE($C$1,1,1)-WEEKDAY(DATE($C$1,1,1))+19)),"") -> 14 | F7: =IF(MONTH((DATE($C$1,1,1)-WEEKDAY(DATE($C$1,1,1))+20))=1,DAY((DATE($C$1,1,1)-WEEKDAY(DATE($C$1,1,1))+20)),"") -> 15 | G7: =IF(MONTH((DATE($C$1,1,1)-WEEKDAY(DATE($C$1,1,1))+21))=1,DAY((DATE($C$1,1,1)-WEEKDAY(DATE($C$1,1,1))+21)),"") -> 16 | I7: =IF(MONTH((DATE($C$1,2,1)-WEEKDAY(DATE($C$1,2,1))+15))=2,DAY((DATE($C$1,2,1)-WEEKDAY(DATE($C$1,2,1))+15)),"") -> 14 | J7: =IF(MONTH((DATE($C$1,2,1)-WEEKDAY(DATE($C$1,2,1))+16))=2,DAY((DATE($C$1,2,1)-WEEKDAY(DATE($C$1,2,1))+16)),"") -> 15 | K7: =IF(MONTH((DATE($C$1,2,1)-WEEKDAY(DATE($C$1,2,1))+17))=2,DAY((DATE($C$1,2,1)-WEEKDAY(DATE($C$1,2,1))+17)),"") -> 16 | L7: =IF(MONTH((DATE($C$1,2,1)-WEEKDAY(DATE($C$1,2,1))+18))=2,DAY((DATE($C$1,2,1)-WEEKDAY(DATE($C$1,2,1))+18)),"") -> 17 | M7: =IF(MONTH((DATE($C$1,2,1)-WEEKDAY(DATE($C$1,2,1))+19))=2,DAY((DATE($C$1,2,1)-WEEKDAY(DATE($C$1,2,1))+19)),"") -> 18 | N7: =IF(MONTH((DATE($C$1,2,1)-WEEKDAY(DATE($C$1,2,1))+20))=2,DAY((DATE($C$1,2,1)-WEEKDAY(DATE($C$1,2,1))+20)),"") -> 19 | O7: =IF(MONTH((DATE($C$1,2,1)-WEEKDAY(DATE($C$1,2,1))+21))=2,DAY((DATE($C$1,2,1)-WEEKDAY(DATE($C$1,2,1))+21)),"") -> 20 | Q7: =IF(MONTH((DATE($C$1,3,1)-WEEKDAY(DATE($C$1,3,1))+15))=3,DAY((DATE($C$1,3,1)-WEEKDAY(DATE($C$1,3,1))+15)),"") -> 14 | R7: =IF(MONTH((DATE($C$1,3,1)-WEEKDAY(DATE($C$1,3,1))+16))=3,DAY((DATE($C$1,3,1)-WEEKDAY(DATE($C$1,3,1))+16)),"") -> 15 | S7: =IF(MONTH((DATE($C$1,3,1)-WEEKDAY(DATE($C$1,3,1))+17))=3,DAY((DATE($C$1,3,1)-WEEKDAY(DATE($C$1,3,1))+17)),"") -> 16 | T7: =IF(MONTH((DATE($C$1,3,1)-WEEKDAY(DATE($C$1,3,1))+18))=3,DAY((DATE($C$1,3,1)-WEEKDAY(DATE($C$1,3,1))+18)),"") -> 17 | U7: =IF(MONTH((DATE($C$1,3,1)-WEEKDAY(DATE($C$1,3,1))+19))=3,DAY((DATE($C$1,3,1)-WEEKDAY(DATE($C$1,3,1))+19)),"") -> 18 | V7: =IF(MONTH((DATE($C$1,3,1)-WEEKDAY(DATE($C$1,3,1))+20))=3,DAY((DATE($C$1,3,1)-WEEKDAY(DATE($C$1,3,1))+20)),"") -> 19 | W7: =IF(MONTH((DATE($C$1,3,1)-WEEKDAY(DATE($C$1,3,1))+21))=3,DAY((DATE($C$1,3,1)-WEEKDAY(DATE($C$1,3,1))+21)),"") -> 20 | Y7: =IF(MONTH((DATE($C$1,4,1)-WEEKDAY(DATE($C$1,4,1))+15))=4,DAY((DATE($C$1,4,1)-WEEKDAY(DATE($C$1,4,1))+15)),"") -> 11 | Z7: =IF(MONTH((DATE($C$1,4,1)-WEEKDAY(DATE($C$1,4,1))+16))=4,DAY((DATE($C$1,4,1)-WEEKDAY(DATE($C$1,4,1))+16)),"") -> 12 | AA7: =IF(MONTH((DATE($C$1,4,1)-WEEKDAY(DATE($C$1,4,1))+17))=4,DAY((DATE($C$1,4,1)-WEEKDAY(DATE($C$1,4,1))+17)),"") -> 13 | AB7: =IF(MONTH((DATE($C$1,4,1)-WEEKDAY(DATE($C$1,4,1))+18))=4,DAY((DATE($C$1,4,1)-WEEKDAY(DATE($C$1,4,1))+18)),"") -> 14 | AC7: =IF(MONTH((DATE($C$1,4,1)-WEEKDAY(DATE($C$1,4,1))+19))=4,DAY((DATE($C$1,4,1)-WEEKDAY(DATE($C$1,4,1))+19)),"") -> 15 | AD7: =IF(MONTH((DATE($C$1,4,1)-WEEKDAY(DATE($C$1,4,1))+20))=4,DAY((DATE($C$1,4,1)-WEEKDAY(DATE($C$1,4,1))+20)),"") -> 16 | AE7: =IF(MONTH((DATE($C$1,4,1)-WEEKDAY(DATE($C$1,4,1))+21))=4,DAY((DATE($C$1,4,1)-WEEKDAY(DATE($C$1,4,1))+21)),"") -> 17
A8: =IF(MONTH((DATE($C$1,1,1)-WEEKDAY(DATE($C$1,1,1))+22))=1,DAY((DATE($C$1,1,1)-WEEKDAY(DATE($C$1,1,1))+22)),"") -> 17 | B8: =IF(MONTH((DATE($C$1,1,1)-WEEKDAY(DATE($C$1,1,1))+23))=1,DAY((DATE($C$1,1,1)-WEEKDAY(DATE($C$1,1,1))+23)),"") -> 18 | C8: =IF(MONTH((DATE($C$1,1,1)-WEEKDAY(DATE($C$1,1,1))+24))=1,DAY((DATE($C$1,1,1)-WEEKDAY(DATE($C$1,1,1))+24)),"") -> 19 | D8: =IF(MONTH((DATE($C$1,1,1)-WEEKDAY(DATE($C$1,1,1))+25))=1,DAY((DATE($C$1,1,1)-WEEKDAY(DATE($C$1,1,1))+25)),"") -> 20 | E8: =IF(MONTH((DATE($C$1,1,1)-WEEKDAY(DATE($C$1,1,1))+26))=1,DAY((DATE($C$1,1,1)-WEEKDAY(DATE($C$1,1,1))+26)),"") -> 21 | F8: =IF(MONTH((DATE($C$1,1,1)-WEEKDAY(DATE($C$1,1,1))+27))=1,DAY((DATE($C$1,1,1)-WEEKDAY(DATE($C$1,1,1))+27)),"") -> 22 | G8: =IF(MONTH((DATE($C$1,1,1)-WEEKDAY(DATE($C$1,1,1))+28))=1,DAY((DATE($C$1,1,1)-WEEKDAY(DATE($C$1,1,1))+28)),"") -> 23 | I8: =IF(MONTH((DATE($C$1,2,1)-WEEKDAY(DATE($C$1,2,1))+22))=2,DAY((DATE($C$1,2,1)-WEEKDAY(DATE($C$1,2,1))+22)),"") -> 21 | J8: =IF(MONTH((DATE($C$1,2,1)-WEEKDAY(DATE($C$1,2,1))+23))=2,DAY((DATE($C$1,2,1)-WEEKDAY(DATE($C$1,2,1))+23)),"") -> 22 | K8: =IF(MONTH((DATE($C$1,2,1)-WEEKDAY(DATE($C$1,2,1))+24))=2,DAY((DATE($C$1,2,1)-WEEKDAY(DATE($C$1,2,1))+24)),"") -> 23 | L8: =IF(MONTH((DATE($C$1,2,1)-WEEKDAY(DATE($C$1,2,1))+25))=2,DAY((DATE($C$1,2,1)-WEEKDAY(DATE($C$1,2,1))+25)),"") -> 24 | M8: =IF(MONTH((DATE($C$1,2,1)-WEEKDAY(DATE($C$1,2,1))+26))=2,DAY((DATE($C$1,2,1)-WEEKDAY(DATE($C$1,2,1))+26)),"") -> 25 | N8: =IF(MONTH((DATE($C$1,2,1)-WEEKDAY(DATE($C$1,2,1))+27))=2,DAY((DATE($C$1,2,1)-WEEKDAY(DATE($C$1,2,1))+27)),"") -> 26 | O8: =IF(MONTH((DATE($C$1,2,1)-WEEKDAY(DATE($C$1,2,1))+28))=2,DAY((DATE($C$1,2,1)-WEEKDAY(DATE($C$1,2,1))+28)),"") -> 27 | Q8: =IF(MONTH((DATE($C$1,3,1)-WEEKDAY(DATE($C$1,3,1))+22))=3,DAY((DATE($C$1,3,1)-WEEKDAY(DATE($C$1,3,1))+22)),"") -> 21 | R8: =IF(MONTH((DATE($C$1,3,1)-WEEKDAY(DATE($C$1,3,1))+23))=3,DAY((DATE($C$1,3,1)-WEEKDAY(DATE($C$1,3,1))+23)),"") -> 22 | S8: =IF(MONTH((DATE($C$1,3,1)-WEEKDAY(DATE($C$1,3,1))+24))=3,DAY((DATE($C$1,3,1)-WEEKDAY(DATE($C$1,3,1))+24)),"") -> 23 | T8: =IF(MONTH((DATE($C$1,3,1)-WEEKDAY(DATE($C$1,3,1))+25))=3,DAY((DATE($C$1,3,1)-WEEKDAY(DATE($C$1,3,1))+25)),"") -> 24 | U8: =IF(MONTH((DATE($C$1,3,1)-WEEKDAY(DATE($C$1,3,1))+26))=3,DAY((DATE($C$1,3,1)-WEEKDAY(DATE($C$1,3,1))+26)),"") -> 25 | V8: =IF(MONTH((DATE($C$1,3,1)-WEEKDAY(DATE($C$1,3,1))+27))=3,DAY((DATE($C$1,3,1)-WEEKDAY(DATE($C$1,3,1))+27)),"") -> 26 | W8: =IF(MONTH((DATE($C$1,3,1)-WEEKDAY(DATE($C$1,3,1))+28))=3,DAY((DATE($C$1,3,1)-WEEKDAY(DATE($C$1,3,1))+28)),"") -> 27 | Y8: =IF(MONTH((DATE($C$1,4,1)-WEEKDAY(DATE($C$1,4,1))+22))=4,DAY((DATE($C$1,4,1)-WEEKDAY(DATE($C$1,4,1))+22)),"") -> 18 | Z8: =IF(MONTH((DATE($C$1,4,1)-WEEKDAY(DATE($C$1,4,1))+23))=4,DAY((DATE($C$1,4,1)-WEEKDAY(DATE($C$1,4,1))+23)),"") -> 19 | AA8: =IF(MONTH((DATE($C$1,4,1)-WEEKDAY(DATE($C$1,4,1))+24))=4,DAY((DATE($C$1,4,1)-WEEKDAY(DATE($C$1,4,1))+24)),"") -> 20 | AB8: =IF(MONTH((DATE($C$1,4,1)-WEEKDAY(DATE($C$1,4,1))+25))=4,DAY((DATE($C$1,4,1)-WEEKDAY(DATE($C$1,4,1))+25)),"") -> 21 | AC8: =IF(MONTH((DATE($C$1,4,1)-WEEKDAY(DATE($C$1,4,1))+26))=4,DAY((DATE($C$1,4,1)-WEEKDAY(DATE($C$1,4,1))+26)),"") -> 22 | AD8: =IF(MONTH((DATE($C$1,4,1)-WEEKDAY(DATE($C$1,4,1))+27))=4,DAY((DATE($C$1,4,1)-WEEKDAY(DATE($C$1,4,1))+27)),"") -> 23 | AE8: =IF(MONTH((DATE($C$1,4,1)-WEEKDAY(DATE($C$1,4,1))+28))=4,DAY((DATE($C$1,4,1)-WEEKDAY(DATE($C$1,4,1))+28)),"") -> 24
A9: =IF(MONTH((DATE($C$1,1,1)-WEEKDAY(DATE($C$1,1,1))+29))=1,DAY((DATE($C$1,1,1)-WEEKDAY(DATE($C$1,1,1))+29)),"") -> 24 | B9: =IF(MONTH((DATE($C$1,1,1)-WEEKDAY(DATE($C$1,1,1))+30))=1,DAY((DATE($C$1,1,1)-WEEKDAY(DATE($C$1,1,1))+30)),"") -> 25 | C9: =IF(MONTH((DATE($C$1,1,1)-WEEKDAY(DATE($C$1,1,1))+31))=1,DAY((DATE($C$1,1,1)-WEEKDAY(DATE($C$1,1,1))+31)),"") -> 26 | D9: =IF(MONTH((DATE($C$1,1,1)-WEEKDAY(DATE($C$1,1,1))+32))=1,DAY((DATE($C$1,1,1)-WEEKDAY(DATE($C$1,1,1))+32)),"") -> 27 | E9: =IF(MONTH((DATE($C$1,1,1)-WEEKDAY(DATE($C$1,1,1))+33))=1,DAY((DATE($C$1,1,1)-WEEKDAY(DATE($C$1,1,1))+33)),"") -> 28 | F9: =IF(MONTH((DATE($C$1,1,1)-WEEKDAY(DATE($C$1,1,1))+34))=1,DAY((DATE($C$1,1,1)-WEEKDAY(DATE($C$1,1,1))+34)),"") -> 29 | G9: =IF(MONTH((DATE($C$1,1,1)-WEEKDAY(DATE($C$1,1,1))+35))=1,DAY((DATE($C$1,1,1)-WEEKDAY(DATE($C$1,1,1))+35)),"") -> 30 | I9: =IF(MONTH((DATE($C$1,2,1)-WEEKDAY(DATE($C$1,2,1))+29))=2,DAY((DATE($C$1,2,1)-WEEKDAY(DATE($C$1,2,1))+29)),"") -> 28 | J9: =IF(MONTH((DATE($C$1,2,1)-WEEKDAY(DATE($C$1,2,1))+30))=2,DAY((DATE($C$1,2,1)-WEEKDAY(DATE($C$1,2,1))+30)),"") | K9: =IF(MONTH((DATE($C$1,2,1)-WEEKDAY(DATE($C$1,2,1))+31))=2,DAY((DATE($C$1,2,1)-WEEKDAY(DATE($C$1,2,1))+31)),"") | L9: =IF(MONTH((DATE($C$1,2,1)-WEEKDAY(DATE($C$1,2,1))+32))=2,DAY((DATE($C$1,2,1)-WEEKDAY(DATE($C$1,2,1))+32)),"") | M9: =IF(MONTH((DATE($C$1,2,1)-WEEKDAY(DATE($C$1,2,1))+33))=2,DAY((DATE($C$1,2,1)-WEEKDAY(DATE($C$1,2,1))+33)),"") | N9: =IF(MONTH((DATE($C$1,2,1)-WEEKDAY(DATE($C$1,2,1))+34))=2,DAY((DATE($C$1,2,1)-WEEKDAY(DATE($C$1,2,1))+34)),"") | O9: =IF(MONTH((DATE($C$1,2,1)-WEEKDAY(DATE($C$1,2,1))+35))=2,DAY((DATE($C$1,2,1)-WEEKDAY(DATE($C$1,2,1))+35)),"") | Q9: =IF(MONTH((DATE($C$1,3,1)-WEEKDAY(DATE($C$1,3,1))+29))=3,DAY((DATE($C$1,3,1)-WEEKDAY(DATE($C$1,3,1))+29)),"") -> 28 | R9: =IF(MONTH((DATE($C$1,3,1)-WEEKDAY(DATE($C$1,3,1))+30))=3,DAY((DATE($C$1,3,1)-WEEKDAY(DATE($C$1,3,1))+30)),"") -> 29 | S9: =IF(MONTH((DATE($C$1,3,1)-WEEKDAY(DATE($C$1,3,1))+31))=3,DAY((DATE($C$1,3,1)-WEEKDAY(DATE($C$1,3,1))+31)),"") -> 30 | T9: =IF(MONTH((DATE($C$1,3,1)-WEEKDAY(DATE($C$1,3,1))+32))=3,DAY((DATE($C$1,3,1)-WEEKDAY(DATE($C$1,3,1))+32)),"") -> 31 | U9: =IF(MONTH((DATE($C$1,3,1)-WEEKDAY(DATE($C$1,3,1))+33))=3,DAY((DATE($C$1,3,1)-WEEKDAY(DATE($C$1,3,1))+33)),"") | V9: =IF(MONTH((DATE($C$1,3,1)-WEEKDAY(DATE($C$1,3,1))+34))=3,DAY((DATE($C$1,3,1)-WEEKDAY(DATE($C$1,3,1))+34)),"") | W9: =IF(MONTH((DATE($C$1,3,1)-WEEKDAY(DATE($C$1,3,1))+35))=3,DAY((DATE($C$1,3,1)-WEEKDAY(DATE($C$1,3,1))+35)),"") | Y9: =IF(MONTH((DATE($C$1,4,1)-WEEKDAY(DATE($C$1,4,1))+29))=4,DAY((DATE($C$1,4,1)-WEEKDAY(DATE($C$1,4,1))+29)),"") -> 25 | Z9: =IF(MONTH((DATE($C$1,4,1)-WEEKDAY(DATE($C$1,4,1))+30))=4,DAY((DATE($C$1,4,1)-WEEKDAY(DATE($C$1,4,1))+30)),"") -> 26 | AA9: =IF(MONTH((DATE($C$1,4,1)-WEEKDAY(DATE($C$1,4,1))+31))=4,DAY((DATE($C$1,4,1)-WEEKDAY(DATE($C$1,4,1))+31)),"") -> 27 | AB9: =IF(MONTH((DATE($C$1,4,1)-WEEKDAY(DATE($C$1,4,1))+32))=4,DAY((DATE($C$1,4,1)-WEEKDAY(DATE($C$1,4,1))+32)),"") -> 28 | AC9: =IF(MONTH((DATE($C$1,4,1)-WEEKDAY(DATE($C$1,4,1))+33))=4,DAY((DATE($C$1,4,1)-WEEKDAY(DATE($C$1,4,1))+33)),"") -> 29 | AD9: =IF(MONTH((DATE($C$1,4,1)-WEEKDAY(DATE($C$1,4,1))+34))=4,DAY((DATE($C$1,4,1)-WEEKDAY(DATE($C$1,4,1))+34)),"") -> 30 | AE9: =IF(MONTH((DATE($C$1,4,1)-WEEKDAY(DATE($C$1,4,1))+35))=4,DAY((DATE($C$1,4,1)-WEEKDAY(DATE($C$1,4,1))+35)),"")
A10: =IF(MONTH((DATE($C$1,1,1)-WEEKDAY(DATE($C$1,1,1))+36))=1,DAY((DATE($C$1,1,1)-WEEKDAY(DATE($C$1,1,1))+36)),"") -> 31 | B10: =IF(MONTH((DATE($C$1,1,1)-WEEKDAY(DATE($C$1,1,1))+37))=1,DAY((DATE($C$1,1,1)-WEEKDAY(DATE($C$1,1,1))+37)),"") | C10: =IF(MONTH((DATE($C$1,1,1)-WEEKDAY(DATE($C$1,1,1))+38))=1,DAY((DATE($C$1,1,1)-WEEKDAY(DATE($C$1,1,1))+38)),"") | D10: =IF(MONTH((DATE($C$1,1,1)-WEEKDAY(DATE($C$1,1,1))+39))=1,DAY((DATE($C$1,1,1)-WEEKDAY(DATE($C$1,1,1))+39)),"") | E10: =IF(MONTH((DATE($C$1,1,1)-WEEKDAY(DATE($C$1,1,1))+40))=1,DAY((DATE($C$1,1,1)-WEEKDAY(DATE($C$1,1,1))+40)),"") | F10: =IF(MONTH((DATE($C$1,1,1)-WEEKDAY(DATE($C$1,1,1))+41))=1,DAY((DATE($C$1,1,1)-WEEKDAY(DATE($C$1,1,1))+41)),"") | G10: =IF(MONTH((DATE($C$1,1,1)-WEEKDAY(DATE($C$1,1,1))+42))=1,DAY((DATE($C$1,1,1)-WEEKDAY(DATE($C$1,1,1))+42)),"") | I10: =IF(MONTH((DATE($C$1,2,1)-WEEKDAY(DATE($C$1,2,1))+36))=2,DAY((DATE($C$1,2,1)-WEEKDAY(DATE($C$1,2,1))+36)),"") | J10: =IF(MONTH((DATE($C$1,2,1)-WEEKDAY(DATE($C$1,2,1))+37))=2,DAY((DATE($C$1,2,1)-WEEKDAY(DATE($C$1,2,1))+37)),"") | K10: =IF(MONTH((DATE($C$1,2,1)-WEEKDAY(DATE($C$1,2,1))+38))=2,DAY((DATE($C$1,2,1)-WEEKDAY(DATE($C$1,2,1))+38)),"") | L10: =IF(MONTH((DATE($C$1,2,1)-WEEKDAY(DATE($C$1,2,1))+39))=2,DAY((DATE($C$1,2,1)-WEEKDAY(DATE($C$1,2,1))+39)),"") | M10: =IF(MONTH((DATE($C$1,2,1)-WEEKDAY(DATE($C$1,2,1))+40))=2,DAY((DATE($C$1,2,1)-WEEKDAY(DATE($C$1,2,1))+40)),"") | N10: =IF(MONTH((DATE($C$1,2,1)-WEEKDAY(DATE($C$1,2,1))+41))=2,DAY((DATE($C$1,2,1)-WEEKDAY(DATE($C$1,2,1))+41)),"") | O10: =IF(MONTH((DATE($C$1,2,1)-WEEKDAY(DATE($C$1,2,1))+42))=2,DAY((DATE($C$1,2,1)-WEEKDAY(DATE($C$1,2,1))+42)),"") | Q10: =IF(MONTH((DATE($C$1,3,1)-WEEKDAY(DATE($C$1,3,1))+36))=3,DAY((DATE($C$1,3,1)-WEEKDAY(DATE($C$1,3,1))+36)),"") | R10: =IF(MONTH((DATE($C$1,3,1)-WEEKDAY(DATE($C$1,3,1))+37))=3,DAY((DATE($C$1,3,1)-WEEKDAY(DATE($C$1,3,1))+37)),"") | S10: =IF(MONTH((DATE($C$1,3,1)-WEEKDAY(DATE($C$1,3,1))+38))=3,DAY((DATE($C$1,3,1)-WEEKDAY(DATE($C$1,3,1))+38)),"") | T10: =IF(MONTH((DATE($C$1,3,1)-WEEKDAY(DATE($C$1,3,1))+39))=3,DAY((DATE($C$1,3,1)-WEEKDAY(DATE($C$1,3,1))+39)),"") | U10: =IF(MONTH((DATE($C$1,3,1)-WEEKDAY(DATE($C$1,3,1))+40))=3,DAY((DATE($C$1,3,1)-WEEKDAY(DATE($C$1,3,1))+40)),"") | V10: =IF(MONTH((DATE($C$1,3,1)-WEEKDAY(DATE($C$1,3,1))+41))=3,DAY((DATE($C$1,3,1)-WEEKDAY(DATE($C$1,3,1))+41)),"") | W10: =IF(MONTH((DATE($C$1,3,1)-WEEKDAY(DATE($C$1,3,1))+42))=3,DAY((DATE($C$1,3,1)-WEEKDAY(DATE($C$1,3,1))+42)),"") | Y10: =IF(MONTH((DATE($C$1,4,1)-WEEKDAY(DATE($C$1,4,1))+36))=4,DAY((DATE($C$1,4,1)-WEEKDAY(DATE($C$1,4,1))+36)),"") | Z10: =IF(MONTH((DATE($C$1,4,1)-WEEKDAY(DATE($C$1,4,1))+37))=4,DAY((DATE($C$1,4,1)-WEEKDAY(DATE($C$1,4,1))+37)),"") | AA10: =IF(MONTH((DATE($C$1,4,1)-WEEKDAY(DATE($C$1,4,1))+38))=4,DAY((DATE($C$1,4,1)-WEEKDAY(DATE($C$1,4,1))+38)),"") | AB10: =IF(MONTH((DATE($C$1,4,1)-WEEKDAY(DATE($C$1,4,1))+39))=4,DAY((DATE($C$1,4,1)-WEEKDAY(DATE($C$1,4,1))+39)),"") | AC10: =IF(MONTH((DATE($C$1,4,1)-WEEKDAY(DATE($C$1,4,1))+40))=4,DAY((DATE($C$1,4,1)-WEEKDAY(DATE($C$1,4,1))+40)),"") | AD10: =IF(MONTH((DATE($C$1,4,1)-WEEKDAY(DATE($C$1,4,1))+41))=4,DAY((DATE($C$1,4,1)-WEEKDAY(DATE($C$1,4,1))+41)),"") | AE10: =IF(MONTH((DATE($C$1,4,1)-WEEKDAY(DATE($C$1,4,1))+42))=4,DAY((DATE($C$1,4,1)-WEEKDAY(DATE($C$1,4,1))+42)),"")
A13: 5月 | I13: 6月 | Q13: 7月 | Y13: 8月
A14: 日 | B14: 月 | C14: 火 | D14: 水 | E14: 木 | F14: 金 | G14: 土 | I14: 日 | J14: 月 | K14: 火 | L14: 水 | M14: 木 | N14: 金 | O14: 土 | Q14: 日 | R14: 月 | S14: 火 | T14: 水 | U14: 木 | V14: 金 | W14: 土 | Y14: 日 | Z14: 月 | AA14: 火 | AB14: 水 | AC14: 木 | AD14: 金 | AE14: 土
A15: =IF(MONTH((DATE($C$1,5,1)-WEEKDAY(DATE($C$1,5,1))+1))=5,DAY((DATE($C$1,5,1)-WEEKDAY(DATE($C$1,5,1))+1)),"") | B15: =IF(MONTH((DATE($C$1,5,1)-WEEKDAY(DATE($C$1,5,1))+2))=5,DAY((DATE($C$1,5,1)-WEEKDAY(DATE($C$1,5,1))+2)),"") | C15: =IF(MONTH((DATE($C$1,5,1)-WEEKDAY(DATE($C$1,5,1))+3))=5,DAY((DATE($C$1,5,1)-WEEKDAY(DATE($C$1,5,1))+3)),"") | D15: =IF(MONTH((DATE($C$1,5,1)-WEEKDAY(DATE($C$1,5,1))+4))=5,DAY((DATE($C$1,5,1)-WEEKDAY(DATE($C$1,5,1))+4)),"") | E15: =IF(MONTH((DATE($C$1,5,1)-WEEKDAY(DATE($C$1,5,1))+5))=5,DAY((DATE($C$1,5,1)-WEEKDAY(DATE($C$1,5,1))+5)),"") | F15: =IF(MONTH((DATE($C$1,5,1)-WEEKDAY(DATE($C$1,5,1))+6))=5,DAY((DATE($C$1,5,1)-WEEKDAY(DATE($C$1,5,1))+6)),"") | G15: =IF(MONTH((DATE($C$1,5,1)-WEEKDAY(DATE($C$1,5,1))+7))=5,DAY((DATE($C$1,5,1)-WEEKDAY(DATE($C$1,5,1))+7)),"") -> 1 | I15: =IF(MONTH((DATE($C$1,6,1)-WEEKDAY(DATE($C$1,6,1))+1))=6,DAY((DATE($C$1,6,1)-WEEKDAY(DATE($C$1,6,1))+1)),"") | J15: =IF(MONTH((DATE($C$1,6,1)-WEEKDAY(DATE($C$1,6,1))+2))=6,DAY((DATE($C$1,6,1)-WEEKDAY(DATE($C$1,6,1))+2)),"") | K15: =IF(MONTH((DATE($C$1,6,1)-WEEKDAY(DATE($C$1,6,1))+3))=6,DAY((DATE($C$1,6,1)-WEEKDAY(DATE($C$1,6,1))+3)),"") -> 1 | L15: =IF(MONTH((DATE($C$1,6,1)-WEEKDAY(DATE($C$1,6,1))+4))=6,DAY((DATE($C$1,6,1)-WEEKDAY(DATE($C$1,6,1))+4)),"") -> 2 | M15: =IF(MONTH((DATE($C$1,6,1)-WEEKDAY(DATE($C$1,6,1))+5))=6,DAY((DATE($C$1,6,1)-WEEKDAY(DATE($C$1,6,1))+5)),"") -> 3 | N15: =IF(MONTH((DATE($C$1,6,1)-WEEKDAY(DATE($C$1,6,1))+6))=6,DAY((DATE($C$1,6,1)-WEEKDAY(DATE($C$1,6,1))+6)),"") -> 4 | O15: =IF(MONTH((DATE($C$1,6,1)-WEEKDAY(DATE($C$1,6,1))+7))=6,DAY((DATE($C$1,6,1)-WEEKDAY(DATE($C$1,6,1))+7)),"") -> 5 | Q15: =IF(MONTH((DATE($C$1,7,1)-WEEKDAY(DATE($C$1,7,1))+1))=7,DAY((DATE($C$1,7,1)-WEEKDAY(DATE($C$1,7,1))+1)),"") | R15: =IF(MONTH((DATE($C$1,7,1)-WEEKDAY(DATE($C$1,7,1))+2))=7,DAY((DATE($C$1,7,1)-WEEKDAY(DATE($C$1,7,1))+2)),"") | S15: =IF(MONTH((DATE($C$1,7,1)-WEEKDAY(DATE($C$1,7,1))+3))=7,DAY((DATE($C$1,7,1)-WEEKDAY(DATE($C$1,7,1))+3)),"") | T15: =IF(MONTH((DATE($C$1,7,1)-WEEKDAY(DATE($C$1,7,1))+4))=7,DAY((DATE($C$1,7,1)-WEEKDAY(DATE($C$1,7,1))+4)),"") | U15: =IF(MONTH((DATE($C$1,7,1)-WEEKDAY(DATE($C$1,7,1))+5))=7,DAY((DATE($C$1,7,1)-WEEKDAY(DATE($C$1,7,1))+5)),"") -> 1 | V15: =IF(MONTH((DATE($C$1,7,1)-WEEKDAY(DATE($C$1,7,1))+6))=7,DAY((DATE($C$1,7,1)-WEEKDAY(DATE($C$1,7,1))+6)),"") -> 2 | W15: =IF(MONTH((DATE($C$1,7,1)-WEEKDAY(DATE($C$1,7,1))+7))=7,DAY((DATE($C$1,7,1)-WEEKDAY(DATE($C$1,7,1))+7)),"") -> 3 | Y15: =IF(MONTH((DATE($C$1,8,1)-WEEKDAY(DATE($C$1,8,1))+1))=8,DAY((DATE($C$1,8,1)-WEEKDAY(DATE($C$1,8,1))+1)),"") -> 1 | Z15: =IF(MONTH((DATE($C$1,8,1)-WEEKDAY(DATE($C$1,8,1))+2))=8,DAY((DATE($C$1,8,1)-WEEKDAY(DATE($C$1,8,1))+2)),"") -> 2 | AA15: =IF(MONTH((DATE($C$1,8,1)-WEEKDAY(DATE($C$1,8,1))+3))=8,DAY((DATE($C$1,8,1)-WEEKDAY(DATE($C$1,8,1))+3)),"") -> 3 | AB15: =IF(MONTH((DATE($C$1,8,1)-WEEKDAY(DATE($C$1,8,1))+4))=8,DAY((DATE($C$1,8,1)-WEEKDAY(DATE($C$1,8,1))+4)),"") -> 4 | AC15: =IF(MONTH((DATE($C$1,8,1)-WEEKDAY(DATE($C$1,8,1))+5))=8,DAY((DATE($C$1,8,1)-WEEKDAY(DATE($C$1,8,1))+5)),"") -> 5 | AD15: =IF(MONTH((DATE($C$1,8,1)-WEEKDAY(DATE($C$1,8,1))+6))=8,DAY((DATE($C$1,8,1)-WEEKDAY(DATE($C$1,8,1))+6)),"") -> 6 | AE15: =IF(MONTH((DATE($C$1,8,1)-WEEKDAY(DATE($C$1,8,1))+7))=8,DAY((DATE($C$1,8,1)-WEEKDAY(DATE($C$1,8,1))+7)),"") -> 7
A16: =IF(MONTH((DATE($C$1,5,1)-WEEKDAY(DATE($C$1,5,1))+8))=5,DAY((DATE($C$1,5,1)-WEEKDAY(DATE($C$1,5,1))+8)),"") -> 2 | B16: =IF(MONTH((DATE($C$1,5,1)-WEEKDAY(DATE($C$1,5,1))+9))=5,DAY((DATE($C$1,5,1)-WEEKDAY(DATE($C$1,5,1))+9)),"") -> 3 | C16: =IF(MONTH((DATE($C$1,5,1)-WEEKDAY(DATE($C$1,5,1))+10))=5,DAY((DATE($C$1,5,1)-WEEKDAY(DATE($C$1,5,1))+10)),"") -> 4 | D16: =IF(MONTH((DATE($C$1,5,1)-WEEKDAY(DATE($C$1,5,1))+11))=5,DAY((DATE($C$1,5,1)-WEEKDAY(DATE($C$1,5,1))+11)),"") -> 5 | E16: =IF(MONTH((DATE($C$1,5,1)-WEEKDAY(DATE($C$1,5,1))+12))=5,DAY((DATE($C$1,5,1)-WEEKDAY(DATE($C$1,5,1))+12)),"") -> 6 | F16: =IF(MONTH((DATE($C$1,5,1)-WEEKDAY(DATE($C$1,5,1))+13))=5,DAY((DATE($C$1,5,1)-WEEKDAY(DATE($C$1,5,1))+13)),"") -> 7 | G16: =IF(MONTH((DATE($C$1,5,1)-WEEKDAY(DATE($C$1,5,1))+14))=5,DAY((DATE($C$1,5,1)-WEEKDAY(DATE($C$1,5,1))+14)),"") -> 8 | I16: =IF(MONTH((DATE($C$1,6,1)-WEEKDAY(DATE($C$1,6,1))+8))=6,DAY((DATE($C$1,6,1)-WEEKDAY(DATE($C$1,6,1))+8)),"") -> 6 | J16: =IF(MONTH((DATE($C$1,6,1)-WEEKDAY(DATE($C$1,6,1))+9))=6,DAY((DATE($C$1,6,1)-WEEKDAY(DATE($C$1,6,1))+9)),"") -> 7 | K16: =IF(MONTH((DATE($C$1,6,1)-WEEKDAY(DATE($C$1,6,1))+10))=6,DAY((DATE($C$1,6,1)-WEEKDAY(DATE($C$1,6,1))+10)),"") -> 8 | L16: =IF(MONTH((DATE($C$1,6,1)-WEEKDAY(DATE($C$1,6,1))+11))=6,DAY((DATE($C$1,6,1)-WEEKDAY(DATE($C$1,6,1))+11)),"") -> 9 | M16: =IF(MONTH((DATE($C$1,6,1)-WEEKDAY(DATE($C$1,6,1))+12))=6,DAY((DATE($C$1,6,1)-WEEKDAY(DATE($C$1,6,1))+12)),"") -> 10 | N16: =IF(MONTH((DATE($C$1,6,1)-WEEKDAY(DATE($C$1,6,1))+13))=6,DAY((DATE($C$1,6,1)-WEEKDAY(DATE($C$1,6,1))+13)),"") -> 11 | O16: =IF(MONTH((DATE($C$1,6,1)-WEEKDAY(DATE($C$1,6,1))+14))=6,DAY((DATE($C$1,6,1)-WEEKDAY(DATE($C$1,6,1))+14)),"") -> 12 | Q16: =IF(MONTH((DATE($C$1,7,1)-WEEKDAY(DATE($C$1,7,1))+8))=7,DAY((DATE($C$1,7,1)-WEEKDAY(DATE($C$1,7,1))+8)),"") -> 4 | R16: =IF(MONTH((DATE($C$1,7,1)-WEEKDAY(DATE($C$1,7,1))+9))=7,DAY((DATE($C$1,7,1)-WEEKDAY(DATE($C$1,7,1))+9)),"") -> 5 | S16: =IF(MONTH((DATE($C$1,7,1)-WEEKDAY(DATE($C$1,7,1))+10))=7,DAY((DATE($C$1,7,1)-WEEKDAY(DATE($C$1,7,1))+10)),"") -> 6 | T16: =IF(MONTH((DATE($C$1,7,1)-WEEKDAY(DATE($C$1,7,1))+11))=7,DAY((DATE($C$1,7,1)-WEEKDAY(DATE($C$1,7,1))+11)),"") -> 7 | U16: =IF(MONTH((DATE($C$1,7,1)-WEEKDAY(DATE($C$1,7,1))+12))=7,DAY((DATE($C$1,7,1)-WEEKDAY(DATE($C$1,7,1))+12)),"") -> 8 | V16: =IF(MONTH((DATE($C$1,7,1)-WEEKDAY(DATE($C$1,7,1))+13))=7,DAY((DATE($C$1,7,1)-WEEKDAY(DATE($C$1,7,1))+13)),"") -> 9 | W16: =IF(MONTH((DATE($C$1,7,1)-WEEKDAY(DATE($C$1,7,1))+14))=7,DAY((DATE($C$1,7,1)-WEEKDAY(DATE($C$1,7,1))+14)),"") -> 10 | Y16: =IF(MONTH((DATE($C$1,8,1)-WEEKDAY(DATE($C$1,8,1))+8))=8,DAY((DATE($C$1,8,1)-WEEKDAY(DATE($C$1,8,1))+8)),"") -> 8 | Z16: =IF(MONTH((DATE($C$1,8,1)-WEEKDAY(DATE($C$1,8,1))+9))=8,DAY((DATE($C$1,8,1)-WEEKDAY(DATE($C$1,8,1))+9)),"") -> 9 | AA16: =IF(MONTH((DATE($C$1,8,1)-WEEKDAY(DATE($C$1,8,1))+10))=8,DAY((DATE($C$1,8,1)-WEEKDAY(DATE($C$1,8,1))+10)),"") -> 10 | AB16: =IF(MONTH((DATE($C$1,8,1)-WEEKDAY(DATE($C$1,8,1))+11))=8,DAY((DATE($C$1,8,1)-WEEKDAY(DATE($C$1,8,1))+11)),"") -> 11 | AC16: =IF(MONTH((DATE($C$1,8,1)-WEEKDAY(DATE($C$1,8,1))+12))=8,DAY((DATE($C$1,8,1)-WEEKDAY(DATE($C$1,8,1))+12)),"") -> 12 | AD16: =IF(MONTH((DATE($C$1,8,1)-WEEKDAY(DATE($C$1,8,1))+13))=8,DAY((DATE($C$1,8,1)-WEEKDAY(DATE($C$1,8,1))+13)),"") -> 13 | AE16: =IF(MONTH((DATE($C$1,8,1)-WEEKDAY(DATE($C$1,8,1))+14))=8,DAY((DATE($C$1,8,1)-WEEKDAY(DATE($C$1,8,1))+14)),"") -> 14
A17: =IF(MONTH((DATE($C$1,5,1)-WEEKDAY(DATE($C$1,5,1))+15))=5,DAY((DATE($C$1,5,1)-WEEKDAY(DATE($C$1,5,1))+15)),"") -> 9 | B17: =IF(MONTH((DATE($C$1,5,1)-WEEKDAY(DATE($C$1,5,1))+16))=5,DAY((DATE($C$1,5,1)-WEEKDAY(DATE($C$1,5,1))+16)),"") -> 10 | C17: =IF(MONTH((DATE($C$1,5,1)-WEEKDAY(DATE($C$1,5,1))+17))=5,DAY((DATE($C$1,5,1)-WEEKDAY(DATE($C$1,5,1))+17)),"") -> 11 | D17: =IF(MONTH((DATE($C$1,5,1)-WEEKDAY(DATE($C$1,5,1))+18))=5,DAY((DATE($C$1,5,1)-WEEKDAY(DATE($C$1,5,1))+18)),"") -> 12 | E17: =IF(MONTH((DATE($C$1,5,1)-WEEKDAY(DATE($C$1,5,1))+19))=5,DAY((DATE($C$1,5,1)-WEEKDAY(DATE($C$1,5,1))+19)),"") -> 13 | F17: =IF(MONTH((DATE($C$1,5,1)-WEEKDAY(DATE($C$1,5,1))+20))=5,DAY((DATE($C$1,5,1)-WEEKDAY(DATE($C$1,5,1))+20)),"") -> 14 | G17: =IF(MONTH((DATE($C$1,5,1)-WEEKDAY(DATE($C$1,5,1))+21))=5,DAY((DATE($C$1,5,1)-WEEKDAY(DATE($C$1,5,1))+21)),"") -> 15 | I17: =IF(MONTH((DATE($C$1,6,1)-WEEKDAY(DATE($C$1,6,1))+15))=6,DAY((DATE($C$1,6,1)-WEEKDAY(DATE($C$1,6,1))+15)),"") -> 13 | J17: =IF(MONTH((DATE($C$1,6,1)-WEEKDAY(DATE($C$1,6,1))+16))=6,DAY((DATE($C$1,6,1)-WEEKDAY(DATE($C$1,6,1))+16)),"") -> 14 | K17: =IF(MONTH((DATE($C$1,6,1)-WEEKDAY(DATE($C$1,6,1))+17))=6,DAY((DATE($C$1,6,1)-WEEKDAY(DATE($C$1,6,1))+17)),"") -> 15 | L17: =IF(MONTH((DATE($C$1,6,1)-WEEKDAY(DATE($C$1,6,1))+18))=6,DAY((DATE($C$1,6,1)-WEEKDAY(DATE($C$1,6,1))+18)),"") -> 16 | M17: =IF(MONTH((DATE($C$1,6,1)-WEEKDAY(DATE($C$1,6,1))+19))=6,DAY((DATE($C$1,6,1)-WEEKDAY(DATE($C$1,6,1))+19)),"") -> 17 | N17: =IF(MONTH((DATE($C$1,6,1)-WEEKDAY(DATE($C$1,6,1))+20))=6,DAY((DATE($C$1,6,1)-WEEKDAY(DATE($C$1,6,1))+20)),"") -> 18 | O17: =IF(MONTH((DATE($C$1,6,1)-WEEKDAY(DATE($C$1,6,1))+21))=6,DAY((DATE($C$1,6,1)-WEEKDAY(DATE($C$1,6,1))+21)),"") -> 19 | Q17: =IF(MONTH((DATE($C$1,7,1)-WEEKDAY(DATE($C$1,7,1))+15))=7,DAY((DATE($C$1,7,1)-WEEKDAY(DATE($C$1,7,1))+15)),"") -> 11 | R17: =IF(MONTH((DATE($C$1,7,1)-WEEKDAY(DATE($C$1,7,1))+16))=7,DAY((DATE($C$1,7,1)-WEEKDAY(DATE($C$1,7,1))+16)),"") -> 12 | S17: =IF(MONTH((DATE($C$1,7,1)-WEEKDAY(DATE($C$1,7,1))+17))=7,DAY((DATE($C$1,7,1)-WEEKDAY(DATE($C$1,7,1))+17)),"") -> 13 | T17: =IF(MONTH((DATE($C$1,7,1)-WEEKDAY(DATE($C$1,7,1))+18))=7,DAY((DATE($C$1,7,1)-WEEKDAY(DATE($C$1,7,1))+18)),"") -> 14 | U17: =IF(MONTH((DATE($C$1,7,1)-WEEKDAY(DATE($C$1,7,1))+19))=7,DAY((DATE($C$1,7,1)-WEEKDAY(DATE($C$1,7,1))+19)),"") -> 15 | V17: =IF(MONTH((DATE($C$1,7,1)-WEEKDAY(DATE($C$1,7,1))+20))=7,DAY((DATE($C$1,7,1)-WEEKDAY(DATE($C$1,7,1))+20)),"") -> 16 | W17: =IF(MONTH((DATE($C$1,7,1)-WEEKDAY(DATE($C$1,7,1))+21))=7,DAY((DATE($C$1,7,1)-WEEKDAY(DATE($C$1,7,1))+21)),"") -> 17 | Y17: =IF(MONTH((DATE($C$1,8,1)-WEEKDAY(DATE($C$1,8,1))+15))=8,DAY((DATE($C$1,8,1)-WEEKDAY(DATE($C$1,8,1))+15)),"") -> 15 | Z17: =IF(MONTH((DATE($C$1,8,1)-WEEKDAY(DATE($C$1,8,1))+16))=8,DAY((DATE($C$1,8,1)-WEEKDAY(DATE($C$1,8,1))+16)),"") -> 16 | AA17: =IF(MONTH((DATE($C$1,8,1)-WEEKDAY(DATE($C$1,8,1))+17))=8,DAY((DATE($C$1,8,1)-WEEKDAY(DATE($C$1,8,1))+17)),"") -> 17 | AB17: =IF(MONTH((DATE($C$1,8,1)-WEEKDAY(DATE($C$1,8,1))+18))=8,DAY((DATE($C$1,8,1)-WEEKDAY(DATE($C$1,8,1))+18)),"") -> 18 | AC17: =IF(MONTH((DATE($C$1,8,1)-WEEKDAY(DATE($C$1,8,1))+19))=8,DAY((DATE($C$1,8,1)-WEEKDAY(DATE($C$1,8,1))+19)),"") -> 19 | AD17: =IF(MONTH((DATE($C$1,8,1)-WEEKDAY(DATE($C$1,8,1))+20))=8,DAY((DATE($C$1,8,1)-WEEKDAY(DATE($C$1,8,1))+20)),"") -> 20 | AE17: =IF(MONTH((DATE($C$1,8,1)-WEEKDAY(DATE($C$1,8,1))+21))=8,DAY((DATE($C$1,8,1)-WEEKDAY(DATE($C$1,8,1))+21)),"") -> 21
A18: =IF(MONTH((DATE($C$1,5,1)-WEEKDAY(DATE($C$1,5,1))+22))=5,DAY((DATE($C$1,5,1)-WEEKDAY(DATE($C$1,5,1))+22)),"") -> 16 | B18: =IF(MONTH((DATE($C$1,5,1)-WEEKDAY(DATE($C$1,5,1))+23))=5,DAY((DATE($C$1,5,1)-WEEKDAY(DATE($C$1,5,1))+23)),"") -> 17 | C18: =IF(MONTH((DATE($C$1,5,1)-WEEKDAY(DATE($C$1,5,1))+24))=5,DAY((DATE($C$1,5,1)-WEEKDAY(DATE($C$1,5,1))+24)),"") -> 18 | D18: =IF(MONTH((DATE($C$1,5,1)-WEEKDAY(DATE($C$1,5,1))+25))=5,DAY((DATE($C$1,5,1)-WEEKDAY(DATE($C$1,5,1))+25)),"") -> 19 | E18: =IF(MONTH((DATE($C$1,5,1)-WEEKDAY(DATE($C$1,5,1))+26))=5,DAY((DATE($C$1,5,1)-WEEKDAY(DATE($C$1,5,1))+26)),"") -> 20 | F18: =IF(MONTH((DATE($C$1,5,1)-WEEKDAY(DATE($C$1,5,1))+27))=5,DAY((DATE($C$1,5,1)-WEEKDAY(DATE($C$1,5,1))+27)),"") -> 21 | G18: =IF(MONTH((DATE($C$1,5,1)-WEEKDAY(DATE($C$1,5,1))+28))=5,DAY((DATE($C$1,5,1)-WEEKDAY(DATE($C$1,5,1))+28)),"") -> 22 | I18: =IF(MONTH((DATE($C$1,6,1)-WEEKDAY(DATE($C$1,6,1))+22))=6,DAY((DATE($C$1,6,1)-WEEKDAY(DATE($C$1,6,1))+22)),"") -> 20 | J18: =IF(MONTH((DATE($C$1,6,1)-WEEKDAY(DATE($C$1,6,1))+23))=6,DAY((DATE($C$1,6,1)-WEEKDAY(DATE($C$1,6,1))+23)),"") -> 21 | K18: =IF(MONTH((DATE($C$1,6,1)-WEEKDAY(DATE($C$1,6,1))+24))=6,DAY((DATE($C$1,6,1)-WEEKDAY(DATE($C$1,6,1))+24)),"") -> 22 | L18: =IF(MONTH((DATE($C$1,6,1)-WEEKDAY(DATE($C$1,6,1))+25))=6,DAY((DATE($C$1,6,1)-WEEKDAY(DATE($C$1,6,1))+25)),"") -> 23 | M18: =IF(MONTH((DATE($C$1,6,1)-WEEKDAY(DATE($C$1,6,1))+26))=6,DAY((DATE($C$1,6,1)-WEEKDAY(DATE($C$1,6,1))+26)),"") -> 24 | N18: =IF(MONTH((DATE($C$1,6,1)-WEEKDAY(DATE($C$1,6,1))+27))=6,DAY((DATE($C$1,6,1)-WEEKDAY(DATE($C$1,6,1))+27)),"") -> 25 | O18: =IF(MONTH((DATE($C$1,6,1)-WEEKDAY(DATE($C$1,6,1))+28))=6,DAY((DATE($C$1,6,1)-WEEKDAY(DATE($C$1,6,1))+28)),"") -> 26 | Q18: =IF(MONTH((DATE($C$1,7,1)-WEEKDAY(DATE($C$1,7,1))+22))=7,DAY((DATE($C$1,7,1)-WEEKDAY(DATE($C$1,7,1))+22)),"") -> 18 | R18: =IF(MONTH((DATE($C$1,7,1)-WEEKDAY(DATE($C$1,7,1))+23))=7,DAY((DATE($C$1,7,1)-WEEKDAY(DATE($C$1,7,1))+23)),"") -> 19 | S18: =IF(MONTH((DATE($C$1,7,1)-WEEKDAY(DATE($C$1,7,1))+24))=7,DAY((DATE($C$1,7,1)-WEEKDAY(DATE($C$1,7,1))+24)),"") -> 20 | T18: =IF(MONTH((DATE($C$1,7,1)-WEEKDAY(DATE($C$1,7,1))+25))=7,DAY((DATE($C$1,7,1)-WEEKDAY(DATE($C$1,7,1))+25)),"") -> 21 | U18: =IF(MONTH((DATE($C$1,7,1)-WEEKDAY(DATE($C$1,7,1))+26))=7,DAY((DATE($C$1,7,1)-WEEKDAY(DATE($C$1,7,1))+26)),"") -> 22 | V18: =IF(MONTH((DATE($C$1,7,1)-WEEKDAY(DATE($C$1,7,1))+27))=7,DAY((DATE($C$1,7,1)-WEEKDAY(DATE($C$1,7,1))+27)),"") -> 23 | W18: =IF(MONTH((DATE($C$1,7,1)-WEEKDAY(DATE($C$1,7,1))+28))=7,DAY((DATE($C$1,7,1)-WEEKDAY(DATE($C$1,7,1))+28)),"") -> 24 | Y18: =IF(MONTH((DATE($C$1,8,1)-WEEKDAY(DATE($C$1,8,1))+22))=8,DAY((DATE($C$1,8,1)-WEEKDAY(DATE($C$1,8,1))+22)),"") -> 22 | Z18: =IF(MONTH((DATE($C$1,8,1)-WEEKDAY(DATE($C$1,8,1))+23))=8,DAY((DATE($C$1,8,1)-WEEKDAY(DATE($C$1,8,1))+23)),"") -> 23 | AA18: =IF(MONTH((DATE($C$1,8,1)-WEEKDAY(DATE($C$1,8,1))+24))=8,DAY((DATE($C$1,8,1)-WEEKDAY(DATE($C$1,8,1))+24)),"") -> 24 | AB18: =IF(MONTH((DATE($C$1,8,1)-WEEKDAY(DATE($C$1,8,1))+25))=8,DAY((DATE($C$1,8,1)-WEEKDAY(DATE($C$1,8,1))+25)),"") -> 25 | AC18: =IF(MONTH((DATE($C$1,8,1)-WEEKDAY(DATE($C$1,8,1))+26))=8,DAY((DATE($C$1,8,1)-WEEKDAY(DATE($C$1,8,1))+26)),"") -> 26 | AD18: =IF(MONTH((DATE($C$1,8,1)-WEEKDAY(DATE($C$1,8,1))+27))=8,DAY((DATE($C$1,8,1)-WEEKDAY(DATE($C$1,8,1))+27)),"") -> 27 | AE18: =IF(MONTH((DATE($C$1,8,1)-WEEKDAY(DATE($C$1,8,1))+28))=8,DAY((DATE($C$1,8,1)-WEEKDAY(DATE($C$1,8,1))+28)),"") -> 28
A19: =IF(MONTH((DATE($C$1,5,1)-WEEKDAY(DATE($C$1,5,1))+29))=5,DAY((DATE($C$1,5,1)-WEEKDAY(DATE($C$1,5,1))+29)),"") -> 23 | B19: =IF(MONTH((DATE($C$1,5,1)-WEEKDAY(DATE($C$1,5,1))+30))=5,DAY((DATE($C$1,5,1)-WEEKDAY(DATE($C$1,5,1))+30)),"") -> 24 | C19: =IF(MONTH((DATE($C$1,5,1)-WEEKDAY(DATE($C$1,5,1))+31))=5,DAY((DATE($C$1,5,1)-WEEKDAY(DATE($C$1,5,1))+31)),"") -> 25 | D19: =IF(MONTH((DATE($C$1,5,1)-WEEKDAY(DATE($C$1,5,1))+32))=5,DAY((DATE($C$1,5,1)-WEEKDAY(DATE($C$1,5,1))+32)),"") -> 26 | E19: =IF(MONTH((DATE($C$1,5,1)-WEEKDAY(DATE($C$1,5,1))+33))=5,DAY((DATE($C$1,5,1)-WEEKDAY(DATE($C$1,5,1))+33)),"") -> 27 | F19: =IF(MONTH((DATE($C$1,5,1)-WEEKDAY(DATE($C$1,5,1))+34))=5,DAY((DATE($C$1,5,1)-WEEKDAY(DATE($C$1,5,1))+34)),"") -> 28 | G19: =IF(MONTH((DATE($C$1,5,1)-WEEKDAY(DATE($C$1,5,1))+35))=5,DAY((DATE($C$1,5,1)-WEEKDAY(DATE($C$1,5,1))+35)),"") -> 29 | I19: =IF(MONTH((DATE($C$1,6,1)-WEEKDAY(DATE($C$1,6,1))+29))=6,DAY((DATE($C$1,6,1)-WEEKDAY(DATE($C$1,6,1))+29)),"") -> 27 | J19: =IF(MONTH((DATE($C$1,6,1)-WEEKDAY(DATE($C$1,6,1))+30))=6,DAY((DATE($C$1,6,1)-WEEKDAY(DATE($C$1,6,1))+30)),"") -> 28 | K19: =IF(MONTH((DATE($C$1,6,1)-WEEKDAY(DATE($C$1,6,1))+31))=6,DAY((DATE($C$1,6,1)-WEEKDAY(DATE($C$1,6,1))+31)),"") -> 29 | L19: =IF(MONTH((DATE($C$1,6,1)-WEEKDAY(DATE($C$1,6,1))+32))=6,DAY((DATE($C$1,6,1)-WEEKDAY(DATE($C$1,6,1))+32)),"") -> 30 | M19: =IF(MONTH((DATE($C$1,6,1)-WEEKDAY(DATE($C$1,6,1))+33))=6,DAY((DATE($C$1,6,1)-WEEKDAY(DATE($C$1,6,1))+33)),"") | N19: =IF(MONTH((DATE($C$1,6,1)-WEEKDAY(DATE($C$1,6,1))+34))=6,DAY((DATE($C$1,6,1)-WEEKDAY(DATE($C$1,6,1))+34)),"") | O19: =IF(MONTH((DATE($C$1,6,1)-WEEKDAY(DATE($C$1,6,1))+35))=6,DAY((DATE($C$1,6,1)-WEEKDAY(DATE($C$1,6,1))+35)),"") | Q19: =IF(MONTH((DATE($C$1,7,1)-WEEKDAY(DATE($C$1,7,1))+29))=7,DAY((DATE($C$1,7,1)-WEEKDAY(DATE($C$1,7,1))+29)),"") -> 25 | R19: =IF(MONTH((DATE($C$1,7,1)-WEEKDAY(DATE($C$1,7,1))+30))=7,DAY((DATE($C$1,7,1)-WEEKDAY(DATE($C$1,7,1))+30)),"") -> 26 | S19: =IF(MONTH((DATE($C$1,7,1)-WEEKDAY(DATE($C$1,7,1))+31))=7,DAY((DATE($C$1,7,1)-WEEKDAY(DATE($C$1,7,1))+31)),"") -> 27 | T19: =IF(MONTH((DATE($C$1,7,1)-WEEKDAY(DATE($C$1,7,1))+32))=7,DAY((DATE($C$1,7,1)-WEEKDAY(DATE($C$1,7,1))+32)),"") -> 28 | U19: =IF(MONTH((DATE($C$1,7,1)-WEEKDAY(DATE($C$1,7,1))+33))=7,DAY((DATE($C$1,7,1)-WEEKDAY(DATE($C$1,7,1))+33)),"") -> 29 | V19: =IF(MONTH((DATE($C$1,7,1)-WEEKDAY(DATE($C$1,7,1))+34))=7,DAY((DATE($C$1,7,1)-WEEKDAY(DATE($C$1,7,1))+34)),"") -> 30 | W19: =IF(MONTH((DATE($C$1,7,1)-WEEKDAY(DATE($C$1,7,1))+35))=7,DAY((DATE($C$1,7,1)-WEEKDAY(DATE($C$1,7,1))+35)),"") -> 31 | Y19: =IF(MONTH((DATE($C$1,8,1)-WEEKDAY(DATE($C$1,8,1))+29))=8,DAY((DATE($C$1,8,1)-WEEKDAY(DATE($C$1,8,1))+29)),"") -> 29 | Z19: =IF(MONTH((DATE($C$1,8,1)-WEEKDAY(DATE($C$1,8,1))+30))=8,DAY((DATE($C$1,8,1)-WEEKDAY(DATE($C$1,8,1))+30)),"") -> 30 | AA19: =IF(MONTH((DATE($C$1,8,1)-WEEKDAY(DATE($C$1,8,1))+31))=8,DAY((DATE($C$1,8,1)-WEEKDAY(DATE($C$1,8,1))+31)),"") -> 31 | AB19: =IF(MONTH((DATE($C$1,8,1)-WEEKDAY(DATE($C$1,8,1))+32))=8,DAY((DATE($C$1,8,1)-WEEKDAY(DATE($C$1,8,1))+32)),"") | AC19: =IF(MONTH((DATE($C$1,8,1)-WEEKDAY(DATE($C$1,8,1))+33))=8,DAY((DATE($C$1,8,1)-WEEKDAY(DATE($C$1,8,1))+33)),"") | AD19: =IF(MONTH((DATE($C$1,8,1)-WEEKDAY(DATE($C$1,8,1))+34))=8,DAY((DATE($C$1,8,1)-WEEKDAY(DATE($C$1,8,1))+34)),"") | AE19: =IF(MONTH((DATE($C$1,8,1)-WEEKDAY(DATE($C$1,8,1))+35))=8,DAY((DATE($C$1,8,1)-WEEKDAY(DATE($C$1,8,1))+35)),"")
A20: =IF(MONTH((DATE($C$1,5,1)-WEEKDAY(DATE($C$1,5,1))+36))=5,DAY((DATE($C$1,5,1)-WEEKDAY(DATE($C$1,5,1))+36)),"") -> 30 | B20: =IF(MONTH((DATE($C$1,5,1)-WEEKDAY(DATE($C$1,5,1))+37))=5,DAY((DATE($C$1,5,1)-WEEKDAY(DATE($C$1,5,1))+37)),"") -> 31 | C20: =IF(MONTH((DATE($C$1,5,1)-WEEKDAY(DATE($C$1,5,1))+38))=5,DAY((DATE($C$1,5,1)-WEEKDAY(DATE($C$1,5,1))+38)),"") | D20: =IF(MONTH((DATE($C$1,5,1)-WEEKDAY(DATE($C$1,5,1))+39))=5,DAY((DATE($C$1,5,1)-WEEKDAY(DATE($C$1,5,1))+39)),"") | E20: =IF(MONTH((DATE($C$1,5,1)-WEEKDAY(DATE($C$1,5,1))+40))=5,DAY((DATE($C$1,5,1)-WEEKDAY(DATE($C$1,5,1))+40)),"") | F20: =IF(MONTH((DATE($C$1,5,1)-WEEKDAY(DATE($C$1,5,1))+41))=5,DAY((DATE($C$1,5,1)-WEEKDAY(DATE($C$1,5,1))+41)),"") | G20: =IF(MONTH((DATE($C$1,5,1)-WEEKDAY(DATE($C$1,5,1))+42))=5,DAY((DATE($C$1,5,1)-WEEKDAY(DATE($C$1,5,1))+42)),"") | I20: =IF(MONTH((DATE($C$1,6,1)-WEEKDAY(DATE($C$1,6,1))+36))=6,DAY((DATE($C$1,6,1)-WEEKDAY(DATE($C$1,6,1))+36)),"") | J20: =IF(MONTH((DATE($C$1,6,1)-WEEKDAY(DATE($C$1,6,1))+37))=6,DAY((DATE($C$1,6,1)-WEEKDAY(DATE($C$1,6,1))+37)),"") | K20: =IF(MONTH((DATE($C$1,6,1)-WEEKDAY(DATE($C$1,6,1))+38))=6,DAY((DATE($C$1,6,1)-WEEKDAY(DATE($C$1,6,1))+38)),"") | L20: =IF(MONTH((DATE($C$1,6,1)-WEEKDAY(DATE($C$1,6,1))+39))=6,DAY((DATE($C$1,6,1)-WEEKDAY(DATE($C$1,6,1))+39)),"") | M20: =IF(MONTH((DATE($C$1,6,1)-WEEKDAY(DATE($C$1,6,1))+40))=6,DAY((DATE($C$1,6,1)-WEEKDAY(DATE($C$1,6,1))+40)),"") | N20: =IF(MONTH((DATE($C$1,6,1)-WEEKDAY(DATE($C$1,6,1))+41))=6,DAY((DATE($C$1,6,1)-WEEKDAY(DATE($C$1,6,1))+41)),"") | O20: =IF(MONTH((DATE($C$1,6,1)-WEEKDAY(DATE($C$1,6,1))+42))=6,DAY((DATE($C$1,6,1)-WEEKDAY(DATE($C$1,6,1))+42)),"") | Q20: =IF(MONTH((DATE($C$1,7,1)-WEEKDAY(DATE($C$1,7,1))+36))=7,DAY((DATE($C$1,7,1)-WEEKDAY(DATE($C$1,7,1))+36)),"") | R20: =IF(MONTH((DATE($C$1,7,1)-WEEKDAY(DATE($C$1,7,1))+37))=7,DAY((DATE($C$1,7,1)-WEEKDAY(DATE($C$1,7,1))+37)),"") | S20: =IF(MONTH((DATE($C$1,7,1)-WEEKDAY(DATE($C$1,7,1))+38))=7,DAY((DATE($C$1,7,1)-WEEKDAY(DATE($C$1,7,1))+38)),"") | T20: =IF(MONTH((DATE($C$1,7,1)-WEEKDAY(DATE($C$1,7,1))+39))=7,DAY((DATE($C$1,7,1)-WEEKDAY(DATE($C$1,7,1))+39)),"") | U20: =IF(MONTH((DATE($C$1,7,1)-WEEKDAY(DATE($C$1,7,1))+40))=7,DAY((DATE($C$1,7,1)-WEEKDAY(DATE($C$1,7,1))+40)),"") | V20: =IF(MONTH((DATE($C$1,7,1)-WEEKDAY(DATE($C$1,7,1))+41))=7,DAY((DATE($C$1,7,1)-WEEKDAY(DATE($C$1,7,1))+41)),"") | W20: =IF(MONTH((DATE($C$1,7,1)-WEEKDAY(DATE($C$1,7,1))+42))=7,DAY((DATE($C$1,7,1)-WEEKDAY(DATE($C$1,7,1))+42)),"") | Y20: =IF(MONTH((DATE($C$1,8,1)-WEEKDAY(DATE($C$1,8,1))+36))=8,DAY((DATE($C$1,8,1)-WEEKDAY(DATE($C$1,8,1))+36)),"") | Z20: =IF(MONTH((DATE($C$1,8,1)-WEEKDAY(DATE($C$1,8,1))+37))=8,DAY((DATE($C$1,8,1)-WEEKDAY(DATE($C$1,8,1))+37)),"") | AA20: =IF(MONTH((DATE($C$1,8,1)-WEEKDAY(DATE($C$1,8,1))+38))=8,DAY((DATE($C$1,8,1)-WEEKDAY(DATE($C$1,8,1))+38)),"") | AB20: =IF(MONTH((DATE($C$1,8,1)-WEEKDAY(DATE($C$1,8,1))+39))=8,DAY((DATE($C$1,8,1)-WEEKDAY(DATE($C$1,8,1))+39)),"") | AC20: =IF(MONTH((DATE($C$1,8,1)-WEEKDAY(DATE($C$1,8,1))+40))=8,DAY((DATE($C$1,8,1)-WEEKDAY(DATE($C$1,8,1))+40)),"") | AD20: =IF(MONTH((DATE($C$1,8,1)-WEEKDAY(DATE($C$1,8,1))+41))=8,DAY((DATE($C$1,8,1)-WEEKDAY(DATE($C$1,8,1))+41)),"") | AE20: =IF(MONTH((DATE($C$1,8,1)-WEEKDAY(DATE($C$1,8,1))+42))=8,DAY((DATE($C$1,8,1)-WEEKDAY(DATE($C$1,8,1))+42)),"")
A23: 9月 | I23: 10月 | Q23: 11月 | Y23: 12月
A24: 日 | B24: 月 | C24: 火 | D24: 水 | E24: 木 | F24: 金 | G24: 土 | I24: 日 | J24: 月 | K24: 火 | L24: 水 | M24: 木 | N24: 金 | O24: 土 | Q24: 日 | R24: 月 | S24: 火 | T24: 水 | U24: 木 | V24: 金 | W24: 土 | Y24: 日 | Z24: 月 | AA24: 火 | AB24: 水 | AC24: 木 | AD24: 金 | AE24: 土
A25: =IF(MONTH((DATE($C$1,9,1)-WEEKDAY(DATE($C$1,9,1))+1))=9,DAY((DATE($C$1,9,1)-WEEKDAY(DATE($C$1,9,1))+1)),"") | B25: =IF(MONTH((DATE($C$1,9,1)-WEEKDAY(DATE($C$1,9,1))+2))=9,DAY((DATE($C$1,9,1)-WEEKDAY(DATE($C$1,9,1))+2)),"") | C25: =IF(MONTH((DATE($C$1,9,1)-WEEKDAY(DATE($C$1,9,1))+3))=9,DAY((DATE($C$1,9,1)-WEEKDAY(DATE($C$1,9,1))+3)),"") | D25: =IF(MONTH((DATE($C$1,9,1)-WEEKDAY(DATE($C$1,9,1))+4))=9,DAY((DATE($C$1,9,1)-WEEKDAY(DATE($C$1,9,1))+4)),"") -> 1 | E25: =IF(MONTH((DATE($C$1,9,1)-WEEKDAY(DATE($C$1,9,1))+5))=9,DAY((DATE($C$1,9,1)-WEEKDAY(DATE($C$1,9,1))+5)),"") -> 2 | F25: =IF(MONTH((DATE($C$1,9,1)-WEEKDAY(DATE($C$1,9,1))+6))=9,DAY((DATE($C$1,9,1)-WEEKDAY(DATE($C$1,9,1))+6)),"") -> 3 | G25: =IF(MONTH((DATE($C$1,9,1)-WEEKDAY(DATE($C$1,9,1))+7))=9,DAY((DATE($C$1,9,1)-WEEKDAY(DATE($C$1,9,1))+7)),"") -> 4 | I25: =IF(MONTH((DATE($C$1,10,1)-WEEKDAY(DATE($C$1,10,1))+1))=10,DAY((DATE($C$1,10,1)-WEEKDAY(DATE($C$1,10,1))+1)),"") | J25: =IF(MONTH((DATE($C$1,10,1)-WEEKDAY(DATE($C$1,10,1))+2))=10,DAY((DATE($C$1,10,1)-WEEKDAY(DATE($C$1,10,1))+2)),"") | K25: =IF(MONTH((DATE($C$1,10,1)-WEEKDAY(DATE($C$1,10,1))+3))=10,DAY((DATE($C$1,10,1)-WEEKDAY(DATE($C$1,10,1))+3)),"") | L25: =IF(MONTH((DATE($C$1,10,1)-WEEKDAY(DATE($C$1,10,1))+4))=10,DAY((DATE($C$1,10,1)-WEEKDAY(DATE($C$1,10,1))+4)),"") | M25: =IF(MONTH((DATE($C$1,10,1)-WEEKDAY(DATE($C$1,10,1))+5))=10,DAY((DATE($C$1,10,1)-WEEKDAY(DATE($C$1,10,1))+5)),"") | N25: =IF(MONTH((DATE($C$1,10,1)-WEEKDAY(DATE($C$1,10,1))+6))=10,DAY((DATE($C$1,10,1)-WEEKDAY(DATE($C$1,10,1))+6)),"") -> 1 | O25: =IF(MONTH((DATE($C$1,10,1)-WEEKDAY(DATE($C$1,10,1))+7))=10,DAY((DATE($C$1,10,1)-WEEKDAY(DATE($C$1,10,1))+7)),"") -> 2 | Q25: =IF(MONTH((DATE($C$1,11,1)-WEEKDAY(DATE($C$1,11,1))+1))=11,DAY((DATE($C$1,11,1)-WEEKDAY(DATE($C$1,11,1))+1)),"") | R25: =IF(MONTH((DATE($C$1,11,1)-WEEKDAY(DATE($C$1,11,1))+2))=11,DAY((DATE($C$1,11,1)-WEEKDAY(DATE($C$1,11,1))+2)),"") -> 1 | S25: =IF(MONTH((DATE($C$1,11,1)-WEEKDAY(DATE($C$1,11,1))+3))=11,DAY((DATE($C$1,11,1)-WEEKDAY(DATE($C$1,11,1))+3)),"") -> 2 | T25: =IF(MONTH((DATE($C$1,11,1)-WEEKDAY(DATE($C$1,11,1))+4))=11,DAY((DATE($C$1,11,1)-WEEKDAY(DATE($C$1,11,1))+4)),"") -> 3 | U25: =IF(MONTH((DATE($C$1,11,1)-WEEKDAY(DATE($C$1,11,1))+5))=11,DAY((DATE($C$1,11,1)-WEEKDAY(DATE($C$1,11,1))+5)),"") -> 4 | V25: =IF(MONTH((DATE($C$1,11,1)-WEEKDAY(DATE($C$1,11,1))+6))=11,DAY((DATE($C$1,11,1)-WEEKDAY(DATE($C$1,11,1))+6)),"") -> 5 | W25: =IF(MONTH((DATE($C$1,11,1)-WEEKDAY(DATE($C$1,11,1))+7))=11,DAY((DATE($C$1,11,1)-WEEKDAY(DATE($C$1,11,1))+7)),"") -> 6 | Y25: =IF(MONTH((DATE($C$1,12,1)-WEEKDAY(DATE($C$1,12,1))+1))=12,DAY((DATE($C$1,12,1)-WEEKDAY(DATE($C$1,12,1))+1)),"") | Z25: =IF(MONTH((DATE($C$1,12,1)-WEEKDAY(DATE($C$1,12,1))+2))=12,DAY((DATE($C$1,12,1)-WEEKDAY(DATE($C$1,12,1))+2)),"") | AA25: =IF(MONTH((DATE($C$1,12,1)-WEEKDAY(DATE($C$1,12,1))+3))=12,DAY((DATE($C$1,12,1)-WEEKDAY(DATE($C$1,12,1))+3)),"") | AB25: =IF(MONTH((DATE($C$1,12,1)-WEEKDAY(DATE($C$1,12,1))+4))=12,DAY((DATE($C$1,12,1)-WEEKDAY(DATE($C$1,12,1))+4)),"") -> 1 | AC25: =IF(MONTH((DATE($C$1,12,1)-WEEKDAY(DATE($C$1,12,1))+5))=12,DAY((DATE($C$1,12,1)-WEEKDAY(DATE($C$1,12,1))+5)),"") -> 2 | AD25: =IF(MONTH((DATE($C$1,12,1)-WEEKDAY(DATE($C$1,12,1))+6))=12,DAY((DATE($C$1,12,1)-WEEKDAY(DATE($C$1,12,1))+6)),"") -> 3 | AE25: =IF(MONTH((DATE($C$1,12,1)-WEEKDAY(DATE($C$1,12,1))+7))=12,DAY((DATE($C$1,12,1)-WEEKDAY(DATE($C$1,12,1))+7)),"") -> 4
A26: =IF(MONTH((DATE($C$1,9,1)-WEEKDAY(DATE($C$1,9,1))+8))=9,DAY((DATE($C$1,9,1)-WEEKDAY(DATE($C$1,9,1))+8)),"") -> 5 | B26: =IF(MONTH((DATE($C$1,9,1)-WEEKDAY(DATE($C$1,9,1))+9))=9,DAY((DATE($C$1,9,1)-WEEKDAY(DATE($C$1,9,1))+9)),"") -> 6 | C26: =IF(MONTH((DATE($C$1,9,1)-WEEKDAY(DATE($C$1,9,1))+10))=9,DAY((DATE($C$1,9,1)-WEEKDAY(DATE($C$1,9,1))+10)),"") -> 7 | D26: =IF(MONTH((DATE($C$1,9,1)-WEEKDAY(DATE($C$1,9,1))+11))=9,DAY((DATE($C$1,9,1)-WEEKDAY(DATE($C$1,9,1))+11)),"") -> 8 | E26: =IF(MONTH((DATE($C$1,9,1)-WEEKDAY(DATE($C$1,9,1))+12))=9,DAY((DATE($C$1,9,1)-WEEKDAY(DATE($C$1,9,1))+12)),"") -> 9 | F26: =IF(MONTH((DATE($C$1,9,1)-WEEKDAY(DATE($C$1,9,1))+13))=9,DAY((DATE($C$1,9,1)-WEEKDAY(DATE($C$1,9,1))+13)),"") -> 10 | G26: =IF(MONTH((DATE($C$1,9,1)-WEEKDAY(DATE($C$1,9,1))+14))=9,DAY((DATE($C$1,9,1)-WEEKDAY(DATE($C$1,9,1))+14)),"") -> 11 | I26: =IF(MONTH((DATE($C$1,10,1)-WEEKDAY(DATE($C$1,10,1))+8))=10,DAY((DATE($C$1,10,1)-WEEKDAY(DATE($C$1,10,1))+8)),"") -> 3 | J26: =IF(MONTH((DATE($C$1,10,1)-WEEKDAY(DATE($C$1,10,1))+9))=10,DAY((DATE($C$1,10,1)-WEEKDAY(DATE($C$1,10,1))+9)),"") -> 4 | K26: =IF(MONTH((DATE($C$1,10,1)-WEEKDAY(DATE($C$1,10,1))+10))=10,DAY((DATE($C$1,10,1)-WEEKDAY(DATE($C$1,10,1))+10)),"") -> 5 | L26: =IF(MONTH((DATE($C$1,10,1)-WEEKDAY(DATE($C$1,10,1))+11))=10,DAY((DATE($C$1,10,1)-WEEKDAY(DATE($C$1,10,1))+11)),"") -> 6 | M26: =IF(MONTH((DATE($C$1,10,1)-WEEKDAY(DATE($C$1,10,1))+12))=10,DAY((DATE($C$1,10,1)-WEEKDAY(DATE($C$1,10,1))+12)),"") -> 7 | N26: =IF(MONTH((DATE($C$1,10,1)-WEEKDAY(DATE($C$1,10,1))+13))=10,DAY((DATE($C$1,10,1)-WEEKDAY(DATE($C$1,10,1))+13)),"") -> 8 | O26: =IF(MONTH((DATE($C$1,10,1)-WEEKDAY(DATE($C$1,10,1))+14))=10,DAY((DATE($C$1,10,1)-WEEKDAY(DATE($C$1,10,1))+14)),"") -> 9 | Q26: =IF(MONTH((DATE($C$1,11,1)-WEEKDAY(DATE($C$1,11,1))+8))=11,DAY((DATE($C$1,11,1)-WEEKDAY(DATE($C$1,11,1))+8)),"") -> 7 | R26: =IF(MONTH((DATE($C$1,11,1)-WEEKDAY(DATE($C$1,11,1))+9))=11,DAY((DATE($C$1,11,1)-WEEKDAY(DATE($C$1,11,1))+9)),"") -> 8 | S26: =IF(MONTH((DATE($C$1,11,1)-WEEKDAY(DATE($C$1,11,1))+10))=11,DAY((DATE($C$1,11,1)-WEEKDAY(DATE($C$1,11,1))+10)),"") -> 9 | T26: =IF(MONTH((DATE($C$1,11,1)-WEEKDAY(DATE($C$1,11,1))+11))=11,DAY((DATE($C$1,11,1)-WEEKDAY(DATE($C$1,11,1))+11)),"") -> 10 | U26: =IF(MONTH((DATE($C$1,11,1)-WEEKDAY(DATE($C$1,11,1))+12))=11,DAY((DATE($C$1,11,1)-WEEKDAY(DATE($C$1,11,1))+12)),"") -> 11 | V26: =IF(MONTH((DATE($C$1,11,1)-WEEKDAY(DATE($C$1,11,1))+13))=11,DAY((DATE($C$1,11,1)-WEEKDAY(DATE($C$1,11,1))+13)),"") -> 12 | W26: =IF(MONTH((DATE($C$1,11,1)-WEEKDAY(DATE($C$1,11,1))+14))=11,DAY((DATE($C$1,11,1)-WEEKDAY(DATE($C$1,11,1))+14)),"") -> 13 | Y26: =IF(MONTH((DATE($C$1,12,1)-WEEKDAY(DATE($C$1,12,1))+8))=12,DAY((DATE($C$1,12,1)-WEEKDAY(DATE($C$1,12,1))+8)),"") -> 5 | Z26: =IF(MONTH((DATE($C$1,12,1)-WEEKDAY(DATE($C$1,12,1))+9))=12,DAY((DATE($C$1,12,1)-WEEKDAY(DATE($C$1,12,1))+9)),"") -> 6 | AA26: =IF(MONTH((DATE($C$1,12,1)-WEEKDAY(DATE($C$1,12,1))+10))=12,DAY((DATE($C$1,12,1)-WEEKDAY(DATE($C$1,12,1))+10)),"") -> 7 | AB26: =IF(MONTH((DATE($C$1,12,1)-WEEKDAY(DATE($C$1,12,1))+11))=12,DAY((DATE($C$1,12,1)-WEEKDAY(DATE($C$1,12,1))+11)),"") -> 8 | AC26: =IF(MONTH((DATE($C$1,12,1)-WEEKDAY(DATE($C$1,12,1))+12))=12,DAY((DATE($C$1,12,1)-WEEKDAY(DATE($C$1,12,1))+12)),"") -> 9 | AD26: =IF(MONTH((DATE($C$1,12,1)-WEEKDAY(DATE($C$1,12,1))+13))=12,DAY((DATE($C$1,12,1)-WEEKDAY(DATE($C$1,12,1))+13)),"") -> 10 | AE26: =IF(MONTH((DATE($C$1,12,1)-WEEKDAY(DATE($C$1,12,1))+14))=12,DAY((DATE($C$1,12,1)-WEEKDAY(DATE($C$1,12,1))+14)),"") -> 11
A27: =IF(MONTH((DATE($C$1,9,1)-WEEKDAY(DATE($C$1,9,1))+15))=9,DAY((DATE($C$1,9,1)-WEEKDAY(DATE($C$1,9,1))+15)),"") -> 12 | B27: =IF(MONTH((DATE($C$1,9,1)-WEEKDAY(DATE($C$1,9,1))+16))=9,DAY((DATE($C$1,9,1)-WEEKDAY(DATE($C$1,9,1))+16)),"") -> 13 | C27: =IF(MONTH((DATE($C$1,9,1)-WEEKDAY(DATE($C$1,9,1))+17))=9,DAY((DATE($C$1,9,1)-WEEKDAY(DATE($C$1,9,1))+17)),"") -> 14 | D27: =IF(MONTH((DATE($C$1,9,1)-WEEKDAY(DATE($C$1,9,1))+18))=9,DAY((DATE($C$1,9,1)-WEEKDAY(DATE($C$1,9,1))+18)),"") -> 15 | E27: =IF(MONTH((DATE($C$1,9,1)-WEEKDAY(DATE($C$1,9,1))+19))=9,DAY((DATE($C$1,9,1)-WEEKDAY(DATE($C$1,9,1))+19)),"") -> 16 | F27: =IF(MONTH((DATE($C$1,9,1)-WEEKDAY(DATE($C$1,9,1))+20))=9,DAY((DATE($C$1,9,1)-WEEKDAY(DATE($C$1,9,1))+20)),"") -> 17 | G27: =IF(MONTH((DATE($C$1,9,1)-WEEKDAY(DATE($C$1,9,1))+21))=9,DAY((DATE($C$1,9,1)-WEEKDAY(DATE($C$1,9,1))+21)),"") -> 18 | I27: =IF(MONTH((DATE($C$1,10,1)-WEEKDAY(DATE($C$1,10,1))+15))=10,DAY((DATE($C$1,10,1)-WEEKDAY(DATE($C$1,10,1))+15)),"") -> 10 | J27: =IF(MONTH((DATE($C$1,10,1)-WEEKDAY(DATE($C$1,10,1))+16))=10,DAY((DATE($C$1,10,1)-WEEKDAY(DATE($C$1,10,1))+16)),"") -> 11 | K27: =IF(MONTH((DATE($C$1,10,1)-WEEKDAY(DATE($C$1,10,1))+17))=10,DAY((DATE($C$1,10,1)-WEEKDAY(DATE($C$1,10,1))+17)),"") -> 12 | L27: =IF(MONTH((DATE($C$1,10,1)-WEEKDAY(DATE($C$1,10,1))+18))=10,DAY((DATE($C$1,10,1)-WEEKDAY(DATE($C$1,10,1))+18)),"") -> 13 | M27: =IF(MONTH((DATE($C$1,10,1)-WEEKDAY(DATE($C$1,10,1))+19))=10,DAY((DATE($C$1,10,1)-WEEKDAY(DATE($C$1,10,1))+19)),"") -> 14 | N27: =IF(MONTH((DATE($C$1,10,1)-WEEKDAY(DATE($C$1,10,1))+20))=10,DAY((DATE($C$1,10,1)-WEEKDAY(DATE($C$1,10,1))+20)),"") -> 15 | O27: =IF(MONTH((DATE($C$1,10,1)-WEEKDAY(DATE($C$1,10,1))+21))=10,DAY((DATE($C$1,10,1)-WEEKDAY(DATE($C$1,10,1))+21)),"") -> 16 | Q27: =IF(MONTH((DATE($C$1,11,1)-WEEKDAY(DATE($C$1,11,1))+15))=11,DAY((DATE($C$1,11,1)-WEEKDAY(DATE($C$1,11,1))+15)),"") -> 14 | R27: =IF(MONTH((DATE($C$1,11,1)-WEEKDAY(DATE($C$1,11,1))+16))=11,DAY((DATE($C$1,11,1)-WEEKDAY(DATE($C$1,11,1))+16)),"") -> 15 | S27: =IF(MONTH((DATE($C$1,11,1)-WEEKDAY(DATE($C$1,11,1))+17))=11,DAY((DATE($C$1,11,1)-WEEKDAY(DATE($C$1,11,1))+17)),"") -> 16 | T27: =IF(MONTH((DATE($C$1,11,1)-WEEKDAY(DATE($C$1,11,1))+18))=11,DAY((DATE($C$1,11,1)-WEEKDAY(DATE($C$1,11,1))+18)),"") -> 17 | U27: =IF(MONTH((DATE($C$1,11,1)-WEEKDAY(DATE($C$1,11,1))+19))=11,DAY((DATE($C$1,11,1)-WEEKDAY(DATE($C$1,11,1))+19)),"") -> 18 | V27: =IF(MONTH((DATE($C$1,11,1)-WEEKDAY(DATE($C$1,11,1))+20))=11,DAY((DATE($C$1,11,1)-WEEKDAY(DATE($C$1,11,1))+20)),"") -> 19 | W27: =IF(MONTH((DATE($C$1,11,1)-WEEKDAY(DATE($C$1,11,1))+21))=11,DAY((DATE($C$1,11,1)-WEEKDAY(DATE($C$1,11,1))+21)),"") -> 20 | Y27: =IF(MONTH((DATE($C$1,12,1)-WEEKDAY(DATE($C$1,12,1))+15))=12,DAY((DATE($C$1,12,1)-WEEKDAY(DATE($C$1,12,1))+15)),"") -> 12 | Z27: =IF(MONTH((DATE($C$1,12,1)-WEEKDAY(DATE($C$1,12,1))+16))=12,DAY((DATE($C$1,12,1)-WEEKDAY(DATE($C$1,12,1))+16)),"") -> 13 | AA27: =IF(MONTH((DATE($C$1,12,1)-WEEKDAY(DATE($C$1,12,1))+17))=12,DAY((DATE($C$1,12,1)-WEEKDAY(DATE($C$1,12,1))+17)),"") -> 14 | AB27: =IF(MONTH((DATE($C$1,12,1)-WEEKDAY(DATE($C$1,12,1))+18))=12,DAY((DATE($C$1,12,1)-WEEKDAY(DATE($C$1,12,1))+18)),"") -> 15 | AC27: =IF(MONTH((DATE($C$1,12,1)-WEEKDAY(DATE($C$1,12,1))+19))=12,DAY((DATE($C$1,12,1)-WEEKDAY(DATE($C$1,12,1))+19)),"") -> 16 | AD27: =IF(MONTH((DATE($C$1,12,1)-WEEKDAY(DATE($C$1,12,1))+20))=12,DAY((DATE($C$1,12,1)-WEEKDAY(DATE($C$1,12,1))+20)),"") -> 17 | AE27: =IF(MONTH((DATE($C$1,12,1)-WEEKDAY(DATE($C$1,12,1))+21))=12,DAY((DATE($C$1,12,1)-WEEKDAY(DATE($C$1,12,1))+21)),"") -> 18
A28: =IF(MONTH((DATE($C$1,9,1)-WEEKDAY(DATE($C$1,9,1))+22))=9,DAY((DATE($C$1,9,1)-WEEKDAY(DATE($C$1,9,1))+22)),"") -> 19 | B28: =IF(MONTH((DATE($C$1,9,1)-WEEKDAY(DATE($C$1,9,1))+23))=9,DAY((DATE($C$1,9,1)-WEEKDAY(DATE($C$1,9,1))+23)),"") -> 20 | C28: =IF(MONTH((DATE($C$1,9,1)-WEEKDAY(DATE($C$1,9,1))+24))=9,DAY((DATE($C$1,9,1)-WEEKDAY(DATE($C$1,9,1))+24)),"") -> 21 | D28: =IF(MONTH((DATE($C$1,9,1)-WEEKDAY(DATE($C$1,9,1))+25))=9,DAY((DATE($C$1,9,1)-WEEKDAY(DATE($C$1,9,1))+25)),"") -> 22 | E28: =IF(MONTH((DATE($C$1,9,1)-WEEKDAY(DATE($C$1,9,1))+26))=9,DAY((DATE($C$1,9,1)-WEEKDAY(DATE($C$1,9,1))+26)),"") -> 23 | F28: =IF(MONTH((DATE($C$1,9,1)-WEEKDAY(DATE($C$1,9,1))+27))=9,DAY((DATE($C$1,9,1)-WEEKDAY(DATE($C$1,9,1))+27)),"") -> 24 | G28: =IF(MONTH((DATE($C$1,9,1)-WEEKDAY(DATE($C$1,9,1))+28))=9,DAY((DATE($C$1,9,1)-WEEKDAY(DATE($C$1,9,1))+28)),"") -> 25 | I28: =IF(MONTH((DATE($C$1,10,1)-WEEKDAY(DATE($C$1,10,1))+22))=10,DAY((DATE($C$1,10,1)-WEEKDAY(DATE($C$1,10,1))+22)),"") -> 17 | J28: =IF(MONTH((DATE($C$1,10,1)-WEEKDAY(DATE($C$1,10,1))+23))=10,DAY((DATE($C$1,10,1)-WEEKDAY(DATE($C$1,10,1))+23)),"") -> 18 | K28: =IF(MONTH((DATE($C$1,10,1)-WEEKDAY(DATE($C$1,10,1))+24))=10,DAY((DATE($C$1,10,1)-WEEKDAY(DATE($C$1,10,1))+24)),"") -> 19 | L28: =IF(MONTH((DATE($C$1,10,1)-WEEKDAY(DATE($C$1,10,1))+25))=10,DAY((DATE($C$1,10,1)-WEEKDAY(DATE($C$1,10,1))+25)),"") -> 20 | M28: =IF(MONTH((DATE($C$1,10,1)-WEEKDAY(DATE($C$1,10,1))+26))=10,DAY((DATE($C$1,10,1)-WEEKDAY(DATE($C$1,10,1))+26)),"") -> 21 | N28: =IF(MONTH((DATE($C$1,10,1)-WEEKDAY(DATE($C$1,10,1))+27))=10,DAY((DATE($C$1,10,1)-WEEKDAY(DATE($C$1,10,1))+27)),"") -> 22 | O28: =IF(MONTH((DATE($C$1,10,1)-WEEKDAY(DATE($C$1,10,1))+28))=10,DAY((DATE($C$1,10,1)-WEEKDAY(DATE($C$1,10,1))+28)),"") -> 23 | Q28: =IF(MONTH((DATE($C$1,11,1)-WEEKDAY(DATE($C$1,11,1))+22))=11,DAY((DATE($C$1,11,1)-WEEKDAY(DATE($C$1,11,1))+22)),"") -> 21 | R28: =IF(MONTH((DATE($C$1,11,1)-WEEKDAY(DATE($C$1,11,1))+23))=11,DAY((DATE($C$1,11,1)-WEEKDAY(DATE($C$1,11,1))+23)),"") -> 22 | S28: =IF(MONTH((DATE($C$1,11,1)-WEEKDAY(DATE($C$1,11,1))+24))=11,DAY((DATE($C$1,11,1)-WEEKDAY(DATE($C$1,11,1))+24)),"") -> 23 | T28: =IF(MONTH((DATE($C$1,11,1)-WEEKDAY(DATE($C$1,11,1))+25))=11,DAY((DATE($C$1,11,1)-WEEKDAY(DATE($C$1,11,1))+25)),"") -> 24 | U28: =IF(MONTH((DATE($C$1,11,1)-WEEKDAY(DATE($C$1,11,1))+26))=11,DAY((DATE($C$1,11,1)-WEEKDAY(DATE($C$1,11,1))+26)),"") -> 25 | V28: =IF(MONTH((DATE($C$1,11,1)-WEEKDAY(DATE($C$1,11,1))+27))=11,DAY((DATE($C$1,11,1)-WEEKDAY(DATE($C$1,11,1))+27)),"") -> 26 | W28: =IF(MONTH((DATE($C$1,11,1)-WEEKDAY(DATE($C$1,11,1))+28))=11,DAY((DATE($C$1,11,1)-WEEKDAY(DATE($C$1,11,1))+28)),"") -> 27 | Y28: =IF(MONTH((DATE($C$1,12,1)-WEEKDAY(DATE($C$1,12,1))+22))=12,DAY((DATE($C$1,12,1)-WEEKDAY(DATE($C$1,12,1))+22)),"") -> 19 | Z28: =IF(MONTH((DATE($C$1,12,1)-WEEKDAY(DATE($C$1,12,1))+23))=12,DAY((DATE($C$1,12,1)-WEEKDAY(DATE($C$1,12,1))+23)),"") -> 20 | AA28: =IF(MONTH((DATE($C$1,12,1)-WEEKDAY(DATE($C$1,12,1))+24))=12,DAY((DATE($C$1,12,1)-WEEKDAY(DATE($C$1,12,1))+24)),"") -> 21 | AB28: =IF(MONTH((DATE($C$1,12,1)-WEEKDAY(DATE($C$1,12,1))+25))=12,DAY((DATE($C$1,12,1)-WEEKDAY(DATE($C$1,12,1))+25)),"") -> 22 | AC28: =IF(MONTH((DATE($C$1,12,1)-WEEKDAY(DATE($C$1,12,1))+26))=12,DAY((DATE($C$1,12,1)-WEEKDAY(DATE($C$1,12,1))+26)),"") -> 23 | AD28: =IF(MONTH((DATE($C$1,12,1)-WEEKDAY(DATE($C$1,12,1))+27))=12,DAY((DATE($C$1,12,1)-WEEKDAY(DATE($C$1,12,1))+27)),"") -> 24 | AE28: =IF(MONTH((DATE($C$1,12,1)-WEEKDAY(DATE($C$1,12,1))+28))=12,DAY((DATE($C$1,12,1)-WEEKDAY(DATE($C$1,12,1))+28)),"") -> 25
A29: =IF(MONTH((DATE($C$1,9,1)-WEEKDAY(DATE($C$1,9,1))+29))=9,DAY((DATE($C$1,9,1)-WEEKDAY(DATE($C$1,9,1))+29)),"") -> 26 | B29: =IF(MONTH((DATE($C$1,9,1)-WEEKDAY(DATE($C$1,9,1))+30))=9,DAY((DATE($C$1,9,1)-WEEKDAY(DATE($C$1,9,1))+30)),"") -> 27 | C29: =IF(MONTH((DATE($C$1,9,1)-WEEKDAY(DATE($C$1,9,1))+31))=9,DAY((DATE($C$1,9,1)-WEEKDAY(DATE($C$1,9,1))+31)),"") -> 28 | D29: =IF(MONTH((DATE($C$1,9,1)-WEEKDAY(DATE($C$1,9,1))+32))=9,DAY((DATE($C$1,9,1)-WEEKDAY(DATE($C$1,9,1))+32)),"") -> 29 | E29: =IF(MONTH((DATE($C$1,9,1)-WEEKDAY(DATE($C$1,9,1))+33))=9,DAY((DATE($C$1,9,1)-WEEKDAY(DATE($C$1,9,1))+33)),"") -> 30 | F29: =IF(MONTH((DATE($C$1,9,1)-WEEKDAY(DATE($C$1,9,1))+34))=9,DAY((DATE($C$1,9,1)-WEEKDAY(DATE($C$1,9,1))+34)),"") | G29: =IF(MONTH((DATE($C$1,9,1)-WEEKDAY(DATE($C$1,9,1))+35))=9,DAY((DATE($C$1,9,1)-WEEKDAY(DATE($C$1,9,1))+35)),"") | I29: =IF(MONTH((DATE($C$1,10,1)-WEEKDAY(DATE($C$1,10,1))+29))=10,DAY((DATE($C$1,10,1)-WEEKDAY(DATE($C$1,10,1))+29)),"") -> 24 | J29: =IF(MONTH((DATE($C$1,10,1)-WEEKDAY(DATE($C$1,10,1))+30))=10,DAY((DATE($C$1,10,1)-WEEKDAY(DATE($C$1,10,1))+30)),"") -> 25 | K29: =IF(MONTH((DATE($C$1,10,1)-WEEKDAY(DATE($C$1,10,1))+31))=10,DAY((DATE($C$1,10,1)-WEEKDAY(DATE($C$1,10,1))+31)),"") -> 26 | L29: =IF(MONTH((DATE($C$1,10,1)-WEEKDAY(DATE($C$1,10,1))+32))=10,DAY((DATE($C$1,10,1)-WEEKDAY(DATE($C$1,10,1))+32)),"") -> 27 | M29: =IF(MONTH((DATE($C$1,10,1)-WEEKDAY(DATE($C$1,10,1))+33))=10,DAY((DATE($C$1,10,1)-WEEKDAY(DATE($C$1,10,1))+33)),"") -> 28 | N29: =IF(MONTH((DATE($C$1,10,1)-WEEKDAY(DATE($C$1,10,1))+34))=10,DAY((DATE($C$1,10,1)-WEEKDAY(DATE($C$1,10,1))+34)),"") -> 29 | O29: =IF(MONTH((DATE($C$1,10,1)-WEEKDAY(DATE($C$1,10,1))+35))=10,DAY((DATE($C$1,10,1)-WEEKDAY(DATE($C$1,10,1))+35)),"") -> 30 | Q29: =IF(MONTH((DATE($C$1,11,1)-WEEKDAY(DATE($C$1,11,1))+29))=11,DAY((DATE($C$1,11,1)-WEEKDAY(DATE($C$1,11,1))+29)),"") -> 28 | R29: =IF(MONTH((DATE($C$1,11,1)-WEEKDAY(DATE($C$1,11,1))+30))=11,DAY((DATE($C$1,11,1)-WEEKDAY(DATE($C$1,11,1))+30)),"") -> 29 | S29: =IF(MONTH((DATE($C$1,11,1)-WEEKDAY(DATE($C$1,11,1))+31))=11,DAY((DATE($C$1,11,1)-WEEKDAY(DATE($C$1,11,1))+31)),"") -> 30 | T29: =IF(MONTH((DATE($C$1,11,1)-WEEKDAY(DATE($C$1,11,1))+32))=11,DAY((DATE($C$1,11,1)-WEEKDAY(DATE($C$1,11,1))+32)),"") | U29: =IF(MONTH((DATE($C$1,11,1)-WEEKDAY(DATE($C$1,11,1))+33))=11,DAY((DATE($C$1,11,1)-WEEKDAY(DATE($C$1,11,1))+33)),"") | V29: =IF(MONTH((DATE($C$1,11,1)-WEEKDAY(DATE($C$1,11,1))+34))=11,DAY((DATE($C$1,11,1)-WEEKDAY(DATE($C$1,11,1))+34)),"") | W29: =IF(MONTH((DATE($C$1,11,1)-WEEKDAY(DATE($C$1,11,1))+35))=11,DAY((DATE($C$1,11,1)-WEEKDAY(DATE($C$1,11,1))+35)),"") | Y29: =IF(MONTH((DATE($C$1,12,1)-WEEKDAY(DATE($C$1,12,1))+29))=12,DAY((DATE($C$1,12,1)-WEEKDAY(DATE($C$1,12,1))+29)),"") -> 26 | Z29: =IF(MONTH((DATE($C$1,12,1)-WEEKDAY(DATE($C$1,12,1))+30))=12,DAY((DATE($C$1,12,1)-WEEKDAY(DATE($C$1,12,1))+30)),"") -> 27 | AA29: =IF(MONTH((DATE($C$1,12,1)-WEEKDAY(DATE($C$1,12,1))+31))=12,DAY((DATE($C$1,12,1)-WEEKDAY(DATE($C$1,12,1))+31)),"") -> 28 | AB29: =IF(MONTH((DATE($C$1,12,1)-WEEKDAY(DATE($C$1,12,1))+32))=12,DAY((DATE($C$1,12,1)-WEEKDAY(DATE($C$1,12,1))+32)),"") -> 29 | AC29: =IF(MONTH((DATE($C$1,12,1)-WEEKDAY(DATE($C$1,12,1))+33))=12,DAY((DATE($C$1,12,1)-WEEKDAY(DATE($C$1,12,1))+33)),"") -> 30 | AD29: =IF(MONTH((DATE($C$1,12,1)-WEEKDAY(DATE($C$1,12,1))+34))=12,DAY((DATE($C$1,12,1)-WEEKDAY(DATE($C$1,12,1))+34)),"") -> 31 | AE29: =IF(MONTH((DATE($C$1,12,1)-WEEKDAY(DATE($C$1,12,1))+35))=12,DAY((DATE($C$1,12,1)-WEEKDAY(DATE($C$1,12,1))+35)),"")
A30: =IF(MONTH((DATE($C$1,9,1)-WEEKDAY(DATE($C$1,9,1))+36))=9,DAY((DATE($C$1,9,1)-WEEKDAY(DATE($C$1,9,1))+36)),"") | B30: =IF(MONTH((DATE($C$1,9,1)-WEEKDAY(DATE($C$1,9,1))+37))=9,DAY((DATE($C$1,9,1)-WEEKDAY(DATE($C$1,9,1))+37)),"") | C30: =IF(MONTH((DATE($C$1,9,1)-WEEKDAY(DATE($C$1,9,1))+38))=9,DAY((DATE($C$1,9,1)-WEEKDAY(DATE($C$1,9,1))+38)),"") | D30: =IF(MONTH((DATE($C$1,9,1)-WEEKDAY(DATE($C$1,9,1))+39))=9,DAY((DATE($C$1,9,1)-WEEKDAY(DATE($C$1,9,1))+39)),"") | E30: =IF(MONTH((DATE($C$1,9,1)-WEEKDAY(DATE($C$1,9,1))+40))=9,DAY((DATE($C$1,9,1)-WEEKDAY(DATE($C$1,9,1))+40)),"") | F30: =IF(MONTH((DATE($C$1,9,1)-WEEKDAY(DATE($C$1,9,1))+41))=9,DAY((DATE($C$1,9,1)-WEEKDAY(DATE($C$1,9,1))+41)),"") | G30: =IF(MONTH((DATE($C$1,9,1)-WEEKDAY(DATE($C$1,9,1))+42))=9,DAY((DATE($C$1,9,1)-WEEKDAY(DATE($C$1,9,1))+42)),"") | I30: =IF(MONTH((DATE($C$1,10,1)-WEEKDAY(DATE($C$1,10,1))+36))=10,DAY((DATE($C$1,10,1)-WEEKDAY(DATE($C$1,10,1))+36)),"") -> 31 | J30: =IF(MONTH((DATE($C$1,10,1)-WEEKDAY(DATE($C$1,10,1))+37))=10,DAY((DATE($C$1,10,1)-WEEKDAY(DATE($C$1,10,1))+37)),"") | K30: =IF(MONTH((DATE($C$1,10,1)-WEEKDAY(DATE($C$1,10,1))+38))=10,DAY((DATE($C$1,10,1)-WEEKDAY(DATE($C$1,10,1))+38)),"") | L30: =IF(MONTH((DATE($C$1,10,1)-WEEKDAY(DATE($C$1,10,1))+39))=10,DAY((DATE($C$1,10,1)-WEEKDAY(DATE($C$1,10,1))+39)),"") | M30: =IF(MONTH((DATE($C$1,10,1)-WEEKDAY(DATE($C$1,10,1))+40))=10,DAY((DATE($C$1,10,1)-WEEKDAY(DATE($C$1,10,1))+40)),"") | N30: =IF(MONTH((DATE($C$1,10,1)-WEEKDAY(DATE($C$1,10,1))+41))=10,DAY((DATE($C$1,10,1)-WEEKDAY(DATE($C$1,10,1))+41)),"") | O30: =IF(MONTH((DATE($C$1,10,1)-WEEKDAY(DATE($C$1,10,1))+42))=10,DAY((DATE($C$1,10,1)-WEEKDAY(DATE($C$1,10,1))+42)),"") | Q30: =IF(MONTH((DATE($C$1,11,1)-WEEKDAY(DATE($C$1,11,1))+36))=11,DAY((DATE($C$1,11,1)-WEEKDAY(DATE($C$1,11,1))+36)),"") | R30: =IF(MONTH((DATE($C$1,11,1)-WEEKDAY(DATE($C$1,11,1))+37))=11,DAY((DATE($C$1,11,1)-WEEKDAY(DATE($C$1,11,1))+37)),"") | S30: =IF(MONTH((DATE($C$1,11,1)-WEEKDAY(DATE($C$1,11,1))+38))=11,DAY((DATE($C$1,11,1)-WEEKDAY(DATE($C$1,11,1))+38)),"") | T30: =IF(MONTH((DATE($C$1,11,1)-WEEKDAY(DATE($C$1,11,1))+39))=11,DAY((DATE($C$1,11,1)-WEEKDAY(DATE($C$1,11,1))+39)),"") | U30: =IF(MONTH((DATE($C$1,11,1)-WEEKDAY(DATE($C$1,11,1))+40))=11,DAY((DATE($C$1,11,1)-WEEKDAY(DATE($C$1,11,1))+40)),"") | V30: =IF(MONTH((DATE($C$1,11,1)-WEEKDAY(DATE($C$1,11,1))+41))=11,DAY((DATE($C$1,11,1)-WEEKDAY(DATE($C$1,11,1))+41)),"") | W30: =IF(MONTH((DATE($C$1,11,1)-WEEKDAY(DATE($C$1,11,1))+42))=11,DAY((DATE($C$1,11,1)-WEEKDAY(DATE($C$1,11,1))+42)),"") | Y30: =IF(MONTH((DATE($C$1,12,1)-WEEKDAY(DATE($C$1,12,1))+36))=12,DAY((DATE($C$1,12,1)-WEEKDAY(DATE($C$1,12,1))+36)),"") | Z30: =IF(MONTH((DATE($C$1,12,1)-WEEKDAY(DATE($C$1,12,1))+37))=12,DAY((DATE($C$1,12,1)-WEEKDAY(DATE($C$1,12,1))+37)),"") | AA30: =IF(MONTH((DATE($C$1,12,1)-WEEKDAY(DATE($C$1,12,1))+38))=12,DAY((DATE($C$1,12,1)-WEEKDAY(DATE($C$1,12,1))+38)),"") | AB30: =IF(MONTH((DATE($C$1,12,1)-WEEKDAY(DATE($C$1,12,1))+39))=12,DAY((DATE($C$1,12,1)-WEEKDAY(DATE($C$1,12,1))+39)),"") | AC30: =IF(MONTH((DATE($C$1,12,1)-WEEKDAY(DATE($C$1,12,1))+40))=12,DAY((DATE($C$1,12,1)-WEEKDAY(DATE($C$1,12,1))+40)),"") | AD30: =IF(MONTH((DATE($C$1,12,1)-WEEKDAY(DATE($C$1,12,1))+41))=12,DAY((DATE($C$1,12,1)-WEEKDAY(DATE($C$1,12,1))+41)),"") | AE30: =IF(MONTH((DATE($C$1,12,1)-WEEKDAY(DATE($C$1,12,1))+42))=12,DAY((DATE($C$1,12,1)-WEEKDAY(DATE($C$1,12,1))+42)),"")

Sheet 1月
A1: =年間!$C$1&"年 1月" -> 2027年 1月
A2: 日 | B2: 月 | C2: 火 | D2: 水 | E2: 木 | F2: 金 | G2: 土
A3: =IF(MONTH((DATE(年間!$C$1,1,1)-WEEKDAY(DATE(年間!$C$1,1,1))+1))=1,DAY((DATE(年間!$C$1,1,1)-WEEKDAY(DATE(年間!$C$1,1,1))+1)),"") | B3: =IF(MONTH((DATE(年間!$C$1,1,1)-WEEKDAY(DATE(年間!$C$1,1,1))+2))=1,DAY((DATE(年間!$C$1,1,1)-WEEKDAY(DATE(年間!$C$1,1,1))+2)),"") | C3: =IF(MONTH((DATE(年間!$C$1,1,1)-WEEKDAY(DATE(年間!$C$1,1,1))+3))=1,DAY((DATE(年間!$C$1,1,1)-WEEKDAY(DATE(年間!$C$1,1,1))+3)),"") | D3: =IF(MONTH((DATE(年間!$C$1,1,1)-WEEKDAY(DATE(年間!$C$1,1,1))+4))=1,DAY((DATE(年間!$C$1,1,1)-WEEKDAY(DATE(年間!$C$1,1,1))+4)),"") | E3: =IF(MONTH((DATE(年間!$C$1,1,1)-WEEKDAY(DATE(年間!$C$1,1,1))+5))=1,DAY((DATE(年間!$C$1,1,1)-WEEKDAY(DATE(年間!$C$1,1,1))+5)),"") | F3: =IF(MONTH((DATE(年間!$C$1,1,1)-WEEKDAY(DATE(年間!$C$1,1,1))+6))=1,DAY((DATE(年間!$C$1,1,1)-WEEKDAY(DATE(年間!$C$1,1,1))+6)),"") -> 1 | G3: =IF(MONTH((DATE(年間!$C$1,1,1)-WEEKDAY(DATE(年間!$C$1,1,1))+7))=1,DAY((DATE(年間!$C$1,1,1)-WEEKDAY(DATE(年間!$C$1,1,1))+7)),"") -> 2
A4: =IF(MONTH((DATE(年間!$C$1,1,1)-WEEKDAY(DATE(年間!$C$1,1,1))+1))=1,IFERROR(VLOOKUP((DATE(年間!$C$1,1,1)-WEEKDAY(DATE(年間!$C$1,1,1))+1),祝日!$A$2:$B$75,2,FALSE),""),"") | B4: =IF(MONTH((DATE(年間!$C$1,1,1)-WEEKDAY(DATE(年間!$C$1,1,1))+2))=1,IFERROR(VLOOKUP((DATE(年間!$C$1,1,1)-WEEKDAY(DATE(年間!$C$1,1,1))+2),祝日!$A$2:$B$75,2,FALSE),""),"") | C4: =IF(MONTH((DATE(年間!$C$1,1,1)-WEEKDAY(DATE(年間!$C$1,1,1))+3))=1,IFERROR(VLOOKUP((DATE(年間!$C$1,1,1)-WEEKDAY(DATE(年間!$C$1,1,1))+3),祝日!$A$2:$B$75,2,FALSE),""),"") | D4: =IF(MONTH((DATE(年間!$C$1,1,1)-WEEKDAY(DATE(年間!$C$1,1,1))+4))=1,IFERROR(VLOOKUP((DATE(年間!$C$1,1,1)-WEEKDAY(DATE(年間!$C$1,1,1))+4),祝日!$A$2:$B$75,2,FALSE),""),"") | E4: =IF(MONTH((DATE(年間!$C$1,1,1)-WEEKDAY(DATE(年間!$C$1,1,1))+5))=1,IFERROR(VLOOKUP((DATE(年間!$C$1,1,1)-WEEKDAY(DATE(年間!$C$1,1,1))+5),祝日!$A$2:$B$75,2,FALSE),""),"") | F4: =IF(MONTH((DATE(年間!$C$1,1,1)-WEEKDAY(DATE(年間!$C$1,1,1))+6))=1,IFERROR(VLOOKUP((DATE(年間!$C$1,1,1)-WEEKDAY(DATE(年間!$C$1,1,1))+6),祝日!$A$2:$B$75,2,FALSE),""),"") -> 元日 | G4: =IF(MONTH((DATE(年間!$C$1,1,1)-WEEKDAY(DATE(年間!$C$1,1,1))+7))=1,IFERROR(VLOOKUP((DATE(年間!$C$1,1,1)-WEEKDAY(DATE(年間!$C$1,1,1))+7),祝日!$A$2:$B$75,2,FALSE),""),"")
A5: =IF(MONTH((DATE(年間!$C$1,1,1)-WEEKDAY(DATE(年間!$C$1,1,1))+8))=1,DAY((DATE(年間!$C$1,1,1)-WEEKDAY(DATE(年間!$C$1,1,1))+8)),"") -> 3 | B5: =IF(MONTH((DATE(年間!$C$1,1,1)-WEEKDAY(DATE(年間!$C$1,1,1))+9))=1,DAY((DATE(年間!$C$1,1,1)-WEEKDAY(DATE(年間!$C$1,1,1))+9)),"") -> 4 | C5: =IF(MONTH((DATE(年間!$C$1,1,1)-WEEKDAY(DATE(年間!$C$1,1,1))+10))=1,DAY((DATE(年間!$C$1,1,1)-WEEKDAY(DATE(年間!$C$1,1,1))+10)),"") -> 5 | D5: =IF(MONTH((DATE(年間!$C$1,1,1)-WEEKDAY(DATE(年間!$C$1,1,1))+11))=1,DAY((DATE(年間!$C$1,1,1)-WEEKDAY(DATE(年間!$C$1,1,1))+11)),"") -> 6 | E5: =IF(MONTH((DATE(年間!$C$1,1,1)-WEEKDAY(DATE(年間!$C$1,1,1))+12))=1,DAY((DATE(年間!$C$1,1,1)-WEEKDAY(DATE(年間!$C$1,1,1))+12)),"") -> 7 | F5: =IF(MONTH((DATE(年間!$C$1,1,1)-WEEKDAY(DATE(年間!$C$1,1,1))+13))=1,DAY((DATE(年間!$C$1,1,1)-WEEKDAY(DATE(年間!$C$1,1,1))+13)),"") -> 8 | G5: =IF(MONTH((DATE(年間!$C$1,1,1)-WEEKDAY(DATE(年間!$C$1,1,1))+14))=1,DAY((DATE(年間!$C$1,1,1)-WEEKDAY(DATE(年間!$C$1,1,1))+14)),"") -> 9
A6: =IF(MONTH((DATE(年間!$C$1,1,1)-WEEKDAY(DATE(年間!$C$1,1,1))+8))=1,IFERROR(VLOOKUP((DATE(年間!$C$1,1,1)-WEEKDAY(DATE(年間!$C$1,1,1))+8),祝日!$A$2:$B$75,2,FALSE),""),"") | B6: =IF(MONTH((DATE(年間!$C$1,1,1)-WEEKDAY(DATE(年間!$C$1,1,1))+9))=1,IFERROR(VLOOKUP((DATE(年間!$C$1,1,1)-WEEKDAY(DATE(年間!$C$1,1,1))+9),祝日!$A$2:$B$75,2,FALSE),""),"") | C6: =IF(MONTH((DATE(年間!$C$1,1,1)-WEEKDAY(DATE(年間!$C$1,1,1))+10))=1,IFERROR(VLOOKUP((DATE(年間!$C$1,1,1)-WEEKDAY(DATE(年間!$C$1,1,1))+10),祝日!$A$2:$B$75,2,FALSE),""),"") | D6: =IF(MONTH((DATE(年間!$C$1,1,1)-WEEKDAY(DATE(年間!$C$1,1,1))+11))=1,IFERROR(VLOOKUP((DATE(年間!$C$1,1,1)-WEEKDAY(DATE(年間!$C$1,1,1))+11),祝日!$A$2:$B$75,2,FALSE),""),"") | E6: =IF(MONTH((DATE(年間!$C$1,1,1)-WEEKDAY(DATE(年間!$C$1,1,1))+12))=1,IFERROR(VLOOKUP((DATE(年間!$C$1,1,1)-WEEKDAY(DATE(年間!$C$1,1,1))+12),祝日!$A$2:$B$75,2,FALSE),""),"") | F6: =IF(MONTH((DATE(年間!$C$1,1,1)-WEEKDAY(DATE(年間!$C$1,1,1))+13))=1,IFERROR(VLOOKUP((DATE(年間!$C$1,1,1)-WEEKDAY(DATE(年間!$C$1,1,1))+13),祝日!$A$2:$B$75,2,FALSE),""),"") | G6: =IF(MONTH((DATE(年間!$C$1,1,1)-WEEKDAY(DATE(年間!$C$1,1,1))+14))=1,IFERROR(VLOOKUP((DATE(年間!$C$1,1,1)-WEEKDAY(DATE(年間!$C$1,1,1))+14),祝日!$A$2:$B$75,2,FALSE),""),"")
A7: =IF(MONTH((DATE(年間!$C$1,1,1)-WEEKDAY(DATE(年間!$C$1,1,1))+15))=1,DAY((DATE(年間!$C$1,1,1)-WEEKDAY(DATE(年間!$C$1,1,1))+15)),"") -> 10 | B7: =IF(MONTH((DATE(年間!$C$1,1,1)-WEEKDAY(DATE(年間!$C$1,1,1))+16))=1,DAY((DATE(年間!$C$1,1,1)-WEEKDAY(DATE(年間!$C$1,1,1))+16)),"") -> 11 | C7: =IF(MONTH((DATE(年間!$C$1,1,1)-WEEKDAY(DATE(年間!$C$1,1,1))+17))=1,DAY((DATE(年間!$C$1,1,1)-WEEKDAY(DATE(年間!$C$1,1,1))+17)),"") -> 12 | D7: =IF(MONTH((DATE(年間!$C$1,1,1)-WEEKDAY(DATE(年間!$C$1,1,1))+18))=1,DAY((DATE(年間!$C$1,1,1)-WEEKDAY(DATE(年間!$C$1,1,1))+18)),"") -> 13 | E7: =IF(MONTH((DATE(年間!$C$1,1,1)-WEEKDAY(DATE(年間!$C$1,1,1))+19))=1,DAY((DATE(年間!$C$1,1,1)-WEEKDAY(DATE(年間!$C$1,1,1))+19)),"") -> 14 | F7: =IF(MONTH((DATE(年間!$C$1,1,1)-WEEKDAY(DATE(年間!$C$1,1,1))+20))=1,DAY((DATE(年間!$C$1,1,1)-WEEKDAY(DATE(年間!$C$1,1,1))+20)),"") -> 15 | G7: =IF(MONTH((DATE(年間!$C$1,1,1)-WEEKDAY(DATE(年間!$C$1,1,1))+21))=1,DAY((DATE(年間!$C$1,1,1)-WEEKDAY(DATE(年間!$C$1,1,1))+21)),"") -> 16
A8: =IF(MONTH((DATE(年間!$C$1,1,1)-WEEKDAY(DATE(年間!$C$1,1,1))+15))=1,IFERROR(VLOOKUP((DATE(年間!$C$1,1,1)-WEEKDAY(DATE(年間!$C$1,1,1))+15),祝日!$A$2:$B$75,2,FALSE),""),"") | B8: =IF(MONTH((DATE(年間!$C$1,1,1)-WEEKDAY(DATE(年間!$C$1,1,1))+16))=1,IFERROR(VLOOKUP((DATE(年間!$C$1,1,1)-WEEKDAY(DATE(年間!$C$1,1,1))+16),祝日!$A$2:$B$75,2,FALSE),""),"") -> 成人の日 | C8: =IF(MONTH((DATE(年間!$C$1,1,1)-WEEKDAY(DATE(年間!$C$1,1,1))+17))=1,IFERROR(VLOOKUP((DATE(年間!$C$1,1,1)-WEEKDAY(DATE(年間!$C$1,1,1))+17),祝日!$A$2:$B$75,2,FALSE),""),"") | D8: =IF(MONTH((DATE(年間!$C$1,1,1)-WEEKDAY(DATE(年間!$C$1,1,1))+18))=1,IFERROR(VLOOKUP((DATE(年間!$C$1,1,1)-WEEKDAY(DATE(年間!$C$1,1,1))+18),祝日!$A$2:$B$75,2,FALSE),""),"") | E8: =IF(MONTH((DATE(年間!$C$1,1,1)-WEEKDAY(DATE(年間!$C$1,1,1))+19))=1,IFERROR(VLOOKUP((DATE(年間!$C$1,1,1)-WEEKDAY(DATE(年間!$C$1,1,1))+19),祝日!$A$2:$B$75,2,FALSE),""),"") | F8: =IF(MONTH((DATE(年間!$C$1,1,1)-WEEKDAY(DATE(年間!$C$1,1,1))+20))=1,IFERROR(VLOOKUP((DATE(年間!$C$1,1,1)-WEEKDAY(DATE(年間!$C$1,1,1))+20),祝日!$A$2:$B$75,2,FALSE),""),"") | G8: =IF(MONTH((DATE(年間!$C$1,1,1)-WEEKDAY(DATE(年間!$C$1,1,1))+21))=1,IFERROR(VLOOKUP((DATE(年間!$C$1,1,1)-WEEKDAY(DATE(年間!$C$1,1,1))+21),祝日!$A$2:$B$75,2,FALSE),""),"")
A9: =IF(MONTH((DATE(年間!$C$1,1,1)-WEEKDAY(DATE(年間!$C$1,1,1))+22))=1,DAY((DATE(年間!$C$1,1,1)-WEEKDAY(DATE(年間!$C$1,1,1))+22)),"") -> 17 | B9: =IF(MONTH((DATE(年間!$C$1,1,1)-WEEKDAY(DATE(年間!$C$1,1,1))+23))=1,DAY((DATE(年間!$C$1,1,1)-WEEKDAY(DATE(年間!$C$1,1,1))+23)),"") -> 18 | C9: =IF(MONTH((DATE(年間!$C$1,1,1)-WEEKDAY(DATE(年間!$C$1,1,1))+24))=1,DAY((DATE(年間!$C$1,1,1)-WEEKDAY(DATE(年間!$C$1,1,1))+24)),"") -> 19 | D9: =IF(MONTH((DATE(年間!$C$1,1,1)-WEEKDAY(DATE(年間!$C$1,1,1))+25))=1,DAY((DATE(年間!$C$1,1,1)-WEEKDAY(DATE(年間!$C$1,1,1))+25)),"") -> 20 | E9: =IF(MONTH((DATE(年間!$C$1,1,1)-WEEKDAY(DATE(年間!$C$1,1,1))+26))=1,DAY((DATE(年間!$C$1,1,1)-WEEKDAY(DATE(年間!$C$1,1,1))+26)),"") -> 21 | F9: =IF(MONTH((DATE(年間!$C$1,1,1)-WEEKDAY(DATE(年間!$C$1,1,1))+27))=1,DAY((DATE(年間!$C$1,1,1)-WEEKDAY(DATE(年間!$C$1,1,1))+27)),"") -> 22 | G9: =IF(MONTH((DATE(年間!$C$1,1,1)-WEEKDAY(DATE(年間!$C$1,1,1))+28))=1,DAY((DATE(年間!$C$1,1,1)-WEEKDAY(DATE(年間!$C$1,1,1))+28)),"") -> 23
A10: =IF(MONTH((DATE(年間!$C$1,1,1)-WEEKDAY(DATE(年間!$C$1,1,1))+22))=1,IFERROR(VLOOKUP((DATE(年間!$C$1,1,1)-WEEKDAY(DATE(年間!$C$1,1,1))+22),祝日!$A$2:$B$75,2,FALSE),""),"") | B10: =IF(MONTH((DATE(年間!$C$1,1,1)-WEEKDAY(DATE(年間!$C$1,1,1))+23))=1,IFERROR(VLOOKUP((DATE(年間!$C$1,1,1)-WEEKDAY(DATE(年間!$C$1,1,1))+23),祝日!$A$2:$B$75,2,FALSE),""),"") | C10: =IF(MONTH((DATE(年間!$C$1,1,1)-WEEKDAY(DATE(年間!$C$1,1,1))+24))=1,IFERROR(VLOOKUP((DATE(年間!$C$1,1,1)-WEEKDAY(DATE(年間!$C$1,1,1))+24),祝日!$A$2:$B$75,2,FALSE),""),"") | D10: =IF(MONTH((DATE(年間!$C$1,1,1)-WEEKDAY(DATE(年間!$C$1,1,1))+25))=1,IFERROR(VLOOKUP((DATE(年間!$C$1,1,1)-WEEKDAY(DATE(年間!$C$1,1,1))+25),祝日!$A$2:$B$75,2,FALSE),""),"") | E10: =IF(MONTH((DATE(年間!$C$1,1,1)-WEEKDAY(DATE(年間!$C$1,1,1))+26))=1,IFERROR(VLOOKUP((DATE(年間!$C$1,1,1)-WEEKDAY(DATE(年間!$C$1,1,1))+26),祝日!$A$2:$B$75,2,FALSE),""),"") | F10: =IF(MONTH((DATE(年間!$C$1,1,1)-WEEKDAY(DATE(年間!$C$1,1,1))+27))=1,IFERROR(VLOOKUP((DATE(年間!$C$1,1,1)-WEEKDAY(DATE(年間!$C$1,1,1))+27),祝日!$A$2:$B$75,2,FALSE),""),"") | G10: =IF(MONTH((DATE(年間!$C$1,1,1)-WEEKDAY(DATE(年間!$C$1,1,1))+28))=1,IFERROR(VLOOKUP((DATE(年間!$C$1,1,1)-WEEKDAY(DATE(年間!$C$1,1,1))+28),祝日!$A$2:$B$75,2,FALSE),""),"")
A11: =IF(MONTH((DATE(年間!$C$1,1,1)-WEEKDAY(DATE(年間!$C$1,1,1))+29))=1,DAY((DATE(年間!$C$1,1,1)-WEEKDAY(DATE(年間!$C$1,1,1))+29)),"") -> 24 | B11: =IF(MONTH((DATE(年間!$C$1,1,1)-WEEKDAY(DATE(年間!$C$1,1,1))+30))=1,DAY((DATE(年間!$C$1,1,1)-WEEKDAY(DATE(年間!$C$1,1,1))+30)),"") -> 25 | C11: =IF(MONTH((DATE(年間!$C$1,1,1)-WEEKDAY(DATE(年間!$C$1,1,1))+31))=1,DAY((DATE(年間!$C$1,1,1)-WEEKDAY(DATE(年間!$C$1,1,1))+31)),"") -> 26 | D11: =IF(MONTH((DATE(年間!$C$1,1,1)-WEEKDAY(DATE(年間!$C$1,1,1))+32))=1,DAY((DATE(年間!$C$1,1,1)-WEEKDAY(DATE(年間!$C$1,1,1))+32)),"") -> 27 | E11: =IF(MONTH((DATE(年間!$C$1,1,1)-WEEKDAY(DATE(年間!$C$1,1,1))+33))=1,DAY((DATE(年間!$C$1,1,1)-WEEKDAY(DATE(年間!$C$1,1,1))+33)),"") -> 28 | F11: =IF(MONTH((DATE(年間!$C$1,1,1)-WEEKDAY(DATE(年間!$C$1,1,1))+34))=1,DAY((DATE(年間!$C$1,1,1)-WEEKDAY(DATE(年間!$C$1,1,1))+34)),"") -> 29 | G11: =IF(MONTH((DATE(年間!$C$1,1,1)-WEEKDAY(DATE(年間!$C$1,1,1))+35))=1,DAY((DATE(年間!$C$1,1,1)-WEEKDAY(DATE(年間!$C$1,1,1))+35)),"") -> 30
A12: =IF(MONTH((DATE(年間!$C$1,1,1)-WEEKDAY(DATE(年間!$C$1,1,1))+29))=1,IFERROR(VLOOKUP((DATE(年間!$C$1,1,1)-WEEKDAY(DATE(年間!$C$1,1,1))+29),祝日!$A$2:$B$75,2,FALSE),""),"") | B12: =IF(MONTH((DATE(年間!$C$1,1,1)-WEEKDAY(DATE(年間!$C$1,1,1))+30))=1,IFERROR(VLOOKUP((DATE(年間!$C$1,1,1)-WEEKDAY(DATE(年間!$C$1,1,1))+30),祝日!$A$2:$B$75,2,FALSE),""),"") | C12: =IF(MONTH((DATE(年間!$C$1,1,1)-WEEKDAY(DATE(年間!$C$1,1,1))+31))=1,IFERROR(VLOOKUP((DATE(年間!$C$1,1,1)-WEEKDAY(DATE(年間!$C$1,1,1))+31),祝日!$A$2:$B$75,2,FALSE),""),"") | D12: =IF(MONTH((DATE(年間!$C$1,1,1)-WEEKDAY(DATE(年間!$C$1,1,1))+32))=1,IFERROR(VLOOKUP((DATE(年間!$C$1,1,1)-WEEKDAY(DATE(年間!$C$1,1,1))+32),祝日!$A$2:$B$75,2,FALSE),""),"") | E12: =IF(MONTH((DATE(年間!$C$1,1,1)-WEEKDAY(DATE(年間!$C$1,1,1))+33))=1,IFERROR(VLOOKUP((DATE(年間!$C$1,1,1)-WEEKDAY(DATE(年間!$C$1,1,1))+33),祝日!$A$2:$B$75,2,FALSE),""),"") | F12: =IF(MONTH((DATE(年間!$C$1,1,1)-WEEKDAY(DATE(年間!$C$1,1,1))+34))=1,IFERROR(VLOOKUP((DATE(年間!$C$1,1,1)-WEEKDAY(DATE(年間!$C$1,1,1))+34),祝日!$A$2:$B$75,2,FALSE),""),"") | G12: =IF(MONTH((DATE(年間!$C$1,1,1)-WEEKDAY(DATE(年間!$C$1,1,1))+35))=1,IFERROR(VLOOKUP((DATE(年間!$C$1,1,1)-WEEKDAY(DATE(年間!$C$1,1,1))+35),祝日!$A$2:$B$75,2,FALSE),""),"")
A13: =IF(MONTH((DATE(年間!$C$1,1,1)-WEEKDAY(DATE(年間!$C$1,1,1))+36))=1,DAY((DATE(年間!$C$1,1,1)-WEEKDAY(DATE(年間!$C$1,1,1))+36)),"") -> 31 | B13: =IF(MONTH((DATE(年間!$C$1,1,1)-WEEKDAY(DATE(年間!$C$1,1,1))+37))=1,DAY((DATE(年間!$C$1,1,1)-WEEKDAY(DATE(年間!$C$1,1,1))+37)),"") | C13: =IF(MONTH((DATE(年間!$C$1,1,1)-WEEKDAY(DATE(年間!$C$1,1,1))+38))=1,DAY((DATE(年間!$C$1,1,1)-WEEKDAY(DATE(年間!$C$1,1,1))+38)),"") | D13: =IF(MONTH((DATE(年間!$C$1,1,1)-WEEKDAY(DATE(年間!$C$1,1,1))+39))=1,DAY((DATE(年間!$C$1,1,1)-WEEKDAY(DATE(年間!$C$1,1,1))+39)),"") | E13: =IF(MONTH((DATE(年間!$C$1,1,1)-WEEKDAY(DATE(年間!$C$1,1,1))+40))=1,DAY((DATE(年間!$C$1,1,1)-WEEKDAY(DATE(年間!$C$1,1,1))+40)),"") | F13: =IF(MONTH((DATE(年間!$C$1,1,1)-WEEKDAY(DATE(年間!$C$1,1,1))+41))=1,DAY((DATE(年間!$C$1,1,1)-WEEKDAY(DATE(年間!$C$1,1,1))+41)),"") | G13: =IF(MONTH((DATE(年間!$C$1,1,1)-WEEKDAY(DATE(年間!$C$1,1,1))+42))=1,DAY((DATE(年間!$C$1,1,1)-WEEKDAY(DATE(年間!$C$1,1,1))+42)),"")
A14: =IF(MONTH((DATE(年間!$C$1,1,1)-WEEKDAY(DATE(年間!$C$1,1,1))+36))=1,IFERROR(VLOOKUP((DATE(年間!$C$1,1,1)-WEEKDAY(DATE(年間!$C$1,1,1))+36),祝日!$A$2:$B$75,2,FALSE),""),"") | B14: =IF(MONTH((DATE(年間!$C$1,1,1)-WEEKDAY(DATE(年間!$C$1,1,1))+37))=1,IFERROR(VLOOKUP((DATE(年間!$C$1,1,1)-WEEKDAY(DATE(年間!$C$1,1,1))+37),祝日!$A$2:$B$75,2,FALSE),""),"") | C14: =IF(MONTH((DATE(年間!$C$1,1,1)-WEEKDAY(DATE(年間!$C$1,1,1))+38))=1,IFERROR(VLOOKUP((DATE(年間!$C$1,1,1)-WEEKDAY(DATE(年間!$C$1,1,1))+38),祝日!$A$2:$B$75,2,FALSE),""),"") | D14: =IF(MONTH((DATE(年間!$C$1,1,1)-WEEKDAY(DATE(年間!$C$1,1,1))+39))=1,IFERROR(VLOOKUP((DATE(年間!$C$1,1,1)-WEEKDAY(DATE(年間!$C$1,1,1))+39),祝日!$A$2:$B$75,2,FALSE),""),"") | E14: =IF(MONTH((DATE(年間!$C$1,1,1)-WEEKDAY(DATE(年間!$C$1,1,1))+40))=1,IFERROR(VLOOKUP((DATE(年間!$C$1,1,1)-WEEKDAY(DATE(年間!$C$1,1,1))+40),祝日!$A$2:$B$75,2,FALSE),""),"") | F14: =IF(MONTH((DATE(年間!$C$1,1,1)-WEEKDAY(DATE(年間!$C$1,1,1))+41))=1,IFERROR(VLOOKUP((DATE(年間!$C$1,1,1)-WEEKDAY(DATE(年間!$C$1,1,1))+41),祝日!$A$2:$B$75,2,FALSE),""),"") | G14: =IF(MONTH((DATE(年間!$C$1,1,1)-WEEKDAY(DATE(年間!$C$1,1,1))+42))=1,IFERROR(VLOOKUP((DATE(年間!$C$1,1,1)-WEEKDAY(DATE(年間!$C$1,1,1))+42),祝日!$A$2:$B$75,2,FALSE),""),"")

Sheet 2月
A1: =年間!$C$1&"年 2月" -> 2027年 2月
A2: 日 | B2: 月 | C2: 火 | D2: 水 | E2: 木 | F2: 金 | G2: 土
A3: =IF(MONTH((DATE(年間!$C$1,2,1)-WEEKDAY(DATE(年間!$C$1,2,1))+1))=2,DAY((DATE(年間!$C$1,2,1)-WEEKDAY(DATE(年間!$C$1,2,1))+1)),"") | B3: =IF(MONTH((DATE(年間!$C$1,2,1)-WEEKDAY(DATE(年間!$C$1,2,1))+2))=2,DAY((DATE(年間!$C$1,2,1)-WEEKDAY(DATE(年間!$C$1,2,1))+2)),"") -> 1 | C3: =IF(MONTH((DATE(年間!$C$1,2,1)-WEEKDAY(DATE(年間!$C$1,2,1))+3))=2,DAY((DATE(年間!$C$1,2,1)-WEEKDAY(DATE(年間!$C$1,2,1))+3)),"") -> 2 | D3: =IF(MONTH((DATE(年間!$C$1,2,1)-WEEKDAY(DATE(年間!$C$1,2,1))+4))=2,DAY((DATE(年間!$C$1,2,1)-WEEKDAY(DATE(年間!$C$1,2,1))+4)),"") -> 3 | E3: =IF(MONTH((DATE(年間!$C$1,2,1)-WEEKDAY(DATE(年間!$C$1,2,1))+5))=2,DAY((DATE(年間!$C$1,2,1)-WEEKDAY(DATE(年間!$C$1,2,1))+5)),"") -> 4 | F3: =IF(MONTH((DATE(年間!$C$1,2,1)-WEEKDAY(DATE(年間!$C$1,2,1))+6))=2,DAY((DATE(年間!$C$1,2,1)-WEEKDAY(DATE(年間!$C$1,2,1))+6)),"") -> 5 | G3: =IF(MONTH((DATE(年間!$C$1,2,1)-WEEKDAY(DATE(年間!$C$1,2,1))+7))=2,DAY((DATE(年間!$C$1,2,1)-WEEKDAY(DATE(年間!$C$1,2,1))+7)),"") -> 6
A4: =IF(MONTH((DATE(年間!$C$1,2,1)-WEEKDAY(DATE(年間!$C$1,2,1))+1))=2,IFERROR(VLOOKUP((DATE(年間!$C$1,2,1)-WEEKDAY(DATE(年間!$C$1,2,1))+1),祝日!$A$2:$B$75,2,FALSE),""),"") | B4: =IF(MONTH((DATE(年間!$C$1,2,1)-WEEKDAY(DATE(年間!$C$1,2,1))+2))=2,IFERROR(VLOOKUP((DATE(年間!$C$1,2,1)-WEEKDAY(DATE(年間!$C$1,2,1))+2),祝日!$A$2:$B$75,2,FALSE),""),"") | C4: =IF(MONTH((DATE(年間!$C$1,2,1)-WEEKDAY(DATE(年間!$C$1,2,1))+3))=2,IFERROR(VLOOKUP((DATE(年間!$C$1,2,1)-WEEKDAY(DATE(年間!$C$1,2,1))+3),祝日!$A$2:$B$75,2,FALSE),""),"") | D4: =IF(MONTH((DATE(年間!$C$1,2,1)-WEEKDAY(DATE(年間!$C$1,2,1))+4))=2,IFERROR(VLOOKUP((DATE(年間!$C$1,2,1)-WEEKDAY(DATE(年間!$C$1,2,1))+4),祝日!$A$2:$B$75,2,FALSE),""),"") | E4: =IF(MONTH((DATE(年間!$C$1,2,1)-WEEKDAY(DATE(年間!$C$1,2,1))+5))=2,IFERROR(VLOOKUP((DATE(年間!$C$1,2,1)-WEEKDAY(DATE(年間!$C$1,2,1))+5),祝日!$A$2:$B$75,2,FALSE),""),"") | F4: =IF(MONTH((DATE(年間!$C$1,2,1)-WEEKDAY(DATE(年間!$C$1,2,1))+6))=2,IFERROR(VLOOKUP((DATE(年間!$C$1,2,1)-WEEKDAY(DATE(年間!$C$1,2,1))+6),祝日!$A$2:$B$75,2,FALSE),""),"") | G4: =IF(MONTH((DATE(年間!$C$1,2,1)-WEEKDAY(DATE(年間!$C$1,2,1))+7))=2,IFERROR(VLOOKUP((DATE(年間!$C$1,2,1)-WEEKDAY(DATE(年間!$C$1,2,1))+7),祝日!$A$2:$B$75,2,FALSE),""),"")
A5: =IF(MONTH((DATE(年間!$C$1,2,1)-WEEKDAY(DATE(年間!$C$1,2,1))+8))=2,DAY((DATE(年間!$C$1,2,1)-WEEKDAY(DATE(年間!$C$1,2,1))+8)),"") -> 7 | B5: =IF(MONTH((DATE(年間!$C$1,2,1)-WEEKDAY(DATE(年間!$C$1,2,1))+9))=2,DAY((DATE(年間!$C$1,2,1)-WEEKDAY(DATE(年間!$C$1,2,1))+9)),"") -> 8 | C5: =IF(MONTH((DATE(年間!$C$1,2,1)-WEEKDAY(DATE(年間!$C$1,2,1))+10))=2,DAY((DATE(年間!$C$1,2,1)-WEEKDAY(DATE(年間!$C$1,2,1))+10)),"") -> 9 | D5: =IF(MONTH((DATE(年間!$C$1,2,1)-WEEKDAY(DATE(年間!$C$1,2,1))+11))=2,DAY((DATE(年間!$C$1,2,1)-WEEKDAY(DATE(年間!$C$1,2,1))+11)),"") -> 10 | E5: =IF(MONTH((DATE(年間!$C$1,2,1)-WEEKDAY(DATE(年間!$C$1,2,1))+12))=2,DAY((DATE(年間!$C$1,2,1)-WEEKDAY(DATE(年間!$C$1,2,1))+12)),"") -> 11 | F5: =IF(MONTH((DATE(年間!$C$1,2,1)-WEEKDAY(DATE(年間!$C$1,2,1))+13))=2,DAY((DATE(年間!$C$1,2,1)-WEEKDAY(DATE(年間!$C$1,2,1))+13)),"") -> 12 | G5: =IF(MONTH((DATE(年間!$C$1,2,1)-WEEKDAY(DATE(年間!$C$1,2,1))+14))=2,DAY((DATE(年間!$C$1,2,1)-WEEKDAY(DATE(年間!$C$1,2,1))+14)),"") -> 13
A6: =IF(MONTH((DATE(年間!$C$1,2,1)-WEEKDAY(DATE(年間!$C$1,2,1))+8))=2,IFERROR(VLOOKUP((DATE(年間!$C$1,2,1)-WEEKDAY(DATE(年間!$C$1,2,1))+8),祝日!$A$2:$B$75,2,FALSE),""),"") | B6: =IF(MONTH((DATE(年間!$C$1,2,1)-WEEKDAY(DATE(年間!$C$1,2,1))+9))=2,IFERROR(VLOOKUP((DATE(年間!$C$1,2,1)-WEEKDAY(DATE(年間!$C$1,2,1))+9),祝日!$A$2:$B$75,2,FALSE),""),"") | C6: =IF(MONTH((DATE(年間!$C$1,2,1)-WEEKDAY(DATE(年間!$C$1,2,1))+10))=2,IFERROR(VLOOKUP((DATE(年間!$C$1,2,1)-WEEKDAY(DATE(年間!$C$1,2,1))+10),祝日!$A$2:$B$75,2,FALSE),""),"") | D6: =IF(MONTH((DATE(年間!$C$1,2,1)-WEEKDAY(DATE(年間!$C$1,2,1))+11))=2,IFERROR(VLOOKUP((DATE(年間!$C$1,2,1)-WEEKDAY(DATE(年間!$C$1,2,1))+11),祝日!$A$2:$B$75,2,FALSE),""),"") | E6: =IF(MONTH((DATE(年間!$C$1,2,1)-WEEKDAY(DATE(年間!$C$1,2,1))+12))=2,IFERROR(VLOOKUP((DATE(年間!$C$1,2,1)-WEEKDAY(DATE(年間!$C$1,2,1))+12),祝日!$A$2:$B$75,2,FALSE),""),"") -> 建国記念の日 | F6: =IF(MONTH((DATE(年間!$C$1,2,1)-WEEKDAY(DATE(年間!$C$1,2,1))+13))=2,IFERROR(VLOOKUP((DATE(年間!$C$1,2,1)-WEEKDAY(DATE(年間!$C$1,2,1))+13),祝日!$A$2:$B$75,2,FALSE),""),"") | G6: =IF(MONTH((DATE(年間!$C$1,2,1)-WEEKDAY(DATE(年間!$C$1,2,1))+14))=2,IFERROR(VLOOKUP((DATE(年間!$C$1,2,1)-WEEKDAY(DATE(年間!$C$1,2,1))+14),祝日!$A$2:$B$75,2,FALSE),""),"")
A7: =IF(MONTH((DATE(年間!$C$1,2,1)-WEEKDAY(DATE(年間!$C$1,2,1))+15))=2,DAY((DATE(年間!$C$1,2,1)-WEEKDAY(DATE(年間!$C$1,2,1))+15)),"") -> 14 | B7: =IF(MONTH((DATE(年間!$C$1,2,1)-WEEKDAY(DATE(年間!$C$1,2,1))+16))=2,DAY((DATE(年間!$C$1,2,1)-WEEKDAY(DATE(年間!$C$1,2,1))+16)),"") -> 15 | C7: =IF(MONTH((DATE(年間!$C$1,2,1)-WEEKDAY(DATE(年間!$C$1,2,1))+17))=2,DAY((DATE(年間!$C$1,2,1)-WEEKDAY(DATE(年間!$C$1,2,1))+17)),"") -> 16 | D7: =IF(MONTH((DATE(年間!$C$1,2,1)-WEEKDAY(DATE(年間!$C$1,2,1))+18))=2,DAY((DATE(年間!$C$1,2,1)-WEEKDAY(DATE(年間!$C$1,2,1))+18)),"") -> 17 | E7: =IF(MONTH((DATE(年間!$C$1,2,1)-WEEKDAY(DATE(年間!$C$1,2,1))+19))=2,DAY((DATE(年間!$C$1,2,1)-WEEKDAY(DATE(年間!$C$1,2,1))+19)),"") -> 18 | F7: =IF(MONTH((DATE(年間!$C$1,2,1)-WEEKDAY(DATE(年間!$C$1,2,1))+20))=2,DAY((DATE(年間!$C$1,2,1)-WEEKDAY(DATE(年間!$C$1,2,1))+20)),"") -> 19 | G7: =IF(MONTH((DATE(年間!$C$1,2,1)-WEEKDAY(DATE(年間!$C$1,2,1))+21))=2,DAY((DATE(年間!$C$1,2,1)-WEEKDAY(DATE(年間!$C$1,2,1))+21)),"") -> 20
A8: =IF(MONTH((DATE(年間!$C$1,2,1)-WEEKDAY(DATE(年間!$C$1,2,1))+15))=2,IFERROR(VLOOKUP((DATE(年間!$C$1,2,1)-WEEKDAY(DATE(年間!$C$1,2,1))+15),祝日!$A$2:$B$75,2,FALSE),""),"") | B8: =IF(MONTH((DATE(年間!$C$1,2,1)-WEEKDAY(DATE(年間!$C$1,2,1))+16))=2,IFERROR(VLOOKUP((DATE(年間!$C$1,2,1)-WEEKDAY(DATE(年間!$C$1,2,1))+16),祝日!$A$2:$B$75,2,FALSE),""),"") | C8: =IF(MONTH((DATE(年間!$C$1,2,1)-WEEKDAY(DATE(年間!$C$1,2,1))+17))=2,IFERROR(VLOOKUP((DATE(年間!$C$1,2,1)-WEEKDAY(DATE(年間!$C$1,2,1))+17),祝日!$A$2:$B$75,2,FALSE),""),"") | D8: =IF(MONTH((DATE(年間!$C$1,2,1)-WEEKDAY(DATE(年間!$C$1,2,1))+18))=2,IFERROR(VLOOKUP((DATE(年間!$C$1,2,1)-WEEKDAY(DATE(年間!$C$1,2,1))+18),祝日!$A$2:$B$75,2,FALSE),""),"") | E8: =IF(MONTH((DATE(年間!$C$1,2,1)-WEEKDAY(DATE(年間!$C$1,2,1))+19))=2,IFERROR(VLOOKUP((DATE(年間!$C$1,2,1)-WEEKDAY(DATE(年間!$C$1,2,1))+19),祝日!$A$2:$B$75,2,FALSE),""),"") | F8: =IF(MONTH((DATE(年間!$C$1,2,1)-WEEKDAY(DATE(年間!$C$1,2,1))+20))=2,IFERROR(VLOOKUP((DATE(年間!$C$1,2,1)-WEEKDAY(DATE(年間!$C$1,2,1))+20),祝日!$A$2:$B$75,2,FALSE),""),"") | G8: =IF(MONTH((DATE(年間!$C$1,2,1)-WEEKDAY(DATE(年間!$C$1,2,1))+21))=2,IFERROR(VLOOKUP((DATE(年間!$C$1,2,1)-WEEKDAY(DATE(年間!$C$1,2,1))+21),祝日!$A$2:$B$75,2,FALSE),""),"")
A9: =IF(MONTH((DATE(年間!$C$1,2,1)-WEEKDAY(DATE(年間!$C$1,2,1))+22))=2,DAY((DATE(年間!$C$1,2,1)-WEEKDAY(DATE(年間!$C$1,2,1))+22)),"") -> 21 | B9: =IF(MONTH((DATE(年間!$C$1,2,1)-WEEKDAY(DATE(年間!$C$1,2,1))+23))=2,DAY((DATE(年間!$C$1,2,1)-WEEKDAY(DATE(年間!$C$1,2,1))+23)),"") -> 22 | C9: =IF(MONTH((DATE(年間!$C$1,2,1)-WEEKDAY(DATE(年間!$C$1,2,1))+24))=2,DAY((DATE(年間!$C$1,2,1)-WEEKDAY(DATE(年間!$C$1,2,1))+24)),"") -> 23 | D9: =IF(MONTH((DATE(年間!$C$1,2,1)-WEEKDAY(DATE(年間!$C$1,2,1))+25))=2,DAY((DATE(年間!$C$1,2,1)-WEEKDAY(DATE(年間!$C$1,2,1))+25)),"") -> 24 | E9: =IF(MONTH((DATE(年間!$C$1,2,1)-WEEKDAY(DATE(年間!$C$1,2,1))+26))=2,DAY((DATE(年間!$C$1,2,1)-WEEKDAY(DATE(年間!$C$1,2,1))+26)),"") -> 25 | F9: =IF(MONTH((DATE(年間!$C$1,2,1)-WEEKDAY(DATE(年間!$C$1,2,1))+27))=2,DAY((DATE(年間!$C$1,2,1)-WEEKDAY(DATE(年間!$C$1,2,1))+27)),"") -> 26 | G9: =IF(MONTH((DATE(年間!$C$1,2,1)-WEEKDAY(DATE(年間!$C$1,2,1))+28))=2,DAY((DATE(年間!$C$1,2,1)-WEEKDAY(DATE(年間!$C$1,2,1))+28)),"") -> 27
A10: =IF(MONTH((DATE(年間!$C$1,2,1)-WEEKDAY(DATE(年間!$C$1,2,1))+22))=2,IFERROR(VLOOKUP((DATE(年間!$C$1,2,1)-WEEKDAY(DATE(年間!$C$1,2,1))+22),祝日!$A$2:$B$75,2,FALSE),""),"") | B10: =IF(MONTH((DATE(年間!$C$1,2,1)-WEEKDAY(DATE(年間!$C$1,2,1))+23))=2,IFERROR(VLOOKUP((DATE(年間!$C$1,2,1)-WEEKDAY(DATE(年間!$C$1,2,1))+23),祝日!$A$2:$B$75,2,FALSE),""),"") | C10: =IF(MONTH((DATE(年間!$C$1,2,1)-WEEKDAY(DATE(年間!$C$1,2,1))+24))=2,IFERROR(VLOOKUP((DATE(年間!$C$1,2,1)-WEEKDAY(DATE(年間!$C$1,2,1))+24),祝日!$A$2:$B$75,2,FALSE),""),"") -> 天皇誕生日 | D10: =IF(MONTH((DATE(年間!$C$1,2,1)-WEEKDAY(DATE(年間!$C$1,2,1))+25))=2,IFERROR(VLOOKUP((DATE(年間!$C$1,2,1)-WEEKDAY(DATE(年間!$C$1,2,1))+25),祝日!$A$2:$B$75,2,FALSE),""),"") | E10: =IF(MONTH((DATE(年間!$C$1,2,1)-WEEKDAY(DATE(年間!$C$1,2,1))+26))=2,IFERROR(VLOOKUP((DATE(年間!$C$1,2,1)-WEEKDAY(DATE(年間!$C$1,2,1))+26),祝日!$A$2:$B$75,2,FALSE),""),"") | F10: =IF(MONTH((DATE(年間!$C$1,2,1)-WEEKDAY(DATE(年間!$C$1,2,1))+27))=2,IFERROR(VLOOKUP((DATE(年間!$C$1,2,1)-WEEKDAY(DATE(年間!$C$1,2,1))+27),祝日!$A$2:$B$75,2,FALSE),""),"") | G10: =IF(MONTH((DATE(年間!$C$1,2,1)-WEEKDAY(DATE(年間!$C$1,2,1))+28))=2,IFERROR(VLOOKUP((DATE(年間!$C$1,2,1)-WEEKDAY(DATE(年間!$C$1,2,1))+28),祝日!$A$2:$B$75,2,FALSE),""),"")
A11: =IF(MONTH((DATE(年間!$C$1,2,1)-WEEKDAY(DATE(年間!$C$1,2,1))+29))=2,DAY((DATE(年間!$C$1,2,1)-WEEKDAY(DATE(年間!$C$1,2,1))+29)),"") -> 28 | B11: =IF(MONTH((DATE(年間!$C$1,2,1)-WEEKDAY(DATE(年間!$C$1,2,1))+30))=2,DAY((DATE(年間!$C$1,2,1)-WEEKDAY(DATE(年間!$C$1,2,1))+30)),"") | C11: =IF(MONTH((DATE(年間!$C$1,2,1)-WEEKDAY(DATE(年間!$C$1,2,1))+31))=2,DAY((DATE(年間!$C$1,2,1)-WEEKDAY(DATE(年間!$C$1,2,1))+31)),"") | D11: =IF(MONTH((DATE(年間!$C$1,2,1)-WEEKDAY(DATE(年間!$C$1,2,1))+32))=2,DAY((DATE(年間!$C$1,2,1)-WEEKDAY(DATE(年間!$C$1,2,1))+32)),"") | E11: =IF(MONTH((DATE(年間!$C$1,2,1)-WEEKDAY(DATE(年間!$C$1,2,1))+33))=2,DAY((DATE(年間!$C$1,2,1)-WEEKDAY(DATE(年間!$C$1,2,1))+33)),"") | F11: =IF(MONTH((DATE(年間!$C$1,2,1)-WEEKDAY(DATE(年間!$C$1,2,1))+34))=2,DAY((DATE(年間!$C$1,2,1)-WEEKDAY(DATE(年間!$C$1,2,1))+34)),"") | G11: =IF(MONTH((DATE(年間!$C$1,2,1)-WEEKDAY(DATE(年間!$C$1,2,1))+35))=2,DAY((DATE(年間!$C$1,2,1)-WEEKDAY(DATE(年間!$C$1,2,1))+35)),"")
A12: =IF(MONTH((DATE(年間!$C$1,2,1)-WEEKDAY(DATE(年間!$C$1,2,1))+29))=2,IFERROR(VLOOKUP((DATE(年間!$C$1,2,1)-WEEKDAY(DATE(年間!$C$1,2,1))+29),祝日!$A$2:$B$75,2,FALSE),""),"") | B12: =IF(MONTH((DATE(年間!$C$1,2,1)-WEEKDAY(DATE(年間!$C$1,2,1))+30))=2,IFERROR(VLOOKUP((DATE(年間!$C$1,2,1)-WEEKDAY(DATE(年間!$C$1,2,1))+30),祝日!$A$2:$B$75,2,FALSE),""),"") | C12: =IF(MONTH((DATE(年間!$C$1,2,1)-WEEKDAY(DATE(年間!$C$1,2,1))+31))=2,IFERROR(VLOOKUP((DATE(年間!$C$1,2,1)-WEEKDAY(DATE(年間!$C$1,2,1))+31),祝日!$A$2:$B$75,2,FALSE),""),"") | D12: =IF(MONTH((DATE(年間!$C$1,2,1)-WEEKDAY(DATE(年間!$C$1,2,1))+32))=2,IFERROR(VLOOKUP((DATE(年間!$C$1,2,1)-WEEKDAY(DATE(年間!$C$1,2,1))+32),祝日!$A$2:$B$75,2,FALSE),""),"") | E12: =IF(MONTH((DATE(年間!$C$1,2,1)-WEEKDAY(DATE(年間!$C$1,2,1))+33))=2,IFERROR(VLOOKUP((DATE(年間!$C$1,2,1)-WEEKDAY(DATE(年間!$C$1,2,1))+33),祝日!$A$2:$B$75,2,FALSE),""),"") | F12: =IF(MONTH((DATE(年間!$C$1,2,1)-WEEKDAY(DATE(年間!$C$1,2,1))+34))=2,IFERROR(VLOOKUP((DATE(年間!$C$1,2,1)-WEEKDAY(DATE(年間!$C$1,2,1))+34),祝日!$A$2:$B$75,2,FALSE),""),"") | G12: =IF(MONTH((DATE(年間!$C$1,2,1)-WEEKDAY(DATE(年間!$C$1,2,1))+35))=2,IFERROR(VLOOKUP((DATE(年間!$C$1,2,1)-WEEKDAY(DATE(年間!$C$1,2,1))+35),祝日!$A$2:$B$75,2,FALSE),""),"")
A13: =IF(MONTH((DATE(年間!$C$1,2,1)-WEEKDAY(DATE(年間!$C$1,2,1))+36))=2,DAY((DATE(年間!$C$1,2,1)-WEEKDAY(DATE(年間!$C$1,2,1))+36)),"") | B13: =IF(MONTH((DATE(年間!$C$1,2,1)-WEEKDAY(DATE(年間!$C$1,2,1))+37))=2,DAY((DATE(年間!$C$1,2,1)-WEEKDAY(DATE(年間!$C$1,2,1))+37)),"") | C13: =IF(MONTH((DATE(年間!$C$1,2,1)-WEEKDAY(DATE(年間!$C$1,2,1))+38))=2,DAY((DATE(年間!$C$1,2,1)-WEEKDAY(DATE(年間!$C$1,2,1))+38)),"") | D13: =IF(MONTH((DATE(年間!$C$1,2,1)-WEEKDAY(DATE(年間!$C$1,2,1))+39))=2,DAY((DATE(年間!$C$1,2,1)-WEEKDAY(DATE(年間!$C$1,2,1))+39)),"") | E13: =IF(MONTH((DATE(年間!$C$1,2,1)-WEEKDAY(DATE(年間!$C$1,2,1))+40))=2,DAY((DATE(年間!$C$1,2,1)-WEEKDAY(DATE(年間!$C$1,2,1))+40)),"") | F13: =IF(MONTH((DATE(年間!$C$1,2,1)-WEEKDAY(DATE(年間!$C$1,2,1))+41))=2,DAY((DATE(年間!$C$1,2,1)-WEEKDAY(DATE(年間!$C$1,2,1))+41)),"") | G13: =IF(MONTH((DATE(年間!$C$1,2,1)-WEEKDAY(DATE(年間!$C$1,2,1))+42))=2,DAY((DATE(年間!$C$1,2,1)-WEEKDAY(DATE(年間!$C$1,2,1))+42)),"")
A14: =IF(MONTH((DATE(年間!$C$1,2,1)-WEEKDAY(DATE(年間!$C$1,2,1))+36))=2,IFERROR(VLOOKUP((DATE(年間!$C$1,2,1)-WEEKDAY(DATE(年間!$C$1,2,1))+36),祝日!$A$2:$B$75,2,FALSE),""),"") | B14: =IF(MONTH((DATE(年間!$C$1,2,1)-WEEKDAY(DATE(年間!$C$1,2,1))+37))=2,IFERROR(VLOOKUP((DATE(年間!$C$1,2,1)-WEEKDAY(DATE(年間!$C$1,2,1))+37),祝日!$A$2:$B$75,2,FALSE),""),"") | C14: =IF(MONTH((DATE(年間!$C$1,2,1)-WEEKDAY(DATE(年間!$C$1,2,1))+38))=2,IFERROR(VLOOKUP((DATE(年間!$C$1,2,1)-WEEKDAY(DATE(年間!$C$1,2,1))+38),祝日!$A$2:$B$75,2,FALSE),""),"") | D14: =IF(MONTH((DATE(年間!$C$1,2,1)-WEEKDAY(DATE(年間!$C$1,2,1))+39))=2,IFERROR(VLOOKUP((DATE(年間!$C$1,2,1)-WEEKDAY(DATE(年間!$C$1,2,1))+39),祝日!$A$2:$B$75,2,FALSE),""),"") | E14: =IF(MONTH((DATE(年間!$C$1,2,1)-WEEKDAY(DATE(年間!$C$1,2,1))+40))=2,IFERROR(VLOOKUP((DATE(年間!$C$1,2,1)-WEEKDAY(DATE(年間!$C$1,2,1))+40),祝日!$A$2:$B$75,2,FALSE),""),"") | F14: =IF(MONTH((DATE(年間!$C$1,2,1)-WEEKDAY(DATE(年間!$C$1,2,1))+41))=2,IFERROR(VLOOKUP((DATE(年間!$C$1,2,1)-WEEKDAY(DATE(年間!$C$1,2,1))+41),祝日!$A$2:$B$75,2,FALSE),""),"") | G14: =IF(MONTH((DATE(年間!$C$1,2,1)-WEEKDAY(DATE(年間!$C$1,2,1))+42))=2,IFERROR(VLOOKUP((DATE(年間!$C$1,2,1)-WEEKDAY(DATE(年間!$C$1,2,1))+42),祝日!$A$2:$B$75,2,FALSE),""),"")

Sheet 3月
A1: =年間!$C$1&"年 3月" -> 2027年 3月
A2: 日 | B2: 月 | C2: 火 | D2: 水 | E2: 木 | F2: 金 | G2: 土
A3: =IF(MONTH((DATE(年間!$C$1,3,1)-WEEKDAY(DATE(年間!$C$1,3,1))+1))=3,DAY((DATE(年間!$C$1,3,1)-WEEKDAY(DATE(年間!$C$1,3,1))+1)),"") | B3: =IF(MONTH((DATE(年間!$C$1,3,1)-WEEKDAY(DATE(年間!$C$1,3,1))+2))=3,DAY((DATE(年間!$C$1,3,1)-WEEKDAY(DATE(年間!$C$1,3,1))+2)),"") -> 1 | C3: =IF(MONTH((DATE(年間!$C$1,3,1)-WEEKDAY(DATE(年間!$C$1,3,1))+3))=3,DAY((DATE(年間!$C$1,3,1)-WEEKDAY(DATE(年間!$C$1,3,1))+3)),"") -> 2 | D3: =IF(MONTH((DATE(年間!$C$1,3,1)-WEEKDAY(DATE(年間!$C$1,3,1))+4))=3,DAY((DATE(年間!$C$1,3,1)-WEEKDAY(DATE(年間!$C$1,3,1))+4)),"") -> 3 | E3: =IF(MONTH((DATE(年間!$C$1,3,1)-WEEKDAY(DATE(年間!$C$1,3,1))+5))=3,DAY((DATE(年間!$C$1,3,1)-WEEKDAY(DATE(年間!$C$1,3,1))+5)),"") -> 4 | F3: =IF(MONTH((DATE(年間!$C$1,3,1)-WEEKDAY(DATE(年間!$C$1,3,1))+6))=3,DAY((DATE(年間!$C$1,3,1)-WEEKDAY(DATE(年間!$C$1,3,1))+6)),"") -> 5 | G3: =IF(MONTH((DATE(年間!$C$1,3,1)-WEEKDAY(DATE(年間!$C$1,3,1))+7))=3,DAY((DATE(年間!$C$1,3,1)-WEEKDAY(DATE(年間!$C$1,3,1))+7)),"") -> 6
A4: =IF(MONTH((DATE(年間!$C$1,3,1)-WEEKDAY(DATE(年間!$C$1,3,1))+1))=3,IFERROR(VLOOKUP((DATE(年間!$C$1,3,1)-WEEKDAY(DATE(年間!$C$1,3,1))+1),祝日!$A$2:$B$75,2,FALSE),""),"") | B4: =IF(MONTH((DATE(年間!$C$1,3,1)-WEEKDAY(DATE(年間!$C$1,3,1))+2))=3,IFERROR(VLOOKUP((DATE(年間!$C$1,3,1)-WEEKDAY(DATE(年間!$C$1,3,1))+2),祝日!$A$2:$B$75,2,FALSE),""),"") | C4: =IF(MONTH((DATE(年間!$C$1,3,1)-WEEKDAY(DATE(年間!$C$1,3,1))+3))=3,IFERROR(VLOOKUP((DATE(年間!$C$1,3,1)-WEEKDAY(DATE(年間!$C$1,3,1))+3),祝日!$A$2:$B$75,2,FALSE),""),"") | D4: =IF(MONTH((DATE(年間!$C$1,3,1)-WEEKDAY(DATE(年間!$C$1,3,1))+4))=3,IFERROR(VLOOKUP((DATE(年間!$C$1,3,1)-WEEKDAY(DATE(年間!$C$1,3,1))+4),祝日!$A$2:$B$75,2,FALSE),""),"") | E4: =IF(MONTH((DATE(年間!$C$1,3,1)-WEEKDAY(DATE(年間!$C$1,3,1))+5))=3,IFERROR(VLOOKUP((DATE(年間!$C$1,3,1)-WEEKDAY(DATE(年間!$C$1,3,1))+5),祝日!$A$2:$B$75,2,FALSE),""),"") | F4: =IF(MONTH((DATE(年間!$C$1,3,1)-WEEKDAY(DATE(年間!$C$1,3,1))+6))=3,IFERROR(VLOOKUP((DATE(年間!$C$1,3,1)-WEEKDAY(DATE(年間!$C$1,3,1))+6),祝日!$A$2:$B$75,2,FALSE),""),"") | G4: =IF(MONTH((DATE(年間!$C$1,3,1)-WEEKDAY(DATE(年間!$C$1,3,1))+7))=3,IFERROR(VLOOKUP((DATE(年間!$C$1,3,1)-WEEKDAY(DATE(年間!$C$1,3,1))+7),祝日!$A$2:$B$75,2,FALSE),""),"")
A5: =IF(MONTH((DATE(年間!$C$1,3,1)-WEEKDAY(DATE(年間!$C$1,3,1))+8))=3,DAY((DATE(年間!$C$1,3,1)-WEEKDAY(DATE(年間!$C$1,3,1))+8)),"") -> 7 | B5: =IF(MONTH((DATE(年間!$C$1,3,1)-WEEKDAY(DATE(年間!$C$1,3,1))+9))=3,DAY((DATE(年間!$C$1,3,1)-WEEKDAY(DATE(年間!$C$1,3,1))+9)),"") -> 8 | C5: =IF(MONTH((DATE(年間!$C$1,3,1)-WEEKDAY(DATE(年間!$C$1,3,1))+10))=3,DAY((DATE(年間!$C$1,3,1)-WEEKDAY(DATE(年間!$C$1,3,1))+10)),"") -> 9 | D5: =IF(MONTH((DATE(年間!$C$1,3,1)-WEEKDAY(DATE(年間!$C$1,3,1))+11))=3,DAY((DATE(年間!$C$1,3,1)-WEEKDAY(DATE(年間!$C$1,3,1))+11)),"") -> 10 | E5: =IF(MONTH((DATE(年間!$C$1,3,1)-WEEKDAY(DATE(年間!$C$1,3,1))+12))=3,DAY((DATE(年間!$C$1,3,1)-WEEKDAY(DATE(年間!$C$1,3,1))+12)),"") -> 11 | F5: =IF(MONTH((DATE(年間!$C$1,3,1)-WEEKDAY(DATE(年間!$C$1,3,1))+13))=3,DAY((DATE(年間!$C$1,3,1)-WEEKDAY(DATE(年間!$C$1,3,1))+13)),"") -> 12 | G5: =IF(MONTH((DATE(年間!$C$1,3,1)-WEEKDAY(DATE(年間!$C$1,3,1))+14))=3,DAY((DATE(年間!$C$1,3,1)-WEEKDAY(DATE(年間!$C$1,3,1))+14)),"") -> 13
A6: =IF(MONTH((DATE(年間!$C$1,3,1)-WEEKDAY(DATE(年間!$C$1,3,1))+8))=3,IFERROR(VLOOKUP((DATE(年間!$C$1,3,1)-WEEKDAY(DATE(年間!$C$1,3,1))+8),祝日!$A$2:$B$75,2,FALSE),""),"") | B6: =IF(MONTH((DATE(年間!$C$1,3,1)-WEEKDAY(DATE(年間!$C$1,3,1))+9))=3,IFERROR(VLOOKUP((DATE(年間!$C$1,3,1)-WEEKDAY(DATE(年間!$C$1,3,1))+9),祝日!$A$2:$B$75,2,FALSE),""),"") | C6: =IF(MONTH((DATE(年間!$C$1,3,1)-WEEKDAY(DATE(年間!$C$1,3,1))+10))=3,IFERROR(VLOOKUP((DATE(年間!$C$1,3,1)-WEEKDAY(DATE(年間!$C$1,3,1))+10),祝日!$A$2:$B$75,2,FALSE),""),"") | D6: =IF(MONTH((DATE(年間!$C$1,3,1)-WEEKDAY(DATE(年間!$C$1,3,1))+11))=3,IFERROR(VLOOKUP((DATE(年間!$C$1,3,1)-WEEKDAY(DATE(年間!$C$1,3,1))+11),祝日!$A$2:$B$75,2,FALSE),""),"") | E6: =IF(MONTH((DATE(年間!$C$1,3,1)-WEEKDAY(DATE(年間!$C$1,3,1))+12))=3,IFERROR(VLOOKUP((DATE(年間!$C$1,3,1)-WEEKDAY(DATE(年間!$C$1,3,1))+12),祝日!$A$2:$B$75,2,FALSE),""),"") | F6: =IF(MONTH((DATE(年間!$C$1,3,1)-WEEKDAY(DATE(年間!$C$1,3,1))+13))=3,IFERROR(VLOOKUP((DATE(年間!$C$1,3,1)-WEEKDAY(DATE(年間!$C$1,3,1))+13),祝日!$A$2:$B$75,2,FALSE),""),"") | G6: =IF(MONTH((DATE(年間!$C$1,3,1)-WEEKDAY(DATE(年間!$C$1,3,1))+14))=3,IFERROR(VLOOKUP((DATE(年間!$C$1,3,1)-WEEKDAY(DATE(年間!$C$1,3,1))+14),祝日!$A$2:$B$75,2,FALSE),""),"")
A7: =IF(MONTH((DATE(年間!$C$1,3,1)-WEEKDAY(DATE(年間!$C$1,3,1))+15))=3,DAY((DATE(年間!$C$1,3,1)-WEEKDAY(DATE(年間!$C$1,3,1))+15)),"") -> 14 | B7: =IF(MONTH((DATE(年間!$C$1,3,1)-WEEKDAY(DATE(年間!$C$1,3,1))+16))=3,DAY((DATE(年間!$C$1,3,1)-WEEKDAY(DATE(年間!$C$1,3,1))+16)),"") -> 15 | C7: =IF(MONTH((DATE(年間!$C$1,3,1)-WEEKDAY(DATE(年間!$C$1,3,1))+17))=3,DAY((DATE(年間!$C$1,3,1)-WEEKDAY(DATE(年間!$C$1,3,1))+17)),"") -> 16 | D7: =IF(MONTH((DATE(年間!$C$1,3,1)-WEEKDAY(DATE(年間!$C$1,3,1))+18))=3,DAY((DATE(年間!$C$1,3,1)-WEEKDAY(DATE(年間!$C$1,3,1))+18)),"") -> 17 | E7: =IF(MONTH((DATE(年間!$C$1,3,1)-WEEKDAY(DATE(年間!$C$1,3,1))+19))=3,DAY((DATE(年間!$C$1,3,1)-WEEKDAY(DATE(年間!$C$1,3,1))+19)),"") -> 18 | F7: =IF(MONTH((DATE(年間!$C$1,3,1)-WEEKDAY(DATE(年間!$C$1,3,1))+20))=3,DAY((DATE(年間!$C$1,3,1)-WEEKDAY(DATE(年間!$C$1,3,1))+20)),"") -> 19 | G7: =IF(MONTH((DATE(年間!$C$1,3,1)-WEEKDAY(DATE(年間!$C$1,3,1))+21))=3,DAY((DATE(年間!$C$1,3,1)-WEEKDAY(DATE(年間!$C$1,3,1))+21)),"") -> 20
A8: =IF(MONTH((DATE(年間!$C$1,3,1)-WEEKDAY(DATE(年間!$C$1,3,1))+15))=3,IFERROR(VLOOKUP((DATE(年間!$C$1,3,1)-WEEKDAY(DATE(年間!$C$1,3,1))+15),祝日!$A$2:$B$75,2,FALSE),""),"") | B8: =IF(MONTH((DATE(年間!$C$1,3,1)-WEEKDAY(DATE(年間!$C$1,3,1))+16))=3,IFERROR(VLOOKUP((DATE(年間!$C$1,3,1)-WEEKDAY(DATE(年間!$C$1,3,1))+16),祝日!$A$2:$B$75,2,FALSE),""),"") | C8: =IF(MONTH((DATE(年間!$C$1,3,1)-WEEKDAY(DATE(年間!$C$1,3,1))+17))=3,IFERROR(VLOOKUP((DATE(年間!$C$1,3,1)-WEEKDAY(DATE(年間!$C$1,3,1))+17),祝日!$A$2:$B$75,2,FALSE),""),"") | D8: =IF(MONTH((DATE(年間!$C$1,3,1)-WEEKDAY(DATE(年間!$C$1,3,1))+18))=3,IFERROR(VLOOKUP((DATE(年間!$C$1,3,1)-WEEKDAY(DATE(年間!$C$1,3,1))+18),祝日!$A$2:$B$75,2,FALSE),""),"") | E8: =IF(MONTH((DATE(年間!$C$1,3,1)-WEEKDAY(DATE(年間!$C$1,3,1))+19))=3,IFERROR(VLOOKUP((DATE(年間!$C$1,3,1)-WEEKDAY(DATE(年間!$C$1,3,1))+19),祝日!$A$2:$B$75,2,FALSE),""),"") | F8: =IF(MONTH((DATE(年間!$C$1,3,1)-WEEKDAY(DATE(年間!$C$1,3,1))+20))=3,IFERROR(VLOOKUP((DATE(年間!$C$1,3,1)-WEEKDAY(DATE(年間!$C$1,3,1))+20),祝日!$A$2:$B$75,2,FALSE),""),"") | G8: =IF(MONTH((DATE(年間!$C$1,3,1)-WEEKDAY(DATE(年間!$C$1,3,1))+21))=3,IFERROR(VLOOKUP((DATE(年間!$C$1,3,1)-WEEKDAY(DATE(年間!$C$1,3,1))+21),祝日!$A$2:$B$75,2,FALSE),""),"")
A9: =IF(MONTH((DATE(年間!$C$1,3,1)-WEEKDAY(DATE(年間!$C$1,3,1))+22))=3,DAY((DATE(年間!$C$1,3,1)-WEEKDAY(DATE(年間!$C$1,3,1))+22)),"") -> 21 | B9: =IF(MONTH((DATE(年間!$C$1,3,1)-WEEKDAY(DATE(年間!$C$1,3,1))+23))=3,DAY((DATE(年間!$C$1,3,1)-WEEKDAY(DATE(年間!$C$1,3,1))+23)),"") -> 22 | C9: =IF(MONTH((DATE(年間!$C$1,3,1)-WEEKDAY(DATE(年間!$C$1,3,1))+24))=3,DAY((DATE(年間!$C$1,3,1)-WEEKDAY(DATE(年間!$C$1,3,1))+24)),"") -> 23 | D9: =IF(MONTH((DATE(年間!$C$1,3,1)-WEEKDAY(DATE(年間!$C$1,3,1))+25))=3,DAY((DATE(年間!$C$1,3,1)-WEEKDAY(DATE(年間!$C$1,3,1))+25)),"") -> 24 | E9: =IF(MONTH((DATE(年間!$C$1,3,1)-WEEKDAY(DATE(年間!$C$1,3,1))+26))=3,DAY((DATE(年間!$C$1,3,1)-WEEKDAY(DATE(年間!$C$1,3,1))+26)),"") -> 25 | F9: =IF(MONTH((DATE(年間!$C$1,3,1)-WEEKDAY(DATE(年間!$C$1,3,1))+27))=3,DAY((DATE(年間!$C$1,3,1)-WEEKDAY(DATE(年間!$C$1,3,1))+27)),"") -> 26 | G9: =IF(MONTH((DATE(年間!$C$1,3,1)-WEEKDAY(DATE(年間!$C$1,3,1))+28))=3,DAY((DATE(年間!$C$1,3,1)-WEEKDAY(DATE(年間!$C$1,3,1))+28)),"") -> 27
A10: =IF(MONTH((DATE(年間!$C$1,3,1)-WEEKDAY(DATE(年間!$C$1,3,1))+22))=3,IFERROR(VLOOKUP((DATE(年間!$C$1,3,1)-WEEKDAY(DATE(年間!$C$1,3,1))+22),祝日!$A$2:$B$75,2,FALSE),""),"") -> 春分の日 | B10: =IF(MONTH((DATE(年間!$C$1,3,1)-WEEKDAY(DATE(年間!$C$1,3,1))+23))=3,IFERROR(VLOOKUP((DATE(年間!$C$1,3,1)-WEEKDAY(DATE(年間!$C$1,3,1))+23),祝日!$A$2:$B$75,2,FALSE),""),"") -> 振替休日 | C10: =IF(MONTH((DATE(年間!$C$1,3,1)-WEEKDAY(DATE(年間!$C$1,3,1))+24))=3,IFERROR(VLOOKUP((DATE(年間!$C$1,3,1)-WEEKDAY(DATE(年間!$C$1,3,1))+24),祝日!$A$2:$B$75,2,FALSE),""),"") | D10: =IF(MONTH((DATE(年間!$C$1,3,1)-WEEKDAY(DATE(年間!$C$1,3,1))+25))=3,IFERROR(VLOOKUP((DATE(年間!$C$1,3,1)-WEEKDAY(DATE(年間!$C$1,3,1))+25),祝日!$A$2:$B$75,2,FALSE),""),"") | E10: =IF(MONTH((DATE(年間!$C$1,3,1)-WEEKDAY(DATE(年間!$C$1,3,1))+26))=3,IFERROR(VLOOKUP((DATE(年間!$C$1,3,1)-WEEKDAY(DATE(年間!$C$1,3,1))+26),祝日!$A$2:$B$75,2,FALSE),""),"") | F10: =IF(MONTH((DATE(年間!$C$1,3,1)-WEEKDAY(DATE(年間!$C$1,3,1))+27))=3,IFERROR(VLOOKUP((DATE(年間!$C$1,3,1)-WEEKDAY(DATE(年間!$C$1,3,1))+27),祝日!$A$2:$B$75,2,FALSE),""),"") | G10: =IF(MONTH((DATE(年間!$C$1,3,1)-WEEKDAY(DATE(年間!$C$1,3,1))+28))=3,IFERROR(VLOOKUP((DATE(年間!$C$1,3,1)-WEEKDAY(DATE(年間!$C$1,3,1))+28),祝日!$A$2:$B$75,2,FALSE),""),"")
A11: =IF(MONTH((DATE(年間!$C$1,3,1)-WEEKDAY(DATE(年間!$C$1,3,1))+29))=3,DAY((DATE(年間!$C$1,3,1)-WEEKDAY(DATE(年間!$C$1,3,1))+29)),"") -> 28 | B11: =IF(MONTH((DATE(年間!$C$1,3,1)-WEEKDAY(DATE(年間!$C$1,3,1))+30))=3,DAY((DATE(年間!$C$1,3,1)-WEEKDAY(DATE(年間!$C$1,3,1))+30)),"") -> 29 | C11: =IF(MONTH((DATE(年間!$C$1,3,1)-WEEKDAY(DATE(年間!$C$1,3,1))+31))=3,DAY((DATE(年間!$C$1,3,1)-WEEKDAY(DATE(年間!$C$1,3,1))+31)),"") -> 30 | D11: =IF(MONTH((DATE(年間!$C$1,3,1)-WEEKDAY(DATE(年間!$C$1,3,1))+32))=3,DAY((DATE(年間!$C$1,3,1)-WEEKDAY(DATE(年間!$C$1,3,1))+32)),"") -> 31 | E11: =IF(MONTH((DATE(年間!$C$1,3,1)-WEEKDAY(DATE(年間!$C$1,3,1))+33))=3,DAY((DATE(年間!$C$1,3,1)-WEEKDAY(DATE(年間!$C$1,3,1))+33)),"") | F11: =IF(MONTH((DATE(年間!$C$1,3,1)-WEEKDAY(DATE(年間!$C$1,3,1))+34))=3,DAY((DATE(年間!$C$1,3,1)-WEEKDAY(DATE(年間!$C$1,3,1))+34)),"") | G11: =IF(MONTH((DATE(年間!$C$1,3,1)-WEEKDAY(DATE(年間!$C$1,3,1))+35))=3,DAY((DATE(年間!$C$1,3,1)-WEEKDAY(DATE(年間!$C$1,3,1))+35)),"")
A12: =IF(MONTH((DATE(年間!$C$1,3,1)-WEEKDAY(DATE(年間!$C$1,3,1))+29))=3,IFERROR(VLOOKUP((DATE(年間!$C$1,3,1)-WEEKDAY(DATE(年間!$C$1,3,1))+29),祝日!$A$2:$B$75,2,FALSE),""),"") | B12: =IF(MONTH((DATE(年間!$C$1,3,1)-WEEKDAY(DATE(年間!$C$1,3,1))+30))=3,IFERROR(VLOOKUP((DATE(年間!$C$1,3,1)-WEEKDAY(DATE(年間!$C$1,3,1))+30),祝日!$A$2:$B$75,2,FALSE),""),"") | C12: =IF(MONTH((DATE(年間!$C$1,3,1)-WEEKDAY(DATE(年間!$C$1,3,1))+31))=3,IFERROR(VLOOKUP((DATE(年間!$C$1,3,1)-WEEKDAY(DATE(年間!$C$1,3,1))+31),祝日!$A$2:$B$75,2,FALSE),""),"") | D12: =IF(MONTH((DATE(年間!$C$1,3,1)-WEEKDAY(DATE(年間!$C$1,3,1))+32))=3,IFERROR(VLOOKUP((DATE(年間!$C$1,3,1)-WEEKDAY(DATE(年間!$C$1,3,1))+32),祝日!$A$2:$B$75,2,FALSE),""),"") | E12: =IF(MONTH((DATE(年間!$C$1,3,1)-WEEKDAY(DATE(年間!$C$1,3,1))+33))=3,IFERROR(VLOOKUP((DATE(年間!$C$1,3,1)-WEEKDAY(DATE(年間!$C$1,3,1))+33),祝日!$A$2:$B$75,2,FALSE),""),"") | F12: =IF(MONTH((DATE(年間!$C$1,3,1)-WEEKDAY(DATE(年間!$C$1,3,1))+34))=3,IFERROR(VLOOKUP((DATE(年間!$C$1,3,1)-WEEKDAY(DATE(年間!$C$1,3,1))+34),祝日!$A$2:$B$75,2,FALSE),""),"") | G12: =IF(MONTH((DATE(年間!$C$1,3,1)-WEEKDAY(DATE(年間!$C$1,3,1))+35))=3,IFERROR(VLOOKUP((DATE(年間!$C$1,3,1)-WEEKDAY(DATE(年間!$C$1,3,1))+35),祝日!$A$2:$B$75,2,FALSE),""),"")
A13: =IF(MONTH((DATE(年間!$C$1,3,1)-WEEKDAY(DATE(年間!$C$1,3,1))+36))=3,DAY((DATE(年間!$C$1,3,1)-WEEKDAY(DATE(年間!$C$1,3,1))+36)),"") | B13: =IF(MONTH((DATE(年間!$C$1,3,1)-WEEKDAY(DATE(年間!$C$1,3,1))+37))=3,DAY((DATE(年間!$C$1,3,1)-WEEKDAY(DATE(年間!$C$1,3,1))+37)),"") | C13: =IF(MONTH((DATE(年間!$C$1,3,1)-WEEKDAY(DATE(年間!$C$1,3,1))+38))=3,DAY((DATE(年間!$C$1,3,1)-WEEKDAY(DATE(年間!$C$1,3,1))+38)),"") | D13: =IF(MONTH((DATE(年間!$C$1,3,1)-WEEKDAY(DATE(年間!$C$1,3,1))+39))=3,DAY((DATE(年間!$C$1,3,1)-WEEKDAY(DATE(年間!$C$1,3,1))+39)),"") | E13: =IF(MONTH((DATE(年間!$C$1,3,1)-WEEKDAY(DATE(年間!$C$1,3,1))+40))=3,DAY((DATE(年間!$C$1,3,1)-WEEKDAY(DATE(年間!$C$1,3,1))+40)),"") | F13: =IF(MONTH((DATE(年間!$C$1,3,1)-WEEKDAY(DATE(年間!$C$1,3,1))+41))=3,DAY((DATE(年間!$C$1,3,1)-WEEKDAY(DATE(年間!$C$1,3,1))+41)),"") | G13: =IF(MONTH((DATE(年間!$C$1,3,1)-WEEKDAY(DATE(年間!$C$1,3,1))+42))=3,DAY((DATE(年間!$C$1,3,1)-WEEKDAY(DATE(年間!$C$1,3,1))+42)),"")
A14: =IF(MONTH((DATE(年間!$C$1,3,1)-WEEKDAY(DATE(年間!$C$1,3,1))+36))=3,IFERROR(VLOOKUP((DATE(年間!$C$1,3,1)-WEEKDAY(DATE(年間!$C$1,3,1))+36),祝日!$A$2:$B$75,2,FALSE),""),"") | B14: =IF(MONTH((DATE(年間!$C$1,3,1)-WEEKDAY(DATE(年間!$C$1,3,1))+37))=3,IFERROR(VLOOKUP((DATE(年間!$C$1,3,1)-WEEKDAY(DATE(年間!$C$1,3,1))+37),祝日!$A$2:$B$75,2,FALSE),""),"") | C14: =IF(MONTH((DATE(年間!$C$1,3,1)-WEEKDAY(DATE(年間!$C$1,3,1))+38))=3,IFERROR(VLOOKUP((DATE(年間!$C$1,3,1)-WEEKDAY(DATE(年間!$C$1,3,1))+38),祝日!$A$2:$B$75,2,FALSE),""),"") | D14: =IF(MONTH((DATE(年間!$C$1,3,1)-WEEKDAY(DATE(年間!$C$1,3,1))+39))=3,IFERROR(VLOOKUP((DATE(年間!$C$1,3,1)-WEEKDAY(DATE(年間!$C$1,3,1))+39),祝日!$A$2:$B$75,2,FALSE),""),"") | E14: =IF(MONTH((DATE(年間!$C$1,3,1)-WEEKDAY(DATE(年間!$C$1,3,1))+40))=3,IFERROR(VLOOKUP((DATE(年間!$C$1,3,1)-WEEKDAY(DATE(年間!$C$1,3,1))+40),祝日!$A$2:$B$75,2,FALSE),""),"") | F14: =IF(MONTH((DATE(年間!$C$1,3,1)-WEEKDAY(DATE(年間!$C$1,3,1))+41))=3,IFERROR(VLOOKUP((DATE(年間!$C$1,3,1)-WEEKDAY(DATE(年間!$C$1,3,1))+41),祝日!$A$2:$B$75,2,FALSE),""),"") | G14: =IF(MONTH((DATE(年間!$C$1,3,1)-WEEKDAY(DATE(年間!$C$1,3,1))+42))=3,IFERROR(VLOOKUP((DATE(年間!$C$1,3,1)-WEEKDAY(DATE(年間!$C$1,3,1))+42),祝日!$A$2:$B$75,2,FALSE),""),"")

Sheet 4月
A1: =年間!$C$1&"年 4月" -> 2027年 4月
A2: 日 | B2: 月 | C2: 火 | D2: 水 | E2: 木 | F2: 金 | G2: 土
A3: =IF(MONTH((DATE(年間!$C$1,4,1)-WEEKDAY(DATE(年間!$C$1,4,1))+1))=4,DAY((DATE(年間!$C$1,4,1)-WEEKDAY(DATE(年間!$C$1,4,1))+1)),"") | B3: =IF(MONTH((DATE(年間!$C$1,4,1)-WEEKDAY(DATE(年間!$C$1,4,1))+2))=4,DAY((DATE(年間!$C$1,4,1)-WEEKDAY(DATE(年間!$C$1,4,1))+2)),"") | C3: =IF(MONTH((DATE(年間!$C$1,4,1)-WEEKDAY(DATE(年間!$C$1,4,1))+3))=4,DAY((DATE(年間!$C$1,4,1)-WEEKDAY(DATE(年間!$C$1,4,1))+3)),"") | D3: =IF(MONTH((DATE(年間!$C$1,4,1)-WEEKDAY(DATE(年間!$C$1,4,1))+4))=4,DAY((DATE(年間!$C$1,4,1)-WEEKDAY(DATE(年間!$C$1,4,1))+4)),"") | E3: =IF(MONTH((DATE(年間!$C$1,4,1)-WEEKDAY(DATE(年間!$C$1,4,1))+5))=4,DAY((DATE(年間!$C$1,4,1)-WEEKDAY(DATE(年間!$C$1,4,1))+5)),"") -> 1 | F3: =IF(MONTH((DATE(年間!$C$1,4,1)-WEEKDAY(DATE(年間!$C$1,4,1))+6))=4,DAY((DATE(年間!$C$1,4,1)-WEEKDAY(DATE(年間!$C$1,4,1))+6)),"") -> 2 | G3: =IF(MONTH((DATE(年間!$C$1,4,1)-WEEKDAY(DATE(年間!$C$1,4,1))+7))=4,DAY((DATE(年間!$C$1,4,1)-WEEKDAY(DATE(年間!$C$1,4,1))+7)),"") -> 3
A4: =IF(MONTH((DATE(年間!$C$1,4,1)-WEEKDAY(DATE(年間!$C$1,4,1))+1))=4,IFERROR(VLOOKUP((DATE(年間!$C$1,4,1)-WEEKDAY(DATE(年間!$C$1,4,1))+1),祝日!$A$2:$B$75,2,FALSE),""),"") | B4: =IF(MONTH((DATE(年間!$C$1,4,1)-WEEKDAY(DATE(年間!$C$1,4,1))+2))=4,IFERROR(VLOOKUP((DATE(年間!$C$1,4,1)-WEEKDAY(DATE(年間!$C$1,4,1))+2),祝日!$A$2:$B$75,2,FALSE),""),"") | C4: =IF(MONTH((DATE(年間!$C$1,4,1)-WEEKDAY(DATE(年間!$C$1,4,1))+3))=4,IFERROR(VLOOKUP((DATE(年間!$C$1,4,1)-WEEKDAY(DATE(年間!$C$1,4,1))+3),祝日!$A$2:$B$75,2,FALSE),""),"") | D4: =IF(MONTH((DATE(年間!$C$1,4,1)-WEEKDAY(DATE(年間!$C$1,4,1))+4))=4,IFERROR(VLOOKUP((DATE(年間!$C$1,4,1)-WEEKDAY(DATE(年間!$C$1,4,1))+4),祝日!$A$2:$B$75,2,FALSE),""),"") | E4: =IF(MONTH((DATE(年間!$C$1,4,1)-WEEKDAY(DATE(年間!$C$1,4,1))+5))=4,IFERROR(VLOOKUP((DATE(年間!$C$1,4,1)-WEEKDAY(DATE(年間!$C$1,4,1))+5),祝日!$A$2:$B$75,2,FALSE),""),"") | F4: =IF(MONTH((DATE(年間!$C$1,4,1)-WEEKDAY(DATE(年間!$C$1,4,1))+6))=4,IFERROR(VLOOKUP((DATE(年間!$C$1,4,1)-WEEKDAY(DATE(年間!$C$1,4,1))+6),祝日!$A$2:$B$75,2,FALSE),""),"") | G4: =IF(MONTH((DATE(年間!$C$1,4,1)-WEEKDAY(DATE(年間!$C$1,4,1))+7))=4,IFERROR(VLOOKUP((DATE(年間!$C$1,4,1)-WEEKDAY(DATE(年間!$C$1,4,1))+7),祝日!$A$2:$B$75,2,FALSE),""),"")
A5: =IF(MONTH((DATE(年間!$C$1,4,1)-WEEKDAY(DATE(年間!$C$1,4,1))+8))=4,DAY((DATE(年間!$C$1,4,1)-WEEKDAY(DATE(年間!$C$1,4,1))+8)),"") -> 4 | B5: =IF(MONTH((DATE(年間!$C$1,4,1)-WEEKDAY(DATE(年間!$C$1,4,1))+9))=4,DAY((DATE(年間!$C$1,4,1)-WEEKDAY(DATE(年間!$C$1,4,1))+9)),"") -> 5 | C5: =IF(MONTH((DATE(年間!$C$1,4,1)-WEEKDAY(DATE(年間!$C$1,4,1))+10))=4,DAY((DATE(年間!$C$1,4,1)-WEEKDAY(DATE(年間!$C$1,4,1))+10)),"") -> 6 | D5: =IF(MONTH((DATE(年間!$C$1,4,1)-WEEKDAY(DATE(年間!$C$1,4,1))+11))=4,DAY((DATE(年間!$C$1,4,1)-WEEKDAY(DATE(年間!$C$1,4,1))+11)),"") -> 7 | E5: =IF(MONTH((DATE(年間!$C$1,4,1)-WEEKDAY(DATE(年間!$C$1,4,1))+12))=4,DAY((DATE(年間!$C$1,4,1)-WEEKDAY(DATE(年間!$C$1,4,1))+12)),"") -> 8 | F5: =IF(MONTH((DATE(年間!$C$1,4,1)-WEEKDAY(DATE(年間!$C$1,4,1))+13))=4,DAY((DATE(年間!$C$1,4,1)-WEEKDAY(DATE(年間!$C$1,4,1))+13)),"") -> 9 | G5: =IF(MONTH((DATE(年間!$C$1,4,1)-WEEKDAY(DATE(年間!$C$1,4,1))+14))=4,DAY((DATE(年間!$C$1,4,1)-WEEKDAY(DATE(年間!$C$1,4,1))+14)),"") -> 10
A6: =IF(MONTH((DATE(年間!$C$1,4,1)-WEEKDAY(DATE(年間!$C$1,4,1))+8))=4,IFERROR(VLOOKUP((DATE(年間!$C$1,4,1)-WEEKDAY(DATE(年間!$C$1,4,1))+8),祝日!$A$2:$B$75,2,FALSE),""),"") | B6: =IF(MONTH((DATE(年間!$C$1,4,1)-WEEKDAY(DATE(年間!$C$1,4,1))+9))=4,IFERROR(VLOOKUP((DATE(年間!$C$1,4,1)-WEEKDAY(DATE(年間!$C$1,4,1))+9),祝日!$A$2:$B$75,2,FALSE),""),"") | C6: =IF(MONTH((DATE(年間!$C$1,4,1)-WEEKDAY(DATE(年間!$C$1,4,1))+10))=4,IFERROR(VLOOKUP((DATE(年間!$C$1,4,1)-WEEKDAY(DATE(年間!$C$1,4,1))+10),祝日!$A$2:$B$75,2,FALSE),""),"") | D6: =IF(MONTH((DATE(年間!$C$1,4,1)-WEEKDAY(DATE(年間!$C$1,4,1))+11))=4,IFERROR(VLOOKUP((DATE(年間!$C$1,4,1)-WEEKDAY(DATE(年間!$C$1,4,1))+11),祝日!$A$2:$B$75,2,FALSE),""),"") | E6: =IF(MONTH((DATE(年間!$C$1,4,1)-WEEKDAY(DATE(年間!$C$1,4,1))+12))=4,IFERROR(VLOOKUP((DATE(年間!$C$1,4,1)-WEEKDAY(DATE(年間!$C$1,4,1))+12),祝日!$A$2:$B$75,2,FALSE),""),"") | F6: =IF(MONTH((DATE(年間!$C$1,4,1)-WEEKDAY(DATE(年間!$C$1,4,1))+13))=4,IFERROR(VLOOKUP((DATE(年間!$C$1,4,1)-WEEKDAY(DATE(年間!$C$1,4,1))+13),祝日!$A$2:$B$75,2,FALSE),""),"") | G6: =IF(MONTH((DATE(年間!$C$1,4,1)-WEEKDAY(DATE(年間!$C$1,4,1))+14))=4,IFERROR(VLOOKUP((DATE(年間!$C$1,4,1)-WEEKDAY(DATE(年間!$C$1,4,1))+14),祝日!$A$2:$B$75,2,FALSE),""),"")
A7: =IF(MONTH((DATE(年間!$C$1,4,1)-WEEKDAY(DATE(年間!$C$1,4,1))+15))=4,DAY((DATE(年間!$C$1,4,1)-WEEKDAY(DATE(年間!$C$1,4,1))+15)),"") -> 11 | B7: =IF(MONTH((DATE(年間!$C$1,4,1)-WEEKDAY(DATE(年間!$C$1,4,1))+16))=4,DAY((DATE(年間!$C$1,4,1)-WEEKDAY(DATE(年間!$C$1,4,1))+16)),"") -> 12 | C7: =IF(MONTH((DATE(年間!$C$1,4,1)-WEEKDAY(DATE(年間!$C$1,4,1))+17))=4,DAY((DATE(年間!$C$1,4,1)-WEEKDAY(DATE(年間!$C$1,4,1))+17)),"") -> 13 | D7: =IF(MONTH((DATE(年間!$C$1,4,1)-WEEKDAY(DATE(年間!$C$1,4,1))+18))=4,DAY((DATE(年間!$C$1,4,1)-WEEKDAY(DATE(年間!$C$1,4,1))+18)),"") -> 14 | E7: =IF(MONTH((DATE(年間!$C$1,4,1)-WEEKDAY(DATE(年間!$C$1,4,1))+19))=4,DAY((DATE(年間!$C$1,4,1)-WEEKDAY(DATE(年間!$C$1,4,1))+19)),"") -> 15 | F7: =IF(MONTH((DATE(年間!$C$1,4,1)-WEEKDAY(DATE(年間!$C$1,4,1))+20))=4,DAY((DATE(年間!$C$1,4,1)-WEEKDAY(DATE(年間!$C$1,4,1))+20)),"") -> 16 | G7: =IF(MONTH((DATE(年間!$C$1,4,1)-WEEKDAY(DATE(年間!$C$1,4,1))+21))=4,DAY((DATE(年間!$C$1,4,1)-WEEKDAY(DATE(年間!$C$1,4,1))+21)),"") -> 17
A8: =IF(MONTH((DATE(年間!$C$1,4,1)-WEEKDAY(DATE(年間!$C$1,4,1))+15))=4,IFERROR(VLOOKUP((DATE(年間!$C$1,4,1)-WEEKDAY(DATE(年間!$C$1,4,1))+15),祝日!$A$2:$B$75,2,FALSE),""),"") | B8: =IF(MONTH((DATE(年間!$C$1,4,1)-WEEKDAY(DATE(年間!$C$1,4,1))+16))=4,IFERROR(VLOOKUP((DATE(年間!$C$1,4,1)-WEEKDAY(DATE(年間!$C$1,4,1))+16),祝日!$A$2:$B$75,2,FALSE),""),"") | C8: =IF(MONTH((DATE(年間!$C$1,4,1)-WEEKDAY(DATE(年間!$C$1,4,1))+17))=4,IFERROR(VLOOKUP((DATE(年間!$C$1,4,1)-WEEKDAY(DATE(年間!$C$1,4,1))+17),祝日!$A$2:$B$75,2,FALSE),""),"") | D8: =IF(MONTH((DATE(年間!$C$1,4,1)-WEEKDAY(DATE(年間!$C$1,4,1))+18))=4,IFERROR(VLOOKUP((DATE(年間!$C$1,4,1)-WEEKDAY(DATE(年間!$C$1,4,1))+18),祝日!$A$2:$B$75,2,FALSE),""),"") | E8: =IF(MONTH((DATE(年間!$C$1,4,1)-WEEKDAY(DATE(年間!$C$1,4,1))+19))=4,IFERROR(VLOOKUP((DATE(年間!$C$1,4,1)-WEEKDAY(DATE(年間!$C$1,4,1))+19),祝日!$A$2:$B$75,2,FALSE),""),"") | F8: =IF(MONTH((DATE(年間!$C$1,4,1)-WEEKDAY(DATE(年間!$C$1,4,1))+20))=4,IFERROR(VLOOKUP((DATE(年間!$C$1,4,1)-WEEKDAY(DATE(年間!$C$1,4,1))+20),祝日!$A$2:$B$75,2,FALSE),""),"") | G8: =IF(MONTH((DATE(年間!$C$1,4,1)-WEEKDAY(DATE(年間!$C$1,4,1))+21))=4,IFERROR(VLOOKUP((DATE(年間!$C$1,4,1)-WEEKDAY(DATE(年間!$C$1,4,1))+21),祝日!$A$2:$B$75,2,FALSE),""),"")
A9: =IF(MONTH((DATE(年間!$C$1,4,1)-WEEKDAY(DATE(年間!$C$1,4,1))+22))=4,DAY((DATE(年間!$C$1,4,1)-WEEKDAY(DATE(年間!$C$1,4,1))+22)),"") -> 18 | B9: =IF(MONTH((DATE(年間!$C$1,4,1)-WEEKDAY(DATE(年間!$C$1,4,1))+23))=4,DAY((DATE(年間!$C$1,4,1)-WEEKDAY(DATE(年間!$C$1,4,1))+23)),"") -> 19 | C9: =IF(MONTH((DATE(年間!$C$1,4,1)-WEEKDAY(DATE(年間!$C$1,4,1))+24))=4,DAY((DATE(年間!$C$1,4,1)-WEEKDAY(DATE(年間!$C$1,4,1))+24)),"") -> 20 | D9: =IF(MONTH((DATE(年間!$C$1,4,1)-WEEKDAY(DATE(年間!$C$1,4,1))+25))=4,DAY((DATE(年間!$C$1,4,1)-WEEKDAY(DATE(年間!$C$1,4,1))+25)),"") -> 21 | E9: =IF(MONTH((DATE(年間!$C$1,4,1)-WEEKDAY(DATE(年間!$C$1,4,1))+26))=4,DAY((DATE(年間!$C$1,4,1)-WEEKDAY(DATE(年間!$C$1,4,1))+26)),"") -> 22 | F9: =IF(MONTH((DATE(年間!$C$1,4,1)-WEEKDAY(DATE(年間!$C$1,4,1))+27))=4,DAY((DATE(年間!$C$1,4,1)-WEEKDAY(DATE(年間!$C$1,4,1))+27)),"") -> 23 | G9: =IF(MONTH((DATE(年間!$C$1,4,1)-WEEKDAY(DATE(年間!$C$1,4,1))+28))=4,DAY((DATE(年間!$C$1,4,1)-WEEKDAY(DATE(年間!$C$1,4,1))+28)),"") -> 24
A10: =IF(MONTH((DATE(年間!$C$1,4,1)-WEEKDAY(DATE(年間!$C$1,4,1))+22))=4,IFERROR(VLOOKUP((DATE(年間!$C$1,4,1)-WEEKDAY(DATE(年間!$C$1,4,1))+22),祝日!$A$2:$B$75,2,FALSE),""),"") | B10: =IF(MONTH((DATE(年間!$C$1,4,1)-WEEKDAY(DATE(年間!$C$1,4,1))+23))=4,IFERROR(VLOOKUP((DATE(年間!$C$1,4,1)-WEEKDAY(DATE(年間!$C$1,4,1))+23),祝日!$A$2:$B$75,2,FALSE),""),"") | C10: =IF(MONTH((DATE(年間!$C$1,4,1)-WEEKDAY(DATE(年間!$C$1,4,1))+24))=4,IFERROR(VLOOKUP((DATE(年間!$C$1,4,1)-WEEKDAY(DATE(年間!$C$1,4,1))+24),祝日!$A$2:$B$75,2,FALSE),""),"") | D10: =IF(MONTH((DATE(年間!$C$1,4,1)-WEEKDAY(DATE(年間!$C$1,4,1))+25))=4,IFERROR(VLOOKUP((DATE(年間!$C$1,4,1)-WEEKDAY(DATE(年間!$C$1,4,1))+25),祝日!$A$2:$B$75,2,FALSE),""),"") | E10: =IF(MONTH((DATE(年間!$C$1,4,1)-WEEKDAY(DATE(年間!$C$1,4,1))+26))=4,IFERROR(VLOOKUP((DATE(年間!$C$1,4,1)-WEEKDAY(DATE(年間!$C$1,4,1))+26),祝日!$A$2:$B$75,2,FALSE),""),"") | F10: =IF(MONTH((DATE(年間!$C$1,4,1)-WEEKDAY(DATE(年間!$C$1,4,1))+27))=4,IFERROR(VLOOKUP((DATE(年間!$C$1,4,1)-WEEKDAY(DATE(年間!$C$1,4,1))+27),祝日!$A$2:$B$75,2,FALSE),""),"") | G10: =IF(MONTH((DATE(年間!$C$1,4,1)-WEEKDAY(DATE(年間!$C$1,4,1))+28))=4,IFERROR(VLOOKUP((DATE(年間!$C$1,4,1)-WEEKDAY(DATE(年間!$C$1,4,1))+28),祝日!$A$2:$B$75,2,FALSE),""),"")
A11: =IF(MONTH((DATE(年間!$C$1,4,1)-WEEKDAY(DATE(年間!$C$1,4,1))+29))=4,DAY((DATE(年間!$C$1,4,1)-WEEKDAY(DATE(年間!$C$1,4,1))+29)),"") -> 25 | B11: =IF(MONTH((DATE(年間!$C$1,4,1)-WEEKDAY(DATE(年間!$C$1,4,1))+30))=4,DAY((DATE(年間!$C$1,4,1)-WEEKDAY(DATE(年間!$C$1,4,1))+30)),"") -> 26 | C11: =IF(MONTH((DATE(年間!$C$1,4,1)-WEEKDAY(DATE(年間!$C$1,4,1))+31))=4,DAY((DATE(年間!$C$1,4,1)-WEEKDAY(DATE(年間!$C$1,4,1))+31)),"") -> 27 | D11: =IF(MONTH((DATE(年間!$C$1,4,1)-WEEKDAY(DATE(年間!$C$1,4,1))+32))=4,DAY((DATE(年間!$C$1,4,1)-WEEKDAY(DATE(年間!$C$1,4,1))+32)),"") -> 28 | E11: =IF(MONTH((DATE(年間!$C$1,4,1)-WEEKDAY(DATE(年間!$C$1,4,1))+33))=4,DAY((DATE(年間!$C$1,4,1)-WEEKDAY(DATE(年間!$C$1,4,1))+33)),"") -> 29 | F11: =IF(MONTH((DATE(年間!$C$1,4,1)-WEEKDAY(DATE(年間!$C$1,4,1))+34))=4,DAY((DATE(年間!$C$1,4,1)-WEEKDAY(DATE(年間!$C$1,4,1))+34)),"") -> 30 | G11: =IF(MONTH((DATE(年間!$C$1,4,1)-WEEKDAY(DATE(年間!$C$1,4,1))+35))=4,DAY((DATE(年間!$C$1,4,1)-WEEKDAY(DATE(年間!$C$1,4,1))+35)),"")
A12: =IF(MONTH((DATE(年間!$C$1,4,1)-WEEKDAY(DATE(年間!$C$1,4,1))+29))=4,IFERROR(VLOOKUP((DATE(年間!$C$1,4,1)-WEEKDAY(DATE(年間!$C$1,4,1))+29),祝日!$A$2:$B$75,2,FALSE),""),"") | B12: =IF(MONTH((DATE(年間!$C$1,4,1)-WEEKDAY(DATE(年間!$C$1,4,1))+30))=4,IFERROR(VLOOKUP((DATE(年間!$C$1,4,1)-WEEKDAY(DATE(年間!$C$1,4,1))+30),祝日!$A$2:$B$75,2,FALSE),""),"") | C12: =IF(MONTH((DATE(年間!$C$1,4,1)-WEEKDAY(DATE(年間!$C$1,4,1))+31))=4,IFERROR(VLOOKUP((DATE(年間!$C$1,4,1)-WEEKDAY(DATE(年間!$C$1,4,1))+31),祝日!$A$2:$B$75,2,FALSE),""),"") | D12: =IF(MONTH((DATE(年間!$C$1,4,1)-WEEKDAY(DATE(年間!$C$1,4,1))+32))=4,IFERROR(VLOOKUP((DATE(年間!$C$1,4,1)-WEEKDAY(DATE(年間!$C$1,4,1))+32),祝日!$A$2:$B$75,2,FALSE),""),"") | E12: =IF(MONTH((DATE(年間!$C$1,4,1)-WEEKDAY(DATE(年間!$C$1,4,1))+33))=4,IFERROR(VLOOKUP((DATE(年間!$C$1,4,1)-WEEKDAY(DATE(年間!$C$1,4,1))+33),祝日!$A$2:$B$75,2,FALSE),""),"") -> 昭和の日 | F12: =IF(MONTH((DATE(年間!$C$1,4,1)-WEEKDAY(DATE(年間!$C$1,4,1))+34))=4,IFERROR(VLOOKUP((DATE(年間!$C$1,4,1)-WEEKDAY(DATE(年間!$C$1,4,1))+34),祝日!$A$2:$B$75,2,FALSE),""),"") | G12: =IF(MONTH((DATE(年間!$C$1,4,1)-WEEKDAY(DATE(年間!$C$1,4,1))+35))=4,IFERROR(VLOOKUP((DATE(年間!$C$1,4,1)-WEEKDAY(DATE(年間!$C$1,4,1))+35),祝日!$A$2:$B$75,2,FALSE),""),"")
A13: =IF(MONTH((DATE(年間!$C$1,4,1)-WEEKDAY(DATE(年間!$C$1,4,1))+36))=4,DAY((DATE(年間!$C$1,4,1)-WEEKDAY(DATE(年間!$C$1,4,1))+36)),"") | B13: =IF(MONTH((DATE(年間!$C$1,4,1)-WEEKDAY(DATE(年間!$C$1,4,1))+37))=4,DAY((DATE(年間!$C$1,4,1)-WEEKDAY(DATE(年間!$C$1,4,1))+37)),"") | C13: =IF(MONTH((DATE(年間!$C$1,4,1)-WEEKDAY(DATE(年間!$C$1,4,1))+38))=4,DAY((DATE(年間!$C$1,4,1)-WEEKDAY(DATE(年間!$C$1,4,1))+38)),"") | D13: =IF(MONTH((DATE(年間!$C$1,4,1)-WEEKDAY(DATE(年間!$C$1,4,1))+39))=4,DAY((DATE(年間!$C$1,4,1)-WEEKDAY(DATE(年間!$C$1,4,1))+39)),"") | E13: =IF(MONTH((DATE(年間!$C$1,4,1)-WEEKDAY(DATE(年間!$C$1,4,1))+40))=4,DAY((DATE(年間!$C$1,4,1)-WEEKDAY(DATE(年間!$C$1,4,1))+40)),"") | F13: =IF(MONTH((DATE(年間!$C$1,4,1)-WEEKDAY(DATE(年間!$C$1,4,1))+41))=4,DAY((DATE(年間!$C$1,4,1)-WEEKDAY(DATE(年間!$C$1,4,1))+41)),"") | G13: =IF(MONTH((DATE(年間!$C$1,4,1)-WEEKDAY(DATE(年間!$C$1,4,1))+42))=4,DAY((DATE(年間!$C$1,4,1)-WEEKDAY(DATE(年間!$C$1,4,1))+42)),"")
A14: =IF(MONTH((DATE(年間!$C$1,4,1)-WEEKDAY(DATE(年間!$C$1,4,1))+36))=4,IFERROR(VLOOKUP((DATE(年間!$C$1,4,1)-WEEKDAY(DATE(年間!$C$1,4,1))+36),祝日!$A$2:$B$75,2,FALSE),""),"") | B14: =IF(MONTH((DATE(年間!$C$1,4,1)-WEEKDAY(DATE(年間!$C$1,4,1))+37))=4,IFERROR(VLOOKUP((DATE(年間!$C$1,4,1)-WEEKDAY(DATE(年間!$C$1,4,1))+37),祝日!$A$2:$B$75,2,FALSE),""),"") | C14: =IF(MONTH((DATE(年間!$C$1,4,1)-WEEKDAY(DATE(年間!$C$1,4,1))+38))=4,IFERROR(VLOOKUP((DATE(年間!$C$1,4,1)-WEEKDAY(DATE(年間!$C$1,4,1))+38),祝日!$A$2:$B$75,2,FALSE),""),"") | D14: =IF(MONTH((DATE(年間!$C$1,4,1)-WEEKDAY(DATE(年間!$C$1,4,1))+39))=4,IFERROR(VLOOKUP((DATE(年間!$C$1,4,1)-WEEKDAY(DATE(年間!$C$1,4,1))+39),祝日!$A$2:$B$75,2,FALSE),""),"") | E14: =IF(MONTH((DATE(年間!$C$1,4,1)-WEEKDAY(DATE(年間!$C$1,4,1))+40))=4,IFERROR(VLOOKUP((DATE(年間!$C$1,4,1)-WEEKDAY(DATE(年間!$C$1,4,1))+40),祝日!$A$2:$B$75,2,FALSE),""),"") | F14: =IF(MONTH((DATE(年間!$C$1,4,1)-WEEKDAY(DATE(年間!$C$1,4,1))+41))=4,IFERROR(VLOOKUP((DATE(年間!$C$1,4,1)-WEEKDAY(DATE(年間!$C$1,4,1))+41),祝日!$A$2:$B$75,2,FALSE),""),"") | G14: =IF(MONTH((DATE(年間!$C$1,4,1)-WEEKDAY(DATE(年間!$C$1,4,1))+42))=4,IFERROR(VLOOKUP((DATE(年間!$C$1,4,1)-WEEKDAY(DATE(年間!$C$1,4,1))+42),祝日!$A$2:$B$75,2,FALSE),""),"")

Sheet 5月
A1: =年間!$C$1&"年 5月" -> 2027年 5月
A2: 日 | B2: 月 | C2: 火 | D2: 水 | E2: 木 | F2: 金 | G2: 土
A3: =IF(MONTH((DATE(年間!$C$1,5,1)-WEEKDAY(DATE(年間!$C$1,5,1))+1))=5,DAY((DATE(年間!$C$1,5,1)-WEEKDAY(DATE(年間!$C$1,5,1))+1)),"") | B3: =IF(MONTH((DATE(年間!$C$1,5,1)-WEEKDAY(DATE(年間!$C$1,5,1))+2))=5,DAY((DATE(年間!$C$1,5,1)-WEEKDAY(DATE(年間!$C$1,5,1))+2)),"") | C3: =IF(MONTH((DATE(年間!$C$1,5,1)-WEEKDAY(DATE(年間!$C$1,5,1))+3))=5,DAY((DATE(年間!$C$1,5,1)-WEEKDAY(DATE(年間!$C$1,5,1))+3)),"") | D3: =IF(MONTH((DATE(年間!$C$1,5,1)-WEEKDAY(DATE(年間!$C$1,5,1))+4))=5,DAY((DATE(年間!$C$1,5,1)-WEEKDAY(DATE(年間!$C$1,5,1))+4)),"") | E3: =IF(MONTH((DATE(年間!$C$1,5,1)-WEEKDAY(DATE(年間!$C$1,5,1))+5))=5,DAY((DATE(年間!$C$1,5,1)-WEEKDAY(DATE(年間!$C$1,5,1))+5)),"") | F3: =IF(MONTH((DATE(年間!$C$1,5,1)-WEEKDAY(DATE(年間!$C$1,5,1))+6))=5,DAY((DATE(年間!$C$1,5,1)-WEEKDAY(DATE(年間!$C$1,5,1))+6)),"") | G3: =IF(MONTH((DATE(年間!$C$1,5,1)-WEEKDAY(DATE(年間!$C$1,5,1))+7))=5,DAY((DATE(年間!$C$1,5,1)-WEEKDAY(DATE(年間!$C$1,5,1))+7)),"") -> 1
A4: =IF(MONTH((DATE(年間!$C$1,5,1)-WEEKDAY(DATE(年間!$C$1,5,1))+1))=5,IFERROR(VLOOKUP((DATE(年間!$C$1,5,1)-WEEKDAY(DATE(年間!$C$1,5,1))+1),祝日!$A$2:$B$75,2,FALSE),""),"") | B4: =IF(MONTH((DATE(年間!$C$1,5,1)-WEEKDAY(DATE(年間!$C$1,5,1))+2))=5,IFERROR(VLOOKUP((DATE(年間!$C$1,5,1)-WEEKDAY(DATE(年間!$C$1,5,1))+2),祝日!$A$2:$B$75,2,FALSE),""),"") | C4: =IF(MONTH((DATE(年間!$C$1,5,1)-WEEKDAY(DATE(年間!$C$1,5,1))+3))=5,IFERROR(VLOOKUP((DATE(年間!$C$1,5,1)-WEEKDAY(DATE(年間!$C$1,5,1))+3),祝日!$A$2:$B$75,2,FALSE),""),"") | D4: =IF(MONTH((DATE(年間!$C$1,5,1)-WEEKDAY(DATE(年間!$C$1,5,1))+4))=5,IFERROR(VLOOKUP((DATE(年間!$C$1,5,1)-WEEKDAY(DATE(年間!$C$1,5,1))+4),祝日!$A$2:$B$75,2,FALSE),""),"") | E4: =IF(MONTH((DATE(年間!$C$1,5,1)-WEEKDAY(DATE(年間!$C$1,5,1))+5))=5,IFERROR(VLOOKUP((DATE(年間!$C$1,5,1)-WEEKDAY(DATE(年間!$C$1,5,1))+5),祝日!$A$2:$B$75,2,FALSE),""),"") | F4: =IF(MONTH((DATE(年間!$C$1,5,1)-WEEKDAY(DATE(年間!$C$1,5,1))+6))=5,IFERROR(VLOOKUP((DATE(年間!$C$1,5,1)-WEEKDAY(DATE(年間!$C$1,5,1))+6),祝日!$A$2:$B$75,2,FALSE),""),"") | G4: =IF(MONTH((DATE(年間!$C$1,5,1)-WEEKDAY(DATE(年間!$C$1,5,1))+7))=5,IFERROR(VLOOKUP((DATE(年間!$C$1,5,1)-WEEKDAY(DATE(年間!$C$1,5,1))+7),祝日!$A$2:$B$75,2,FALSE),""),"")
A5: =IF(MONTH((DATE(年間!$C$1,5,1)-WEEKDAY(DATE(年間!$C$1,5,1))+8))=5,DAY((DATE(年間!$C$1,5,1)-WEEKDAY(DATE(年間!$C$1,5,1))+8)),"") -> 2 | B5: =IF(MONTH((DATE(年間!$C$1,5,1)-WEEKDAY(DATE(年間!$C$1,5,1))+9))=5,DAY((DATE(年間!$C$1,5,1)-WEEKDAY(DATE(年間!$C$1,5,1))+9)),"") -> 3 | C5: =IF(MONTH((DATE(年間!$C$1,5,1)-WEEKDAY(DATE(年間!$C$1,5,1))+10))=5,DAY((DATE(年間!$C$1,5,1)-WEEKDAY(DATE(年間!$C$1,5,1))+10)),"") -> 4 | D5: =IF(MONTH((DATE(年間!$C$1,5,1)-WEEKDAY(DATE(年間!$C$1,5,1))+11))=5,DAY((DATE(年間!$C$1,5,1)-WEEKDAY(DATE(年間!$C$1,5,1))+11)),"") -> 5 | E5: =IF(MONTH((DATE(年間!$C$1,5,1)-WEEKDAY(DATE(年間!$C$1,5,1))+12))=5,DAY((DATE(年間!$C$1,5,1)-WEEKDAY(DATE(年間!$C$1,5,1))+12)),"") -> 6 | F5: =IF(MONTH((DATE(年間!$C$1,5,1)-WEEKDAY(DATE(年間!$C$1,5,1))+13))=5,DAY((DATE(年間!$C$1,5,1)-WEEKDAY(DATE(年間!$C$1,5,1))+13)),"") -> 7 | G5: =IF(MONTH((DATE(年間!$C$1,5,1)-WEEKDAY(DATE(年間!$C$1,5,1))+14))=5,DAY((DATE(年間!$C$1,5,1)-WEEKDAY(DATE(年間!$C$1,5,1))+14)),"") -> 8
A6: =IF(MONTH((DATE(年間!$C$1,5,1)-WEEKDAY(DATE(年間!$C$1,5,1))+8))=5,IFERROR(VLOOKUP((DATE(年間!$C$1,5,1)-WEEKDAY(DATE(年間!$C$1,5,1))+8),祝日!$A$2:$B$75,2,FALSE),""),"") | B6: =IF(MONTH((DATE(年間!$C$1,5,1)-WEEKDAY(DATE(年間!$C$1,5,1))+9))=5,IFERROR(VLOOKUP((DATE(年間!$C$1,5,1)-WEEKDAY(DATE(年間!$C$1,5,1))+9),祝日!$A$2:$B$75,2,FALSE),""),"") -> 憲法記念日 | C6: =IF(MONTH((DATE(年間!$C$1,5,1)-WEEKDAY(DATE(年間!$C$1,5,1))+10))=5,IFERROR(VLOOKUP((DATE(年間!$C$1,5,1)-WEEKDAY(DATE(年間!$C$1,5,1))+10),祝日!$A$2:$B$75,2,FALSE),""),"") -> みどりの日 | D6: =IF(MONTH((DATE(年間!$C$1,5,1)-WEEKDAY(DATE(年間!$C$1,5,1))+11))=5,IFERROR(VLOOKUP((DATE(年間!$C$1,5,1)-WEEKDAY(DATE(年間!$C$1,5,1))+11),祝日!$A$2:$B$75,2,FALSE),""),"") -> こどもの日 | E6: =IF(MONTH((DATE(年間!$C$1,5,1)-WEEKDAY(DATE(年間!$C$1,5,1))+12))=5,IFERROR(VLOOKUP((DATE(年間!$C$1,5,1)-WEEKDAY(DATE(年間!$C$1,5,1))+12),祝日!$A$2:$B$75,2,FALSE),""),"") | F6: =IF(MONTH((DATE(年間!$C$1,5,1)-WEEKDAY(DATE(年間!$C$1,5,1))+13))=5,IFERROR(VLOOKUP((DATE(年間!$C$1,5,1)-WEEKDAY(DATE(年間!$C$1,5,1))+13),祝日!$A$2:$B$75,2,FALSE),""),"") | G6: =IF(MONTH((DATE(年間!$C$1,5,1)-WEEKDAY(DATE(年間!$C$1,5,1))+14))=5,IFERROR(VLOOKUP((DATE(年間!$C$1,5,1)-WEEKDAY(DATE(年間!$C$1,5,1))+14),祝日!$A$2:$B$75,2,FALSE),""),"")
A7: =IF(MONTH((DATE(年間!$C$1,5,1)-WEEKDAY(DATE(年間!$C$1,5,1))+15))=5,DAY((DATE(年間!$C$1,5,1)-WEEKDAY(DATE(年間!$C$1,5,1))+15)),"") -> 9 | B7: =IF(MONTH((DATE(年間!$C$1,5,1)-WEEKDAY(DATE(年間!$C$1,5,1))+16))=5,DAY((DATE(年間!$C$1,5,1)-WEEKDAY(DATE(年間!$C$1,5,1))+16)),"") -> 10 | C7: =IF(MONTH((DATE(年間!$C$1,5,1)-WEEKDAY(DATE(年間!$C$1,5,1))+17))=5,DAY((DATE(年間!$C$1,5,1)-WEEKDAY(DATE(年間!$C$1,5,1))+17)),"") -> 11 | D7: =IF(MONTH((DATE(年間!$C$1,5,1)-WEEKDAY(DATE(年間!$C$1,5,1))+18))=5,DAY((DATE(年間!$C$1,5,1)-WEEKDAY(DATE(年間!$C$1,5,1))+18)),"") -> 12 | E7: =IF(MONTH((DATE(年間!$C$1,5,1)-WEEKDAY(DATE(年間!$C$1,5,1))+19))=5,DAY((DATE(年間!$C$1,5,1)-WEEKDAY(DATE(年間!$C$1,5,1))+19)),"") -> 13 | F7: =IF(MONTH((DATE(年間!$C$1,5,1)-WEEKDAY(DATE(年間!$C$1,5,1))+20))=5,DAY((DATE(年間!$C$1,5,1)-WEEKDAY(DATE(年間!$C$1,5,1))+20)),"") -> 14 | G7: =IF(MONTH((DATE(年間!$C$1,5,1)-WEEKDAY(DATE(年間!$C$1,5,1))+21))=5,DAY((DATE(年間!$C$1,5,1)-WEEKDAY(DATE(年間!$C$1,5,1))+21)),"") -> 15
A8: =IF(MONTH((DATE(年間!$C$1,5,1)-WEEKDAY(DATE(年間!$C$1,5,1))+15))=5,IFERROR(VLOOKUP((DATE(年間!$C$1,5,1)-WEEKDAY(DATE(年間!$C$1,5,1))+15),祝日!$A$2:$B$75,2,FALSE),""),"") | B8: =IF(MONTH((DATE(年間!$C$1,5,1)-WEEKDAY(DATE(年間!$C$1,5,1))+16))=5,IFERROR(VLOOKUP((DATE(年間!$C$1,5,1)-WEEKDAY(DATE(年間!$C$1,5,1))+16),祝日!$A$2:$B$75,2,FALSE),""),"") | C8: =IF(MONTH((DATE(年間!$C$1,5,1)-WEEKDAY(DATE(年間!$C$1,5,1))+17))=5,IFERROR(VLOOKUP((DATE(年間!$C$1,5,1)-WEEKDAY(DATE(年間!$C$1,5,1))+17),祝日!$A$2:$B$75,2,FALSE),""),"") | D8: =IF(MONTH((DATE(年間!$C$1,5,1)-WEEKDAY(DATE(年間!$C$1,5,1))+18))=5,IFERROR(VLOOKUP((DATE(年間!$C$1,5,1)-WEEKDAY(DATE(年間!$C$1,5,1))+18),祝日!$A$2:$B$75,2,FALSE),""),"") | E8: =IF(MONTH((DATE(年間!$C$1,5,1)-WEEKDAY(DATE(年間!$C$1,5,1))+19))=5,IFERROR(VLOOKUP((DATE(年間!$C$1,5,1)-WEEKDAY(DATE(年間!$C$1,5,1))+19),祝日!$A$2:$B$75,2,FALSE),""),"") | F8: =IF(MONTH((DATE(年間!$C$1,5,1)-WEEKDAY(DATE(年間!$C$1,5,1))+20))=5,IFERROR(VLOOKUP((DATE(年間!$C$1,5,1)-WEEKDAY(DATE(年間!$C$1,5,1))+20),祝日!$A$2:$B$75,2,FALSE),""),"") | G8: =IF(MONTH((DATE(年間!$C$1,5,1)-WEEKDAY(DATE(年間!$C$1,5,1))+21))=5,IFERROR(VLOOKUP((DATE(年間!$C$1,5,1)-WEEKDAY(DATE(年間!$C$1,5,1))+21),祝日!$A$2:$B$75,2,FALSE),""),"")
A9: =IF(MONTH((DATE(年間!$C$1,5,1)-WEEKDAY(DATE(年間!$C$1,5,1))+22))=5,DAY((DATE(年間!$C$1,5,1)-WEEKDAY(DATE(年間!$C$1,5,1))+22)),"") -> 16 | B9: =IF(MONTH((DATE(年間!$C$1,5,1)-WEEKDAY(DATE(年間!$C$1,5,1))+23))=5,DAY((DATE(年間!$C$1,5,1)-WEEKDAY(DATE(年間!$C$1,5,1))+23)),"") -> 17 | C9: =IF(MONTH((DATE(年間!$C$1,5,1)-WEEKDAY(DATE(年間!$C$1,5,1))+24))=5,DAY((DATE(年間!$C$1,5,1)-WEEKDAY(DATE(年間!$C$1,5,1))+24)),"") -> 18 | D9: =IF(MONTH((DATE(年間!$C$1,5,1)-WEEKDAY(DATE(年間!$C$1,5,1))+25))=5,DAY((DATE(年間!$C$1,5,1)-WEEKDAY(DATE(年間!$C$1,5,1))+25)),"") -> 19 | E9: =IF(MONTH((DATE(年間!$C$1,5,1)-WEEKDAY(DATE(年間!$C$1,5,1))+26))=5,DAY((DATE(年間!$C$1,5,1)-WEEKDAY(DATE(年間!$C$1,5,1))+26)),"") -> 20 | F9: =IF(MONTH((DATE(年間!$C$1,5,1)-WEEKDAY(DATE(年間!$C$1,5,1))+27))=5,DAY((DATE(年間!$C$1,5,1)-WEEKDAY(DATE(年間!$C$1,5,1))+27)),"") -> 21 | G9: =IF(MONTH((DATE(年間!$C$1,5,1)-WEEKDAY(DATE(年間!$C$1,5,1))+28))=5,DAY((DATE(年間!$C$1,5,1)-WEEKDAY(DATE(年間!$C$1,5,1))+28)),"") -> 22
A10: =IF(MONTH((DATE(年間!$C$1,5,1)-WEEKDAY(DATE(年間!$C$1,5,1))+22))=5,IFERROR(VLOOKUP((DATE(年間!$C$1,5,1)-WEEKDAY(DATE(年間!$C$1,5,1))+22),祝日!$A$2:$B$75,2,FALSE),""),"") | B10: =IF(MONTH((DATE(年間!$C$1,5,1)-WEEKDAY(DATE(年間!$C$1,5,1))+23))=5,IFERROR(VLOOKUP((DATE(年間!$C$1,5,1)-WEEKDAY(DATE(年間!$C$1,5,1))+23),祝日!$A$2:$B$75,2,FALSE),""),"") | C10: =IF(MONTH((DATE(年間!$C$1,5,1)-WEEKDAY(DATE(年間!$C$1,5,1))+24))=5,IFERROR(VLOOKUP((DATE(年間!$C$1,5,1)-WEEKDAY(DATE(年間!$C$1,5,1))+24),祝日!$A$2:$B$75,2,FALSE),""),"") | D10: =IF(MONTH((DATE(年間!$C$1,5,1)-WEEKDAY(DATE(年間!$C$1,5,1))+25))=5,IFERROR(VLOOKUP((DATE(年間!$C$1,5,1)-WEEKDAY(DATE(年間!$C$1,5,1))+25),祝日!$A$2:$B$75,2,FALSE),""),"") | E10: =IF(MONTH((DATE(年間!$C$1,5,1)-WEEKDAY(DATE(年間!$C$1,5,1))+26))=5,IFERROR(VLOOKUP((DATE(年間!$C$1,5,1)-WEEKDAY(DATE(年間!$C$1,5,1))+26),祝日!$A$2:$B$75,2,FALSE),""),"") | F10: =IF(MONTH((DATE(年間!$C$1,5,1)-WEEKDAY(DATE(年間!$C$1,5,1))+27))=5,IFERROR(VLOOKUP((DATE(年間!$C$1,5,1)-WEEKDAY(DATE(年間!$C$1,5,1))+27),祝日!$A$2:$B$75,2,FALSE),""),"") | G10: =IF(MONTH((DATE(年間!$C$1,5,1)-WEEKDAY(DATE(年間!$C$1,5,1))+28))=5,IFERROR(VLOOKUP((DATE(年間!$C$1,5,1)-WEEKDAY(DATE(年間!$C$1,5,1))+28),祝日!$A$2:$B$75,2,FALSE),""),"")
A11: =IF(MONTH((DATE(年間!$C$1,5,1)-WEEKDAY(DATE(年間!$C$1,5,1))+29))=5,DAY((DATE(年間!$C$1,5,1)-WEEKDAY(DATE(年間!$C$1,5,1))+29)),"") -> 23 | B11: =IF(MONTH((DATE(年間!$C$1,5,1)-WEEKDAY(DATE(年間!$C$1,5,1))+30))=5,DAY((DATE(年間!$C$1,5,1)-WEEKDAY(DATE(年間!$C$1,5,1))+30)),"") -> 24 | C11: =IF(MONTH((DATE(年間!$C$1,5,1)-WEEKDAY(DATE(年間!$C$1,5,1))+31))=5,DAY((DATE(年間!$C$1,5,1)-WEEKDAY(DATE(年間!$C$1,5,1))+31)),"") -> 25 | D11: =IF(MONTH((DATE(年間!$C$1,5,1)-WEEKDAY(DATE(年間!$C$1,5,1))+32))=5,DAY((DATE(年間!$C$1,5,1)-WEEKDAY(DATE(年間!$C$1,5,1))+32)),"") -> 26 | E11: =IF(MONTH((DATE(年間!$C$1,5,1)-WEEKDAY(DATE(年間!$C$1,5,1))+33))=5,DAY((DATE(年間!$C$1,5,1)-WEEKDAY(DATE(年間!$C$1,5,1))+33)),"") -> 27 | F11: =IF(MONTH((DATE(年間!$C$1,5,1)-WEEKDAY(DATE(年間!$C$1,5,1))+34))=5,DAY((DATE(年間!$C$1,5,1)-WEEKDAY(DATE(年間!$C$1,5,1))+34)),"") -> 28 | G11: =IF(MONTH((DATE(年間!$C$1,5,1)-WEEKDAY(DATE(年間!$C$1,5,1))+35))=5,DAY((DATE(年間!$C$1,5,1)-WEEKDAY(DATE(年間!$C$1,5,1))+35)),"") -> 29
A12: =IF(MONTH((DATE(年間!$C$1,5,1)-WEEKDAY(DATE(年間!$C$1,5,1))+29))=5,IFERROR(VLOOKUP((DATE(年間!$C$1,5,1)-WEEKDAY(DATE(年間!$C$1,5,1))+29),祝日!$A$2:$B$75,2,FALSE),""),"") | B12: =IF(MONTH((DATE(年間!$C$1,5,1)-WEEKDAY(DATE(年間!$C$1,5,1))+30))=5,IFERROR(VLOOKUP((DATE(年間!$C$1,5,1)-WEEKDAY(DATE(年間!$C$1,5,1))+30),祝日!$A$2:$B$75,2,FALSE),""),"") | C12: =IF(MONTH((DATE(年間!$C$1,5,1)-WEEKDAY(DATE(年間!$C$1,5,1))+31))=5,IFERROR(VLOOKUP((DATE(年間!$C$1,5,1)-WEEKDAY(DATE(年間!$C$1,5,1))+31),祝日!$A$2:$B$75,2,FALSE),""),"") | D12: =IF(MONTH((DATE(年間!$C$1,5,1)-WEEKDAY(DATE(年間!$C$1,5,1))+32))=5,IFERROR(VLOOKUP((DATE(年間!$C$1,5,1)-WEEKDAY(DATE(年間!$C$1,5,1))+32),祝日!$A$2:$B$75,2,FALSE),""),"") | E12: =IF(MONTH((DATE(年間!$C$1,5,1)-WEEKDAY(DATE(年間!$C$1,5,1))+33))=5,IFERROR(VLOOKUP((DATE(年間!$C$1,5,1)-WEEKDAY(DATE(年間!$C$1,5,1))+33),祝日!$A$2:$B$75,2,FALSE),""),"") | F12: =IF(MONTH((DATE(年間!$C$1,5,1)-WEEKDAY(DATE(年間!$C$1,5,1))+34))=5,IFERROR(VLOOKUP((DATE(年間!$C$1,5,1)-WEEKDAY(DATE(年間!$C$1,5,1))+34),祝日!$A$2:$B$75,2,FALSE),""),"") | G12: =IF(MONTH((DATE(年間!$C$1,5,1)-WEEKDAY(DATE(年間!$C$1,5,1))+35))=5,IFERROR(VLOOKUP((DATE(年間!$C$1,5,1)-WEEKDAY(DATE(年間!$C$1,5,1))+35),祝日!$A$2:$B$75,2,FALSE),""),"")
A13: =IF(MONTH((DATE(年間!$C$1,5,1)-WEEKDAY(DATE(年間!$C$1,5,1))+36))=5,DAY((DATE(年間!$C$1,5,1)-WEEKDAY(DATE(年間!$C$1,5,1))+36)),"") -> 30 | B13: =IF(MONTH((DATE(年間!$C$1,5,1)-WEEKDAY(DATE(年間!$C$1,5,1))+37))=5,DAY((DATE(年間!$C$1,5,1)-WEEKDAY(DATE(年間!$C$1,5,1))+37)),"") -> 31 | C13: =IF(MONTH((DATE(年間!$C$1,5,1)-WEEKDAY(DATE(年間!$C$1,5,1))+38))=5,DAY((DATE(年間!$C$1,5,1)-WEEKDAY(DATE(年間!$C$1,5,1))+38)),"") | D13: =IF(MONTH((DATE(年間!$C$1,5,1)-WEEKDAY(DATE(年間!$C$1,5,1))+39))=5,DAY((DATE(年間!$C$1,5,1)-WEEKDAY(DATE(年間!$C$1,5,1))+39)),"") | E13: =IF(MONTH((DATE(年間!$C$1,5,1)-WEEKDAY(DATE(年間!$C$1,5,1))+40))=5,DAY((DATE(年間!$C$1,5,1)-WEEKDAY(DATE(年間!$C$1,5,1))+40)),"") | F13: =IF(MONTH((DATE(年間!$C$1,5,1)-WEEKDAY(DATE(年間!$C$1,5,1))+41))=5,DAY((DATE(年間!$C$1,5,1)-WEEKDAY(DATE(年間!$C$1,5,1))+41)),"") | G13: =IF(MONTH((DATE(年間!$C$1,5,1)-WEEKDAY(DATE(年間!$C$1,5,1))+42))=5,DAY((DATE(年間!$C$1,5,1)-WEEKDAY(DATE(年間!$C$1,5,1))+42)),"")
A14: =IF(MONTH((DATE(年間!$C$1,5,1)-WEEKDAY(DATE(年間!$C$1,5,1))+36))=5,IFERROR(VLOOKUP((DATE(年間!$C$1,5,1)-WEEKDAY(DATE(年間!$C$1,5,1))+36),祝日!$A$2:$B$75,2,FALSE),""),"") | B14: =IF(MONTH((DATE(年間!$C$1,5,1)-WEEKDAY(DATE(年間!$C$1,5,1))+37))=5,IFERROR(VLOOKUP((DATE(年間!$C$1,5,1)-WEEKDAY(DATE(年間!$C$1,5,1))+37),祝日!$A$2:$B$75,2,FALSE),""),"") | C14: =IF(MONTH((DATE(年間!$C$1,5,1)-WEEKDAY(DATE(年間!$C$1,5,1))+38))=5,IFERROR(VLOOKUP((DATE(年間!$C$1,5,1)-WEEKDAY(DATE(年間!$C$1,5,1))+38),祝日!$A$2:$B$75,2,FALSE),""),"") | D14: =IF(MONTH((DATE(年間!$C$1,5,1)-WEEKDAY(DATE(年間!$C$1,5,1))+39))=5,IFERROR(VLOOKUP((DATE(年間!$C$1,5,1)-WEEKDAY(DATE(年間!$C$1,5,1))+39),祝日!$A$2:$B$75,2,FALSE),""),"") | E14: =IF(MONTH((DATE(年間!$C$1,5,1)-WEEKDAY(DATE(年間!$C$1,5,1))+40))=5,IFERROR(VLOOKUP((DATE(年間!$C$1,5,1)-WEEKDAY(DATE(年間!$C$1,5,1))+40),祝日!$A$2:$B$75,2,FALSE),""),"") | F14: =IF(MONTH((DATE(年間!$C$1,5,1)-WEEKDAY(DATE(年間!$C$1,5,1))+41))=5,IFERROR(VLOOKUP((DATE(年間!$C$1,5,1)-WEEKDAY(DATE(年間!$C$1,5,1))+41),祝日!$A$2:$B$75,2,FALSE),""),"") | G14: =IF(MONTH((DATE(年間!$C$1,5,1)-WEEKDAY(DATE(年間!$C$1,5,1))+42))=5,IFERROR(VLOOKUP((DATE(年間!$C$1,5,1)-WEEKDAY(DATE(年間!$C$1,5,1))+42),祝日!$A$2:$B$75,2,FALSE),""),"")

Sheet 6月
A1: =年間!$C$1&"年 6月" -> 2027年 6月
A2: 日 | B2: 月 | C2: 火 | D2: 水 | E2: 木 | F2: 金 | G2: 土
A3: =IF(MONTH((DATE(年間!$C$1,6,1)-WEEKDAY(DATE(年間!$C$1,6,1))+1))=6,DAY((DATE(年間!$C$1,6,1)-WEEKDAY(DATE(年間!$C$1,6,1))+1)),"") | B3: =IF(MONTH((DATE(年間!$C$1,6,1)-WEEKDAY(DATE(年間!$C$1,6,1))+2))=6,DAY((DATE(年間!$C$1,6,1)-WEEKDAY(DATE(年間!$C$1,6,1))+2)),"") | C3: =IF(MONTH((DATE(年間!$C$1,6,1)-WEEKDAY(DATE(年間!$C$1,6,1))+3))=6,DAY((DATE(年間!$C$1,6,1)-WEEKDAY(DATE(年間!$C$1,6,1))+3)),"") -> 1 | D3: =IF(MONTH((DATE(年間!$C$1,6,1)-WEEKDAY(DATE(年間!$C$1,6,1))+4))=6,DAY((DATE(年間!$C$1,6,1)-WEEKDAY(DATE(年間!$C$1,6,1))+4)),"") -> 2 | E3: =IF(MONTH((DATE(年間!$C$1,6,1)-WEEKDAY(DATE(年間!$C$1,6,1))+5))=6,DAY((DATE(年間!$C$1,6,1)-WEEKDAY(DATE(年間!$C$1,6,1))+5)),"") -> 3 | F3: =IF(MONTH((DATE(年間!$C$1,6,1)-WEEKDAY(DATE(年間!$C$1,6,1))+6))=6,DAY((DATE(年間!$C$1,6,1)-WEEKDAY(DATE(年間!$C$1,6,1))+6)),"") -> 4 | G3: =IF(MONTH((DATE(年間!$C$1,6,1)-WEEKDAY(DATE(年間!$C$1,6,1))+7))=6,DAY((DATE(年間!$C$1,6,1)-WEEKDAY(DATE(年間!$C$1,6,1))+7)),"") -> 5
A4: =IF(MONTH((DATE(年間!$C$1,6,1)-WEEKDAY(DATE(年間!$C$1,6,1))+1))=6,IFERROR(VLOOKUP((DATE(年間!$C$1,6,1)-WEEKDAY(DATE(年間!$C$1,6,1))+1),祝日!$A$2:$B$75,2,FALSE),""),"") | B4: =IF(MONTH((DATE(年間!$C$1,6,1)-WEEKDAY(DATE(年間!$C$1,6,1))+2))=6,IFERROR(VLOOKUP((DATE(年間!$C$1,6,1)-WEEKDAY(DATE(年間!$C$1,6,1))+2),祝日!$A$2:$B$75,2,FALSE),""),"") | C4: =IF(MONTH((DATE(年間!$C$1,6,1)-WEEKDAY(DATE(年間!$C$1,6,1))+3))=6,IFERROR(VLOOKUP((DATE(年間!$C$1,6,1)-WEEKDAY(DATE(年間!$C$1,6,1))+3),祝日!$A$2:$B$75,2,FALSE),""),"") | D4: =IF(MONTH((DATE(年間!$C$1,6,1)-WEEKDAY(DATE(年間!$C$1,6,1))+4))=6,IFERROR(VLOOKUP((DATE(年間!$C$1,6,1)-WEEKDAY(DATE(年間!$C$1,6,1))+4),祝日!$A$2:$B$75,2,FALSE),""),"") | E4: =IF(MONTH((DATE(年間!$C$1,6,1)-WEEKDAY(DATE(年間!$C$1,6,1))+5))=6,IFERROR(VLOOKUP((DATE(年間!$C$1,6,1)-WEEKDAY(DATE(年間!$C$1,6,1))+5),祝日!$A$2:$B$75,2,FALSE),""),"") | F4: =IF(MONTH((DATE(年間!$C$1,6,1)-WEEKDAY(DATE(年間!$C$1,6,1))+6))=6,IFERROR(VLOOKUP((DATE(年間!$C$1,6,1)-WEEKDAY(DATE(年間!$C$1,6,1))+6),祝日!$A$2:$B$75,2,FALSE),""),"") | G4: =IF(MONTH((DATE(年間!$C$1,6,1)-WEEKDAY(DATE(年間!$C$1,6,1))+7))=6,IFERROR(VLOOKUP((DATE(年間!$C$1,6,1)-WEEKDAY(DATE(年間!$C$1,6,1))+7),祝日!$A$2:$B$75,2,FALSE),""),"")
A5: =IF(MONTH((DATE(年間!$C$1,6,1)-WEEKDAY(DATE(年間!$C$1,6,1))+8))=6,DAY((DATE(年間!$C$1,6,1)-WEEKDAY(DATE(年間!$C$1,6,1))+8)),"") -> 6 | B5: =IF(MONTH((DATE(年間!$C$1,6,1)-WEEKDAY(DATE(年間!$C$1,6,1))+9))=6,DAY((DATE(年間!$C$1,6,1)-WEEKDAY(DATE(年間!$C$1,6,1))+9)),"") -> 7 | C5: =IF(MONTH((DATE(年間!$C$1,6,1)-WEEKDAY(DATE(年間!$C$1,6,1))+10))=6,DAY((DATE(年間!$C$1,6,1)-WEEKDAY(DATE(年間!$C$1,6,1))+10)),"") -> 8 | D5: =IF(MONTH((DATE(年間!$C$1,6,1)-WEEKDAY(DATE(年間!$C$1,6,1))+11))=6,DAY((DATE(年間!$C$1,6,1)-WEEKDAY(DATE(年間!$C$1,6,1))+11)),"") -> 9 | E5: =IF(MONTH((DATE(年間!$C$1,6,1)-WEEKDAY(DATE(年間!$C$1,6,1))+12))=6,DAY((DATE(年間!$C$1,6,1)-WEEKDAY(DATE(年間!$C$1,6,1))+12)),"") -> 10 | F5: =IF(MONTH((DATE(年間!$C$1,6,1)-WEEKDAY(DATE(年間!$C$1,6,1))+13))=6,DAY((DATE(年間!$C$1,6,1)-WEEKDAY(DATE(年間!$C$1,6,1))+13)),"") -> 11 | G5: =IF(MONTH((DATE(年間!$C$1,6,1)-WEEKDAY(DATE(年間!$C$1,6,1))+14))=6,DAY((DATE(年間!$C$1,6,1)-WEEKDAY(DATE(年間!$C$1,6,1))+14)),"") -> 12
A6: =IF(MONTH((DATE(年間!$C$1,6,1)-WEEKDAY(DATE(年間!$C$1,6,1))+8))=6,IFERROR(VLOOKUP((DATE(年間!$C$1,6,1)-WEEKDAY(DATE(年間!$C$1,6,1))+8),祝日!$A$2:$B$75,2,FALSE),""),"") | B6: =IF(MONTH((DATE(年間!$C$1,6,1)-WEEKDAY(DATE(年間!$C$1,6,1))+9))=6,IFERROR(VLOOKUP((DATE(年間!$C$1,6,1)-WEEKDAY(DATE(年間!$C$1,6,1))+9),祝日!$A$2:$B$75,2,FALSE),""),"") | C6: =IF(MONTH((DATE(年間!$C$1,6,1)-WEEKDAY(DATE(年間!$C$1,6,1))+10))=6,IFERROR(VLOOKUP((DATE(年間!$C$1,6,1)-WEEKDAY(DATE(年間!$C$1,6,1))+10),祝日!$A$2:$B$75,2,FALSE),""),"") | D6: =IF(MONTH((DATE(年間!$C$1,6,1)-WEEKDAY(DATE(年間!$C$1,6,1))+11))=6,IFERROR(VLOOKUP((DATE(年間!$C$1,6,1)-WEEKDAY(DATE(年間!$C$1,6,1))+11),祝日!$A$2:$B$75,2,FALSE),""),"") | E6: =IF(MONTH((DATE(年間!$C$1,6,1)-WEEKDAY(DATE(年間!$C$1,6,1))+12))=6,IFERROR(VLOOKUP((DATE(年間!$C$1,6,1)-WEEKDAY(DATE(年間!$C$1,6,1))+12),祝日!$A$2:$B$75,2,FALSE),""),"") | F6: =IF(MONTH((DATE(年間!$C$1,6,1)-WEEKDAY(DATE(年間!$C$1,6,1))+13))=6,IFERROR(VLOOKUP((DATE(年間!$C$1,6,1)-WEEKDAY(DATE(年間!$C$1,6,1))+13),祝日!$A$2:$B$75,2,FALSE),""),"") | G6: =IF(MONTH((DATE(年間!$C$1,6,1)-WEEKDAY(DATE(年間!$C$1,6,1))+14))=6,IFERROR(VLOOKUP((DATE(年間!$C$1,6,1)-WEEKDAY(DATE(年間!$C$1,6,1))+14),祝日!$A$2:$B$75,2,FALSE),""),"")
A7: =IF(MONTH((DATE(年間!$C$1,6,1)-WEEKDAY(DATE(年間!$C$1,6,1))+15))=6,DAY((DATE(年間!$C$1,6,1)-WEEKDAY(DATE(年間!$C$1,6,1))+15)),"") -> 13 | B7: =IF(MONTH((DATE(年間!$C$1,6,1)-WEEKDAY(DATE(年間!$C$1,6,1))+16))=6,DAY((DATE(年間!$C$1,6,1)-WEEKDAY(DATE(年間!$C$1,6,1))+16)),"") -> 14 | C7: =IF(MONTH((DATE(年間!$C$1,6,1)-WEEKDAY(DATE(年間!$C$1,6,1))+17))=6,DAY((DATE(年間!$C$1,6,1)-WEEKDAY(DATE(年間!$C$1,6,1))+17)),"") -> 15 | D7: =IF(MONTH((DATE(年間!$C$1,6,1)-WEEKDAY(DATE(年間!$C$1,6,1))+18))=6,DAY((DATE(年間!$C$1,6,1)-WEEKDAY(DATE(年間!$C$1,6,1))+18)),"") -> 16 | E7: =IF(MONTH((DATE(年間!$C$1,6,1)-WEEKDAY(DATE(年間!$C$1,6,1))+19))=6,DAY((DATE(年間!$C$1,6,1)-WEEKDAY(DATE(年間!$C$1,6,1))+19)),"") -> 17 | F7: =IF(MONTH((DATE(年間!$C$1,6,1)-WEEKDAY(DATE(年間!$C$1,6,1))+20))=6,DAY((DATE(年間!$C$1,6,1)-WEEKDAY(DATE(年間!$C$1,6,1))+20)),"") -> 18 | G7: =IF(MONTH((DATE(年間!$C$1,6,1)-WEEKDAY(DATE(年間!$C$1,6,1))+21))=6,DAY((DATE(年間!$C$1,6,1)-WEEKDAY(DATE(年間!$C$1,6,1))+21)),"") -> 19
A8: =IF(MONTH((DATE(年間!$C$1,6,1)-WEEKDAY(DATE(年間!$C$1,6,1))+15))=6,IFERROR(VLOOKUP((DATE(年間!$C$1,6,1)-WEEKDAY(DATE(年間!$C$1,6,1))+15),祝日!$A$2:$B$75,2,FALSE),""),"") | B8: =IF(MONTH((DATE(年間!$C$1,6,1)-WEEKDAY(DATE(年間!$C$1,6,1))+16))=6,IFERROR(VLOOKUP((DATE(年間!$C$1,6,1)-WEEKDAY(DATE(年間!$C$1,6,1))+16),祝日!$A$2:$B$75,2,FALSE),""),"") | C8: =IF(MONTH((DATE(年間!$C$1,6,1)-WEEKDAY(DATE(年間!$C$1,6,1))+17))=6,IFERROR(VLOOKUP((DATE(年間!$C$1,6,1)-WEEKDAY(DATE(年間!$C$1,6,1))+17),祝日!$A$2:$B$75,2,FALSE),""),"") | D8: =IF(MONTH((DATE(年間!$C$1,6,1)-WEEKDAY(DATE(年間!$C$1,6,1))+18))=6,IFERROR(VLOOKUP((DATE(年間!$C$1,6,1)-WEEKDAY(DATE(年間!$C$1,6,1))+18),祝日!$A$2:$B$75,2,FALSE),""),"") | E8: =IF(MONTH((DATE(年間!$C$1,6,1)-WEEKDAY(DATE(年間!$C$1,6,1))+19))=6,IFERROR(VLOOKUP((DATE(年間!$C$1,6,1)-WEEKDAY(DATE(年間!$C$1,6,1))+19),祝日!$A$2:$B$75,2,FALSE),""),"") | F8: =IF(MONTH((DATE(年間!$C$1,6,1)-WEEKDAY(DATE(年間!$C$1,6,1))+20))=6,IFERROR(VLOOKUP((DATE(年間!$C$1,6,1)-WEEKDAY(DATE(年間!$C$1,6,1))+20),祝日!$A$2:$B$75,2,FALSE),""),"") | G8: =IF(MONTH((DATE(年間!$C$1,6,1)-WEEKDAY(DATE(年間!$C$1,6,1))+21))=6,IFERROR(VLOOKUP((DATE(年間!$C$1,6,1)-WEEKDAY(DATE(年間!$C$1,6,1))+21),祝日!$A$2:$B$75,2,FALSE),""),"")
A9: =IF(MONTH((DATE(年間!$C$1,6,1)-WEEKDAY(DATE(年間!$C$1,6,1))+22))=6,DAY((DATE(年間!$C$1,6,1)-WEEKDAY(DATE(年間!$C$1,6,1))+22)),"") -> 20 | B9: =IF(MONTH((DATE(年間!$C$1,6,1)-WEEKDAY(DATE(年間!$C$1,6,1))+23))=6,DAY((DATE(年間!$C$1,6,1)-WEEKDAY(DATE(年間!$C$1,6,1))+23)),"") -> 21 | C9: =IF(MONTH((DATE(年間!$C$1,6,1)-WEEKDAY(DATE(年間!$C$1,6,1))+24))=6,DAY((DATE(年間!$C$1,6,1)-WEEKDAY(DATE(年間!$C$1,6,1))+24)),"") -> 22 | D9: =IF(MONTH((DATE(年間!$C$1,6,1)-WEEKDAY(DATE(年間!$C$1,6,1))+25))=6,DAY((DATE(年間!$C$1,6,1)-WEEKDAY(DATE(年間!$C$1,6,1))+25)),"") -> 23 | E9: =IF(MONTH((DATE(年間!$C$1,6,1)-WEEKDAY(DATE(年間!$C$1,6,1))+26))=6,DAY((DATE(年間!$C$1,6,1)-WEEKDAY(DATE(年間!$C$1,6,1))+26)),"") -> 24 | F9: =IF(MONTH((DATE(年間!$C$1,6,1)-WEEKDAY(DATE(年間!$C$1,6,1))+27))=6,DAY((DATE(年間!$C$1,6,1)-WEEKDAY(DATE(年間!$C$1,6,1))+27)),"") -> 25 | G9: =IF(MONTH((DATE(年間!$C$1,6,1)-WEEKDAY(DATE(年間!$C$1,6,1))+28))=6,DAY((DATE(年間!$C$1,6,1)-WEEKDAY(DATE(年間!$C$1,6,1))+28)),"") -> 26
A10: =IF(MONTH((DATE(年間!$C$1,6,1)-WEEKDAY(DATE(年間!$C$1,6,1))+22))=6,IFERROR(VLOOKUP((DATE(年間!$C$1,6,1)-WEEKDAY(DATE(年間!$C$1,6,1))+22),祝日!$A$2:$B$75,2,FALSE),""),"") | B10: =IF(MONTH((DATE(年間!$C$1,6,1)-WEEKDAY(DATE(年間!$C$1,6,1))+23))=6,IFERROR(VLOOKUP((DATE(年間!$C$1,6,1)-WEEKDAY(DATE(年間!$C$1,6,1))+23),祝日!$A$2:$B$75,2,FALSE),""),"") | C10: =IF(MONTH((DATE(年間!$C$1,6,1)-WEEKDAY(DATE(年間!$C$1,6,1))+24))=6,IFERROR(VLOOKUP((DATE(年間!$C$1,6,1)-WEEKDAY(DATE(年間!$C$1,6,1))+24),祝日!$A$2:$B$75,2,FALSE),""),"") | D10: =IF(MONTH((DATE(年間!$C$1,6,1)-WEEKDAY(DATE(年間!$C$1,6,1))+25))=6,IFERROR(VLOOKUP((DATE(年間!$C$1,6,1)-WEEKDAY(DATE(年間!$C$1,6,1))+25),祝日!$A$2:$B$75,2,FALSE),""),"") | E10: =IF(MONTH((DATE(年間!$C$1,6,1)-WEEKDAY(DATE(年間!$C$1,6,1))+26))=6,IFERROR(VLOOKUP((DATE(年間!$C$1,6,1)-WEEKDAY(DATE(年間!$C$1,6,1))+26),祝日!$A$2:$B$75,2,FALSE),""),"") | F10: =IF(MONTH((DATE(年間!$C$1,6,1)-WEEKDAY(DATE(年間!$C$1,6,1))+27))=6,IFERROR(VLOOKUP((DATE(年間!$C$1,6,1)-WEEKDAY(DATE(年間!$C$1,6,1))+27),祝日!$A$2:$B$75,2,FALSE),""),"") | G10: =IF(MONTH((DATE(年間!$C$1,6,1)-WEEKDAY(DATE(年間!$C$1,6,1))+28))=6,IFERROR(VLOOKUP((DATE(年間!$C$1,6,1)-WEEKDAY(DATE(年間!$C$1,6,1))+28),祝日!$A$2:$B$75,2,FALSE),""),"")
A11: =IF(MONTH((DATE(年間!$C$1,6,1)-WEEKDAY(DATE(年間!$C$1,6,1))+29))=6,DAY((DATE(年間!$C$1,6,1)-WEEKDAY(DATE(年間!$C$1,6,1))+29)),"") -> 27 | B11: =IF(MONTH((DATE(年間!$C$1,6,1)-WEEKDAY(DATE(年間!$C$1,6,1))+30))=6,DAY((DATE(年間!$C$1,6,1)-WEEKDAY(DATE(年間!$C$1,6,1))+30)),"") -> 28 | C11: =IF(MONTH((DATE(年間!$C$1,6,1)-WEEKDAY(DATE(年間!$C$1,6,1))+31))=6,DAY((DATE(年間!$C$1,6,1)-WEEKDAY(DATE(年間!$C$1,6,1))+31)),"") -> 29 | D11: =IF(MONTH((DATE(年間!$C$1,6,1)-WEEKDAY(DATE(年間!$C$1,6,1))+32))=6,DAY((DATE(年間!$C$1,6,1)-WEEKDAY(DATE(年間!$C$1,6,1))+32)),"") -> 30 | E11: =IF(MONTH((DATE(年間!$C$1,6,1)-WEEKDAY(DATE(年間!$C$1,6,1))+33))=6,DAY((DATE(年間!$C$1,6,1)-WEEKDAY(DATE(年間!$C$1,6,1))+33)),"") | F11: =IF(MONTH((DATE(年間!$C$1,6,1)-WEEKDAY(DATE(年間!$C$1,6,1))+34))=6,DAY((DATE(年間!$C$1,6,1)-WEEKDAY(DATE(年間!$C$1,6,1))+34)),"") | G11: =IF(MONTH((DATE(年間!$C$1,6,1)-WEEKDAY(DATE(年間!$C$1,6,1))+35))=6,DAY((DATE(年間!$C$1,6,1)-WEEKDAY(DATE(年間!$C$1,6,1))+35)),"")
A12: =IF(MONTH((DATE(年間!$C$1,6,1)-WEEKDAY(DATE(年間!$C$1,6,1))+29))=6,IFERROR(VLOOKUP((DATE(年間!$C$1,6,1)-WEEKDAY(DATE(年間!$C$1,6,1))+29),祝日!$A$2:$B$75,2,FALSE),""),"") | B12: =IF(MONTH((DATE(年間!$C$1,6,1)-WEEKDAY(DATE(年間!$C$1,6,1))+30))=6,IFERROR(VLOOKUP((DATE(年間!$C$1,6,1)-WEEKDAY(DATE(年間!$C$1,6,1))+30),祝日!$A$2:$B$75,2,FALSE),""),"") | C12: =IF(MONTH((DATE(年間!$C$1,6,1)-WEEKDAY(DATE(年間!$C$1,6,1))+31))=6,IFERROR(VLOOKUP((DATE(年間!$C$1,6,1)-WEEKDAY(DATE(年間!$C$1,6,1))+31),祝日!$A$2:$B$75,2,FALSE),""),"") | D12: =IF(MONTH((DATE(年間!$C$1,6,1)-WEEKDAY(DATE(年間!$C$1,6,1))+32))=6,IFERROR(VLOOKUP((DATE(年間!$C$1,6,1)-WEEKDAY(DATE(年間!$C$1,6,1))+32),祝日!$A$2:$B$75,2,FALSE),""),"") | E12: =IF(MONTH((DATE(年間!$C$1,6,1)-WEEKDAY(DATE(年間!$C$1,6,1))+33))=6,IFERROR(VLOOKUP((DATE(年間!$C$1,6,1)-WEEKDAY(DATE(年間!$C$1,6,1))+33),祝日!$A$2:$B$75,2,FALSE),""),"") | F12: =IF(MONTH((DATE(年間!$C$1,6,1)-WEEKDAY(DATE(年間!$C$1,6,1))+34))=6,IFERROR(VLOOKUP((DATE(年間!$C$1,6,1)-WEEKDAY(DATE(年間!$C$1,6,1))+34),祝日!$A$2:$B$75,2,FALSE),""),"") | G12: =IF(MONTH((DATE(年間!$C$1,6,1)-WEEKDAY(DATE(年間!$C$1,6,1))+35))=6,IFERROR(VLOOKUP((DATE(年間!$C$1,6,1)-WEEKDAY(DATE(年間!$C$1,6,1))+35),祝日!$A$2:$B$75,2,FALSE),""),"")
A13: =IF(MONTH((DATE(年間!$C$1,6,1)-WEEKDAY(DATE(年間!$C$1,6,1))+36))=6,DAY((DATE(年間!$C$1,6,1)-WEEKDAY(DATE(年間!$C$1,6,1))+36)),"") | B13: =IF(MONTH((DATE(年間!$C$1,6,1)-WEEKDAY(DATE(年間!$C$1,6,1))+37))=6,DAY((DATE(年間!$C$1,6,1)-WEEKDAY(DATE(年間!$C$1,6,1))+37)),"") | C13: =IF(MONTH((DATE(年間!$C$1,6,1)-WEEKDAY(DATE(年間!$C$1,6,1))+38))=6,DAY((DATE(年間!$C$1,6,1)-WEEKDAY(DATE(年間!$C$1,6,1))+38)),"") | D13: =IF(MONTH((DATE(年間!$C$1,6,1)-WEEKDAY(DATE(年間!$C$1,6,1))+39))=6,DAY((DATE(年間!$C$1,6,1)-WEEKDAY(DATE(年間!$C$1,6,1))+39)),"") | E13: =IF(MONTH((DATE(年間!$C$1,6,1)-WEEKDAY(DATE(年間!$C$1,6,1))+40))=6,DAY((DATE(年間!$C$1,6,1)-WEEKDAY(DATE(年間!$C$1,6,1))+40)),"") | F13: =IF(MONTH((DATE(年間!$C$1,6,1)-WEEKDAY(DATE(年間!$C$1,6,1))+41))=6,DAY((DATE(年間!$C$1,6,1)-WEEKDAY(DATE(年間!$C$1,6,1))+41)),"") | G13: =IF(MONTH((DATE(年間!$C$1,6,1)-WEEKDAY(DATE(年間!$C$1,6,1))+42))=6,DAY((DATE(年間!$C$1,6,1)-WEEKDAY(DATE(年間!$C$1,6,1))+42)),"")
A14: =IF(MONTH((DATE(年間!$C$1,6,1)-WEEKDAY(DATE(年間!$C$1,6,1))+36))=6,IFERROR(VLOOKUP((DATE(年間!$C$1,6,1)-WEEKDAY(DATE(年間!$C$1,6,1))+36),祝日!$A$2:$B$75,2,FALSE),""),"") | B14: =IF(MONTH((DATE(年間!$C$1,6,1)-WEEKDAY(DATE(年間!$C$1,6,1))+37))=6,IFERROR(VLOOKUP((DATE(年間!$C$1,6,1)-WEEKDAY(DATE(年間!$C$1,6,1))+37),祝日!$A$2:$B$75,2,FALSE),""),"") | C14: =IF(MONTH((DATE(年間!$C$1,6,1)-WEEKDAY(DATE(年間!$C$1,6,1))+38))=6,IFERROR(VLOOKUP((DATE(年間!$C$1,6,1)-WEEKDAY(DATE(年間!$C$1,6,1))+38),祝日!$A$2:$B$75,2,FALSE),""),"") | D14: =IF(MONTH((DATE(年間!$C$1,6,1)-WEEKDAY(DATE(年間!$C$1,6,1))+39))=6,IFERROR(VLOOKUP((DATE(年間!$C$1,6,1)-WEEKDAY(DATE(年間!$C$1,6,1))+39),祝日!$A$2:$B$75,2,FALSE),""),"") | E14: =IF(MONTH((DATE(年間!$C$1,6,1)-WEEKDAY(DATE(年間!$C$1,6,1))+40))=6,IFERROR(VLOOKUP((DATE(年間!$C$1,6,1)-WEEKDAY(DATE(年間!$C$1,6,1))+40),祝日!$A$2:$B$75,2,FALSE),""),"") | F14: =IF(MONTH((DATE(年間!$C$1,6,1)-WEEKDAY(DATE(年間!$C$1,6,1))+41))=6,IFERROR(VLOOKUP((DATE(年間!$C$1,6,1)-WEEKDAY(DATE(年間!$C$1,6,1))+41),祝日!$A$2:$B$75,2,FALSE),""),"") | G14: =IF(MONTH((DATE(年間!$C$1,6,1)-WEEKDAY(DATE(年間!$C$1,6,1))+42))=6,IFERROR(VLOOKUP((DATE(年間!$C$1,6,1)-WEEKDAY(DATE(年間!$C$1,6,1))+42),祝日!$A$2:$B$75,2,FALSE),""),"")

Sheet 7月
A1: =年間!$C$1&"年 7月" -> 2027年 7月
A2: 日 | B2: 月 | C2: 火 | D2: 水 | E2: 木 | F2: 金 | G2: 土
A3: =IF(MONTH((DATE(年間!$C$1,7,1)-WEEKDAY(DATE(年間!$C$1,7,1))+1))=7,DAY((DATE(年間!$C$1,7,1)-WEEKDAY(DATE(年間!$C$1,7,1))+1)),"") | B3: =IF(MONTH((DATE(年間!$C$1,7,1)-WEEKDAY(DATE(年間!$C$1,7,1))+2))=7,DAY((DATE(年間!$C$1,7,1)-WEEKDAY(DATE(年間!$C$1,7,1))+2)),"") | C3: =IF(MONTH((DATE(年間!$C$1,7,1)-WEEKDAY(DATE(年間!$C$1,7,1))+3))=7,DAY((DATE(年間!$C$1,7,1)-WEEKDAY(DATE(年間!$C$1,7,1))+3)),"") | D3: =IF(MONTH((DATE(年間!$C$1,7,1)-WEEKDAY(DATE(年間!$C$1,7,1))+4))=7,DAY((DATE(年間!$C$1,7,1)-WEEKDAY(DATE(年間!$C$1,7,1))+4)),"") | E3: =IF(MONTH((DATE(年間!$C$1,7,1)-WEEKDAY(DATE(年間!$C$1,7,1))+5))=7,DAY((DATE(年間!$C$1,7,1)-WEEKDAY(DATE(年間!$C$1,7,1))+5)),"") -> 1 | F3: =IF(MONTH((DATE(年間!$C$1,7,1)-WEEKDAY(DATE(年間!$C$1,7,1))+6))=7,DAY((DATE(年間!$C$1,7,1)-WEEKDAY(DATE(年間!$C$1,7,1))+6)),"") -> 2 | G3: =IF(MONTH((DATE(年間!$C$1,7,1)-WEEKDAY(DATE(年間!$C$1,7,1))+7))=7,DAY((DATE(年間!$C$1,7,1)-WEEKDAY(DATE(年間!$C$1,7,1))+7)),"") -> 3
A4: =IF(MONTH((DATE(年間!$C$1,7,1)-WEEKDAY(DATE(年間!$C$1,7,1))+1))=7,IFERROR(VLOOKUP((DATE(年間!$C$1,7,1)-WEEKDAY(DATE(年間!$C$1,7,1))+1),祝日!$A$2:$B$75,2,FALSE),""),"") | B4: =IF(MONTH((DATE(年間!$C$1,7,1)-WEEKDAY(DATE(年間!$C$1,7,1))+2))=7,IFERROR(VLOOKUP((DATE(年間!$C$1,7,1)-WEEKDAY(DATE(年間!$C$1,7,1))+2),祝日!$A$2:$B$75,2,FALSE),""),"") | C4: =IF(MONTH((DATE(年間!$C$1,7,1)-WEEKDAY(DATE(年間!$C$1,7,1))+3))=7,IFERROR(VLOOKUP((DATE(年間!$C$1,7,1)-WEEKDAY(DATE(年間!$C$1,7,1))+3),祝日!$A$2:$B$75,2,FALSE),""),"") | D4: =IF(MONTH((DATE(年間!$C$1,7,1)-WEEKDAY(DATE(年間!$C$1,7,1))+4))=7,IFERROR(VLOOKUP((DATE(年間!$C$1,7,1)-WEEKDAY(DATE(年間!$C$1,7,1))+4),祝日!$A$2:$B$75,2,FALSE),""),"") | E4: =IF(MONTH((DATE(年間!$C$1,7,1)-WEEKDAY(DATE(年間!$C$1,7,1))+5))=7,IFERROR(VLOOKUP((DATE(年間!$C$1,7,1)-WEEKDAY(DATE(年間!$C$1,7,1))+5),祝日!$A$2:$B$75,2,FALSE),""),"") | F4: =IF(MONTH((DATE(年間!$C$1,7,1)-WEEKDAY(DATE(年間!$C$1,7,1))+6))=7,IFERROR(VLOOKUP((DATE(年間!$C$1,7,1)-WEEKDAY(DATE(年間!$C$1,7,1))+6),祝日!$A$2:$B$75,2,FALSE),""),"") | G4: =IF(MONTH((DATE(年間!$C$1,7,1)-WEEKDAY(DATE(年間!$C$1,7,1))+7))=7,IFERROR(VLOOKUP((DATE(年間!$C$1,7,1)-WEEKDAY(DATE(年間!$C$1,7,1))+7),祝日!$A$2:$B$75,2,FALSE),""),"")
A5: =IF(MONTH((DATE(年間!$C$1,7,1)-WEEKDAY(DATE(年間!$C$1,7,1))+8))=7,DAY((DATE(年間!$C$1,7,1)-WEEKDAY(DATE(年間!$C$1,7,1))+8)),"") -> 4 | B5: =IF(MONTH((DATE(年間!$C$1,7,1)-WEEKDAY(DATE(年間!$C$1,7,1))+9))=7,DAY((DATE(年間!$C$1,7,1)-WEEKDAY(DATE(年間!$C$1,7,1))+9)),"") -> 5 | C5: =IF(MONTH((DATE(年間!$C$1,7,1)-WEEKDAY(DATE(年間!$C$1,7,1))+10))=7,DAY((DATE(年間!$C$1,7,1)-WEEKDAY(DATE(年間!$C$1,7,1))+10)),"") -> 6 | D5: =IF(MONTH((DATE(年間!$C$1,7,1)-WEEKDAY(DATE(年間!$C$1,7,1))+11))=7,DAY((DATE(年間!$C$1,7,1)-WEEKDAY(DATE(年間!$C$1,7,1))+11)),"") -> 7 | E5: =IF(MONTH((DATE(年間!$C$1,7,1)-WEEKDAY(DATE(年間!$C$1,7,1))+12))=7,DAY((DATE(年間!$C$1,7,1)-WEEKDAY(DATE(年間!$C$1,7,1))+12)),"") -> 8 | F5: =IF(MONTH((DATE(年間!$C$1,7,1)-WEEKDAY(DATE(年間!$C$1,7,1))+13))=7,DAY((DATE(年間!$C$1,7,1)-WEEKDAY(DATE(年間!$C$1,7,1))+13)),"") -> 9 | G5: =IF(MONTH((DATE(年間!$C$1,7,1)-WEEKDAY(DATE(年間!$C$1,7,1))+14))=7,DAY((DATE(年間!$C$1,7,1)-WEEKDAY(DATE(年間!$C$1,7,1))+14)),"") -> 10
A6: =IF(MONTH((DATE(年間!$C$1,7,1)-WEEKDAY(DATE(年間!$C$1,7,1))+8))=7,IFERROR(VLOOKUP((DATE(年間!$C$1,7,1)-WEEKDAY(DATE(年間!$C$1,7,1))+8),祝日!$A$2:$B$75,2,FALSE),""),"") | B6: =IF(MONTH((DATE(年間!$C$1,7,1)-WEEKDAY(DATE(年間!$C$1,7,1))+9))=7,IFERROR(VLOOKUP((DATE(年間!$C$1,7,1)-WEEKDAY(DATE(年間!$C$1,7,1))+9),祝日!$A$2:$B$75,2,FALSE),""),"") | C6: =IF(MONTH((DATE(年間!$C$1,7,1)-WEEKDAY(DATE(年間!$C$1,7,1))+10))=7,IFERROR(VLOOKUP((DATE(年間!$C$1,7,1)-WEEKDAY(DATE(年間!$C$1,7,1))+10),祝日!$A$2:$B$75,2,FALSE),""),"") | D6: =IF(MONTH((DATE(年間!$C$1,7,1)-WEEKDAY(DATE(年間!$C$1,7,1))+11))=7,IFERROR(VLOOKUP((DATE(年間!$C$1,7,1)-WEEKDAY(DATE(年間!$C$1,7,1))+11),祝日!$A$2:$B$75,2,FALSE),""),"") | E6: =IF(MONTH((DATE(年間!$C$1,7,1)-WEEKDAY(DATE(年間!$C$1,7,1))+12))=7,IFERROR(VLOOKUP((DATE(年間!$C$1,7,1)-WEEKDAY(DATE(年間!$C$1,7,1))+12),祝日!$A$2:$B$75,2,FALSE),""),"") | F6: =IF(MONTH((DATE(年間!$C$1,7,1)-WEEKDAY(DATE(年間!$C$1,7,1))+13))=7,IFERROR(VLOOKUP((DATE(年間!$C$1,7,1)-WEEKDAY(DATE(年間!$C$1,7,1))+13),祝日!$A$2:$B$75,2,FALSE),""),"") | G6: =IF(MONTH((DATE(年間!$C$1,7,1)-WEEKDAY(DATE(年間!$C$1,7,1))+14))=7,IFERROR(VLOOKUP((DATE(年間!$C$1,7,1)-WEEKDAY(DATE(年間!$C$1,7,1))+14),祝日!$A$2:$B$75,2,FALSE),""),"")
A7: =IF(MONTH((DATE(年間!$C$1,7,1)-WEEKDAY(DATE(年間!$C$1,7,1))+15))=7,DAY((DATE(年間!$C$1,7,1)-WEEKDAY(DATE(年間!$C$1,7,1))+15)),"") -> 11 | B7: =IF(MONTH((DATE(年間!$C$1,7,1)-WEEKDAY(DATE(年間!$C$1,7,1))+16))=7,DAY((DATE(年間!$C$1,7,1)-WEEKDAY(DATE(年間!$C$1,7,1))+16)),"") -> 12 | C7: =IF(MONTH((DATE(年間!$C$1,7,1)-WEEKDAY(DATE(年間!$C$1,7,1))+17))=7,DAY((DATE(年間!$C$1,7,1)-WEEKDAY(DATE(年間!$C$1,7,1))+17)),"") -> 13 | D7: =IF(MONTH((DATE(年間!$C$1,7,1)-WEEKDAY(DATE(年間!$C$1,7,1))+18))=7,DAY((DATE(年間!$C$1,7,1)-WEEKDAY(DATE(年間!$C$1,7,1))+18)),"") -> 14 | E7: =IF(MONTH((DATE(年間!$C$1,7,1)-WEEKDAY(DATE(年間!$C$1,7,1))+19))=7,DAY((DATE(年間!$C$1,7,1)-WEEKDAY(DATE(年間!$C$1,7,1))+19)),"") -> 15 | F7: =IF(MONTH((DATE(年間!$C$1,7,1)-WEEKDAY(DATE(年間!$C$1,7,1))+20))=7,DAY((DATE(年間!$C$1,7,1)-WEEKDAY(DATE(年間!$C$1,7,1))+20)),"") -> 16 | G7: =IF(MONTH((DATE(年間!$C$1,7,1)-WEEKDAY(DATE(年間!$C$1,7,1))+21))=7,DAY((DATE(年間!$C$1,7,1)-WEEKDAY(DATE(年間!$C$1,7,1))+21)),"") -> 17
A8: =IF(MONTH((DATE(年間!$C$1,7,1)-WEEKDAY(DATE(年間!$C$1,7,1))+15))=7,IFERROR(VLOOKUP((DATE(年間!$C$1,7,1)-WEEKDAY(DATE(年間!$C$1,7,1))+15),祝日!$A$2:$B$75,2,FALSE),""),"") | B8: =IF(MONTH((DATE(年間!$C$1,7,1)-WEEKDAY(DATE(年間!$C$1,7,1))+16))=7,IFERROR(VLOOKUP((DATE(年間!$C$1,7,1)-WEEKDAY(DATE(年間!$C$1,7,1))+16),祝日!$A$2:$B$75,2,FALSE),""),"") | C8: =IF(MONTH((DATE(年間!$C$1,7,1)-WEEKDAY(DATE(年間!$C$1,7,1))+17))=7,IFERROR(VLOOKUP((DATE(年間!$C$1,7,1)-WEEKDAY(DATE(年間!$C$1,7,1))+17),祝日!$A$2:$B$75,2,FALSE),""),"") | D8: =IF(MONTH((DATE(年間!$C$1,7,1)-WEEKDAY(DATE(年間!$C$1,7,1))+18))=7,IFERROR(VLOOKUP((DATE(年間!$C$1,7,1)-WEEKDAY(DATE(年間!$C$1,7,1))+18),祝日!$A$2:$B$75,2,FALSE),""),"") | E8: =IF(MONTH((DATE(年間!$C$1,7,1)-WEEKDAY(DATE(年間!$C$1,7,1))+19))=7,IFERROR(VLOOKUP((DATE(年間!$C$1,7,1)-WEEKDAY(DATE(年間!$C$1,7,1))+19),祝日!$A$2:$B$75,2,FALSE),""),"") | F8: =IF(MONTH((DATE(年間!$C$1,7,1)-WEEKDAY(DATE(年間!$C$1,7,1))+20))=7,IFERROR(VLOOKUP((DATE(年間!$C$1,7,1)-WEEKDAY(DATE(年間!$C$1,7,1))+20),祝日!$A$2:$B$75,2,FALSE),""),"") | G8: =IF(MONTH((DATE(年間!$C$1,7,1)-WEEKDAY(DATE(年間!$C$1,7,1))+21))=7,IFERROR(VLOOKUP((DATE(年間!$C$1,7,1)-WEEKDAY(DATE(年間!$C$1,7,1))+21),祝日!$A$2:$B$75,2,FALSE),""),"")
A9: =IF(MONTH((DATE(年間!$C$1,7,1)-WEEKDAY(DATE(年間!$C$1,7,1))+22))=7,DAY((DATE(年間!$C$1,7,1)-WEEKDAY(DATE(年間!$C$1,7,1))+22)),"") -> 18 | B9: =IF(MONTH((DATE(年間!$C$1,7,1)-WEEKDAY(DATE(年間!$C$1,7,1))+23))=7,DAY((DATE(年間!$C$1,7,1)-WEEKDAY(DATE(年間!$C$1,7,1))+23)),"") -> 19 | C9: =IF(MONTH((DATE(年間!$C$1,7,1)-WEEKDAY(DATE(年間!$C$1,7,1))+24))=7,DAY((DATE(年間!$C$1,7,1)-WEEKDAY(DATE(年間!$C$1,7,1))+24)),"") -> 20 | D9: =IF(MONTH((DATE(年間!$C$1,7,1)-WEEKDAY(DATE(年間!$C$1,7,1))+25))=7,DAY((DATE(年間!$C$1,7,1)-WEEKDAY(DATE(年間!$C$1,7,1))+25)),"") -> 21 | E9: =IF(MONTH((DATE(年間!$C$1,7,1)-WEEKDAY(DATE(年間!$C$1,7,1))+26))=7,DAY((DATE(年間!$C$1,7,1)-WEEKDAY(DATE(年間!$C$1,7,1))+26)),"") -> 22 | F9: =IF(MONTH((DATE(年間!$C$1,7,1)-WEEKDAY(DATE(年間!$C$1,7,1))+27))=7,DAY((DATE(年間!$C$1,7,1)-WEEKDAY(DATE(年間!$C$1,7,1))+27)),"") -> 23 | G9: =IF(MONTH((DATE(年間!$C$1,7,1)-WEEKDAY(DATE(年間!$C$1,7,1))+28))=7,DAY((DATE(年間!$C$1,7,1)-WEEKDAY(DATE(年間!$C$1,7,1))+28)),"") -> 24
A10: =IF(MONTH((DATE(年間!$C$1,7,1)-WEEKDAY(DATE(年間!$C$1,7,1))+22))=7,IFERROR(VLOOKUP((DATE(年間!$C$1,7,1)-WEEKDAY(DATE(年間!$C$1,7,1))+22),祝日!$A$2:$B$75,2,FALSE),""),"") | B10: =IF(MONTH((DATE(年間!$C$1,7,1)-WEEKDAY(DATE(年間!$C$1,7,1))+23))=7,IFERROR(VLOOKUP((DATE(年間!$C$1,7,1)-WEEKDAY(DATE(年間!$C$1,7,1))+23),祝日!$A$2:$B$75,2,FALSE),""),"") -> 海の日 | C10: =IF(MONTH((DATE(年間!$C$1,7,1)-WEEKDAY(DATE(年間!$C$1,7,1))+24))=7,IFERROR(VLOOKUP((DATE(年間!$C$1,7,1)-WEEKDAY(DATE(年間!$C$1,7,1))+24),祝日!$A$2:$B$75,2,FALSE),""),"") | D10: =IF(MONTH((DATE(年間!$C$1,7,1)-WEEKDAY(DATE(年間!$C$1,7,1))+25))=7,IFERROR(VLOOKUP((DATE(年間!$C$1,7,1)-WEEKDAY(DATE(年間!$C$1,7,1))+25),祝日!$A$2:$B$75,2,FALSE),""),"") | E10: =IF(MONTH((DATE(年間!$C$1,7,1)-WEEKDAY(DATE(年間!$C$1,7,1))+26))=7,IFERROR(VLOOKUP((DATE(年間!$C$1,7,1)-WEEKDAY(DATE(年間!$C$1,7,1))+26),祝日!$A$2:$B$75,2,FALSE),""),"") | F10: =IF(MONTH((DATE(年間!$C$1,7,1)-WEEKDAY(DATE(年間!$C$1,7,1))+27))=7,IFERROR(VLOOKUP((DATE(年間!$C$1,7,1)-WEEKDAY(DATE(年間!$C$1,7,1))+27),祝日!$A$2:$B$75,2,FALSE),""),"") | G10: =IF(MONTH((DATE(年間!$C$1,7,1)-WEEKDAY(DATE(年間!$C$1,7,1))+28))=7,IFERROR(VLOOKUP((DATE(年間!$C$1,7,1)-WEEKDAY(DATE(年間!$C$1,7,1))+28),祝日!$A$2:$B$75,2,FALSE),""),"")
A11: =IF(MONTH((DATE(年間!$C$1,7,1)-WEEKDAY(DATE(年間!$C$1,7,1))+29))=7,DAY((DATE(年間!$C$1,7,1)-WEEKDAY(DATE(年間!$C$1,7,1))+29)),"") -> 25 | B11: =IF(MONTH((DATE(年間!$C$1,7,1)-WEEKDAY(DATE(年間!$C$1,7,1))+30))=7,DAY((DATE(年間!$C$1,7,1)-WEEKDAY(DATE(年間!$C$1,7,1))+30)),"") -> 26 | C11: =IF(MONTH((DATE(年間!$C$1,7,1)-WEEKDAY(DATE(年間!$C$1,7,1))+31))=7,DAY((DATE(年間!$C$1,7,1)-WEEKDAY(DATE(年間!$C$1,7,1))+31)),"") -> 27 | D11: =IF(MONTH((DATE(年間!$C$1,7,1)-WEEKDAY(DATE(年間!$C$1,7,1))+32))=7,DAY((DATE(年間!$C$1,7,1)-WEEKDAY(DATE(年間!$C$1,7,1))+32)),"") -> 28 | E11: =IF(MONTH((DATE(年間!$C$1,7,1)-WEEKDAY(DATE(年間!$C$1,7,1))+33))=7,DAY((DATE(年間!$C$1,7,1)-WEEKDAY(DATE(年間!$C$1,7,1))+33)),"") -> 29 | F11: =IF(MONTH((DATE(年間!$C$1,7,1)-WEEKDAY(DATE(年間!$C$1,7,1))+34))=7,DAY((DATE(年間!$C$1,7,1)-WEEKDAY(DATE(年間!$C$1,7,1))+34)),"") -> 30 | G11: =IF(MONTH((DATE(年間!$C$1,7,1)-WEEKDAY(DATE(年間!$C$1,7,1))+35))=7,DAY((DATE(年間!$C$1,7,1)-WEEKDAY(DATE(年間!$C$1,7,1))+35)),"") -> 31
A12: =IF(MONTH((DATE(年間!$C$1,7,1)-WEEKDAY(DATE(年間!$C$1,7,1))+29))=7,IFERROR(VLOOKUP((DATE(年間!$C$1,7,1)-WEEKDAY(DATE(年間!$C$1,7,1))+29),祝日!$A$2:$B$75,2,FALSE),""),"") | B12: =IF(MONTH((DATE(年間!$C$1,7,1)-WEEKDAY(DATE(年間!$C$1,7,1))+30))=7,IFERROR(VLOOKUP((DATE(年間!$C$1,7,1)-WEEKDAY(DATE(年間!$C$1,7,1))+30),祝日!$A$2:$B$75,2,FALSE),""),"") | C12: =IF(MONTH((DATE(年間!$C$1,7,1)-WEEKDAY(DATE(年間!$C$1,7,1))+31))=7,IFERROR(VLOOKUP((DATE(年間!$C$1,7,1)-WEEKDAY(DATE(年間!$C$1,7,1))+31),祝日!$A$2:$B$75,2,FALSE),""),"") | D12: =IF(MONTH((DATE(年間!$C$1,7,1)-WEEKDAY(DATE(年間!$C$1,7,1))+32))=7,IFERROR(VLOOKUP((DATE(年間!$C$1,7,1)-WEEKDAY(DATE(年間!$C$1,7,1))+32),祝日!$A$2:$B$75,2,FALSE),""),"") | E12: =IF(MONTH((DATE(年間!$C$1,7,1)-WEEKDAY(DATE(年間!$C$1,7,1))+33))=7,IFERROR(VLOOKUP((DATE(年間!$C$1,7,1)-WEEKDAY(DATE(年間!$C$1,7,1))+33),祝日!$A$2:$B$75,2,FALSE),""),"") | F12: =IF(MONTH((DATE(年間!$C$1,7,1)-WEEKDAY(DATE(年間!$C$1,7,1))+34))=7,IFERROR(VLOOKUP((DATE(年間!$C$1,7,1)-WEEKDAY(DATE(年間!$C$1,7,1))+34),祝日!$A$2:$B$75,2,FALSE),""),"") | G12: =IF(MONTH((DATE(年間!$C$1,7,1)-WEEKDAY(DATE(年間!$C$1,7,1))+35))=7,IFERROR(VLOOKUP((DATE(年間!$C$1,7,1)-WEEKDAY(DATE(年間!$C$1,7,1))+35),祝日!$A$2:$B$75,2,FALSE),""),"")
A13: =IF(MONTH((DATE(年間!$C$1,7,1)-WEEKDAY(DATE(年間!$C$1,7,1))+36))=7,DAY((DATE(年間!$C$1,7,1)-WEEKDAY(DATE(年間!$C$1,7,1))+36)),"") | B13: =IF(MONTH((DATE(年間!$C$1,7,1)-WEEKDAY(DATE(年間!$C$1,7,1))+37))=7,DAY((DATE(年間!$C$1,7,1)-WEEKDAY(DATE(年間!$C$1,7,1))+37)),"") | C13: =IF(MONTH((DATE(年間!$C$1,7,1)-WEEKDAY(DATE(年間!$C$1,7,1))+38))=7,DAY((DATE(年間!$C$1,7,1)-WEEKDAY(DATE(年間!$C$1,7,1))+38)),"") | D13: =IF(MONTH((DATE(年間!$C$1,7,1)-WEEKDAY(DATE(年間!$C$1,7,1))+39))=7,DAY((DATE(年間!$C$1,7,1)-WEEKDAY(DATE(年間!$C$1,7,1))+39)),"") | E13: =IF(MONTH((DATE(年間!$C$1,7,1)-WEEKDAY(DATE(年間!$C$1,7,1))+40))=7,DAY((DATE(年間!$C$1,7,1)-WEEKDAY(DATE(年間!$C$1,7,1))+40)),"") | F13: =IF(MONTH((DATE(年間!$C$1,7,1)-WEEKDAY(DATE(年間!$C$1,7,1))+41))=7,DAY((DATE(年間!$C$1,7,1)-WEEKDAY(DATE(年間!$C$1,7,1))+41)),"") | G13: =IF(MONTH((DATE(年間!$C$1,7,1)-WEEKDAY(DATE(年間!$C$1,7,1))+42))=7,DAY((DATE(年間!$C$1,7,1)-WEEKDAY(DATE(年間!$C$1,7,1))+42)),"")
A14: =IF(MONTH((DATE(年間!$C$1,7,1)-WEEKDAY(DATE(年間!$C$1,7,1))+36))=7,IFERROR(VLOOKUP((DATE(年間!$C$1,7,1)-WEEKDAY(DATE(年間!$C$1,7,1))+36),祝日!$A$2:$B$75,2,FALSE),""),"") | B14: =IF(MONTH((DATE(年間!$C$1,7,1)-WEEKDAY(DATE(年間!$C$1,7,1))+37))=7,IFERROR(VLOOKUP((DATE(年間!$C$1,7,1)-WEEKDAY(DATE(年間!$C$1,7,1))+37),祝日!$A$2:$B$75,2,FALSE),""),"") | C14: =IF(MONTH((DATE(年間!$C$1,7,1)-WEEKDAY(DATE(年間!$C$1,7,1))+38))=7,IFERROR(VLOOKUP((DATE(年間!$C$1,7,1)-WEEKDAY(DATE(年間!$C$1,7,1))+38),祝日!$A$2:$B$75,2,FALSE),""),"") | D14: =IF(MONTH((DATE(年間!$C$1,7,1)-WEEKDAY(DATE(年間!$C$1,7,1))+39))=7,IFERROR(VLOOKUP((DATE(年間!$C$1,7,1)-WEEKDAY(DATE(年間!$C$1,7,1))+39),祝日!$A$2:$B$75,2,FALSE),""),"") | E14: =IF(MONTH((DATE(年間!$C$1,7,1)-WEEKDAY(DATE(年間!$C$1,7,1))+40))=7,IFERROR(VLOOKUP((DATE(年間!$C$1,7,1)-WEEKDAY(DATE(年間!$C$1,7,1))+40),祝日!$A$2:$B$75,2,FALSE),""),"") | F14: =IF(MONTH((DATE(年間!$C$1,7,1)-WEEKDAY(DATE(年間!$C$1,7,1))+41))=7,IFERROR(VLOOKUP((DATE(年間!$C$1,7,1)-WEEKDAY(DATE(年間!$C$1,7,1))+41),祝日!$A$2:$B$75,2,FALSE),""),"") | G14: =IF(MONTH((DATE(年間!$C$1,7,1)-WEEKDAY(DATE(年間!$C$1,7,1))+42))=7,IFERROR(VLOOKUP((DATE(年間!$C$1,7,1)-WEEKDAY(DATE(年間!$C$1,7,1))+42),祝日!$A$2:$B$75,2,FALSE),""),"")

Sheet 8月
A1: =年間!$C$1&"年 8月" -> 2027年 8月
A2: 日 | B2: 月 | C2: 火 | D2: 水 | E2: 木 | F2: 金 | G2: 土
A3: =IF(MONTH((DATE(年間!$C$1,8,1)-WEEKDAY(DATE(年間!$C$1,8,1))+1))=8,DAY((DATE(年間!$C$1,8,1)-WEEKDAY(DATE(年間!$C$1,8,1))+1)),"") -> 1 | B3: =IF(MONTH((DATE(年間!$C$1,8,1)-WEEKDAY(DATE(年間!$C$1,8,1))+2))=8,DAY((DATE(年間!$C$1,8,1)-WEEKDAY(DATE(年間!$C$1,8,1))+2)),"") -> 2 | C3: =IF(MONTH((DATE(年間!$C$1,8,1)-WEEKDAY(DATE(年間!$C$1,8,1))+3))=8,DAY((DATE(年間!$C$1,8,1)-WEEKDAY(DATE(年間!$C$1,8,1))+3)),"") -> 3 | D3: =IF(MONTH((DATE(年間!$C$1,8,1)-WEEKDAY(DATE(年間!$C$1,8,1))+4))=8,DAY((DATE(年間!$C$1,8,1)-WEEKDAY(DATE(年間!$C$1,8,1))+4)),"") -> 4 | E3: =IF(MONTH((DATE(年間!$C$1,8,1)-WEEKDAY(DATE(年間!$C$1,8,1))+5))=8,DAY((DATE(年間!$C$1,8,1)-WEEKDAY(DATE(年間!$C$1,8,1))+5)),"") -> 5 | F3: =IF(MONTH((DATE(年間!$C$1,8,1)-WEEKDAY(DATE(年間!$C$1,8,1))+6))=8,DAY((DATE(年間!$C$1,8,1)-WEEKDAY(DATE(年間!$C$1,8,1))+6)),"") -> 6 | G3: =IF(MONTH((DATE(年間!$C$1,8,1)-WEEKDAY(DATE(年間!$C$1,8,1))+7))=8,DAY((DATE(年間!$C$1,8,1)-WEEKDAY(DATE(年間!$C$1,8,1))+7)),"") -> 7
A4: =IF(MONTH((DATE(年間!$C$1,8,1)-WEEKDAY(DATE(年間!$C$1,8,1))+1))=8,IFERROR(VLOOKUP((DATE(年間!$C$1,8,1)-WEEKDAY(DATE(年間!$C$1,8,1))+1),祝日!$A$2:$B$75,2,FALSE),""),"") | B4: =IF(MONTH((DATE(年間!$C$1,8,1)-WEEKDAY(DATE(年間!$C$1,8,1))+2))=8,IFERROR(VLOOKUP((DATE(年間!$C$1,8,1)-WEEKDAY(DATE(年間!$C$1,8,1))+2),祝日!$A$2:$B$75,2,FALSE),""),"") | C4: =IF(MONTH((DATE(年間!$C$1,8,1)-WEEKDAY(DATE(年間!$C$1,8,1))+3))=8,IFERROR(VLOOKUP((DATE(年間!$C$1,8,1)-WEEKDAY(DATE(年間!$C$1,8,1))+3),祝日!$A$2:$B$75,2,FALSE),""),"") | D4: =IF(MONTH((DATE(年間!$C$1,8,1)-WEEKDAY(DATE(年間!$C$1,8,1))+4))=8,IFERROR(VLOOKUP((DATE(年間!$C$1,8,1)-WEEKDAY(DATE(年間!$C$1,8,1))+4),祝日!$A$2:$B$75,2,FALSE),""),"") | E4: =IF(MONTH((DATE(年間!$C$1,8,1)-WEEKDAY(DATE(年間!$C$1,8,1))+5))=8,IFERROR(VLOOKUP((DATE(年間!$C$1,8,1)-WEEKDAY(DATE(年間!$C$1,8,1))+5),祝日!$A$2:$B$75,2,FALSE),""),"") | F4: =IF(MONTH((DATE(年間!$C$1,8,1)-WEEKDAY(DATE(年間!$C$1,8,1))+6))=8,IFERROR(VLOOKUP((DATE(年間!$C$1,8,1)-WEEKDAY(DATE(年間!$C$1,8,1))+6),祝日!$A$2:$B$75,2,FALSE),""),"") | G4: =IF(MONTH((DATE(年間!$C$1,8,1)-WEEKDAY(DATE(年間!$C$1,8,1))+7))=8,IFERROR(VLOOKUP((DATE(年間!$C$1,8,1)-WEEKDAY(DATE(年間!$C$1,8,1))+7),祝日!$A$2:$B$75,2,FALSE),""),"")
A5: =IF(MONTH((DATE(年間!$C$1,8,1)-WEEKDAY(DATE(年間!$C$1,8,1))+8))=8,DAY((DATE(年間!$C$1,8,1)-WEEKDAY(DATE(年間!$C$1,8,1))+8)),"") -> 8 | B5: =IF(MONTH((DATE(年間!$C$1,8,1)-WEEKDAY(DATE(年間!$C$1,8,1))+9))=8,DAY((DATE(年間!$C$1,8,1)-WEEKDAY(DATE(年間!$C$1,8,1))+9)),"") -> 9 | C5: =IF(MONTH((DATE(年間!$C$1,8,1)-WEEKDAY(DATE(年間!$C$1,8,1))+10))=8,DAY((DATE(年間!$C$1,8,1)-WEEKDAY(DATE(年間!$C$1,8,1))+10)),"") -> 10 | D5: =IF(MONTH((DATE(年間!$C$1,8,1)-WEEKDAY(DATE(年間!$C$1,8,1))+11))=8,DAY((DATE(年間!$C$1,8,1)-WEEKDAY(DATE(年間!$C$1,8,1))+11)),"") -> 11 | E5: =IF(MONTH((DATE(年間!$C$1,8,1)-WEEKDAY(DATE(年間!$C$1,8,1))+12))=8,DAY((DATE(年間!$C$1,8,1)-WEEKDAY(DATE(年間!$C$1,8,1))+12)),"") -> 12 | F5: =IF(MONTH((DATE(年間!$C$1,8,1)-WEEKDAY(DATE(年間!$C$1,8,1))+13))=8,DAY((DATE(年間!$C$1,8,1)-WEEKDAY(DATE(年間!$C$1,8,1))+13)),"") -> 13 | G5: =IF(MONTH((DATE(年間!$C$1,8,1)-WEEKDAY(DATE(年間!$C$1,8,1))+14))=8,DAY((DATE(年間!$C$1,8,1)-WEEKDAY(DATE(年間!$C$1,8,1))+14)),"") -> 14
A6: =IF(MONTH((DATE(年間!$C$1,8,1)-WEEKDAY(DATE(年間!$C$1,8,1))+8))=8,IFERROR(VLOOKUP((DATE(年間!$C$1,8,1)-WEEKDAY(DATE(年間!$C$1,8,1))+8),祝日!$A$2:$B$75,2,FALSE),""),"") | B6: =IF(MONTH((DATE(年間!$C$1,8,1)-WEEKDAY(DATE(年間!$C$1,8,1))+9))=8,IFERROR(VLOOKUP((DATE(年間!$C$1,8,1)-WEEKDAY(DATE(年間!$C$1,8,1))+9),祝日!$A$2:$B$75,2,FALSE),""),"") | C6: =IF(MONTH((DATE(年間!$C$1,8,1)-WEEKDAY(DATE(年間!$C$1,8,1))+10))=8,IFERROR(VLOOKUP((DATE(年間!$C$1,8,1)-WEEKDAY(DATE(年間!$C$1,8,1))+10),祝日!$A$2:$B$75,2,FALSE),""),"") | D6: =IF(MONTH((DATE(年間!$C$1,8,1)-WEEKDAY(DATE(年間!$C$1,8,1))+11))=8,IFERROR(VLOOKUP((DATE(年間!$C$1,8,1)-WEEKDAY(DATE(年間!$C$1,8,1))+11),祝日!$A$2:$B$75,2,FALSE),""),"") -> 山の日 | E6: =IF(MONTH((DATE(年間!$C$1,8,1)-WEEKDAY(DATE(年間!$C$1,8,1))+12))=8,IFERROR(VLOOKUP((DATE(年間!$C$1,8,1)-WEEKDAY(DATE(年間!$C$1,8,1))+12),祝日!$A$2:$B$75,2,FALSE),""),"") | F6: =IF(MONTH((DATE(年間!$C$1,8,1)-WEEKDAY(DATE(年間!$C$1,8,1))+13))=8,IFERROR(VLOOKUP((DATE(年間!$C$1,8,1)-WEEKDAY(DATE(年間!$C$1,8,1))+13),祝日!$A$2:$B$75,2,FALSE),""),"") | G6: =IF(MONTH((DATE(年間!$C$1,8,1)-WEEKDAY(DATE(年間!$C$1,8,1))+14))=8,IFERROR(VLOOKUP((DATE(年間!$C$1,8,1)-WEEKDAY(DATE(年間!$C$1,8,1))+14),祝日!$A$2:$B$75,2,FALSE),""),"")
A7: =IF(MONTH((DATE(年間!$C$1,8,1)-WEEKDAY(DATE(年間!$C$1,8,1))+15))=8,DAY((DATE(年間!$C$1,8,1)-WEEKDAY(DATE(年間!$C$1,8,1))+15)),"") -> 15 | B7: =IF(MONTH((DATE(年間!$C$1,8,1)-WEEKDAY(DATE(年間!$C$1,8,1))+16))=8,DAY((DATE(年間!$C$1,8,1)-WEEKDAY(DATE(年間!$C$1,8,1))+16)),"") -> 16 | C7: =IF(MONTH((DATE(年間!$C$1,8,1)-WEEKDAY(DATE(年間!$C$1,8,1))+17))=8,DAY((DATE(年間!$C$1,8,1)-WEEKDAY(DATE(年間!$C$1,8,1))+17)),"") -> 17 | D7: =IF(MONTH((DATE(年間!$C$1,8,1)-WEEKDAY(DATE(年間!$C$1,8,1))+18))=8,DAY((DATE(年間!$C$1,8,1)-WEEKDAY(DATE(年間!$C$1,8,1))+18)),"") -> 18 | E7: =IF(MONTH((DATE(年間!$C$1,8,1)-WEEKDAY(DATE(年間!$C$1,8,1))+19))=8,DAY((DATE(年間!$C$1,8,1)-WEEKDAY(DATE(年間!$C$1,8,1))+19)),"") -> 19 | F7: =IF(MONTH((DATE(年間!$C$1,8,1)-WEEKDAY(DATE(年間!$C$1,8,1))+20))=8,DAY((DATE(年間!$C$1,8,1)-WEEKDAY(DATE(年間!$C$1,8,1))+20)),"") -> 20 | G7: =IF(MONTH((DATE(年間!$C$1,8,1)-WEEKDAY(DATE(年間!$C$1,8,1))+21))=8,DAY((DATE(年間!$C$1,8,1)-WEEKDAY(DATE(年間!$C$1,8,1))+21)),"") -> 21
A8: =IF(MONTH((DATE(年間!$C$1,8,1)-WEEKDAY(DATE(年間!$C$1,8,1))+15))=8,IFERROR(VLOOKUP((DATE(年間!$C$1,8,1)-WEEKDAY(DATE(年間!$C$1,8,1))+15),祝日!$A$2:$B$75,2,FALSE),""),"") | B8: =IF(MONTH((DATE(年間!$C$1,8,1)-WEEKDAY(DATE(年間!$C$1,8,1))+16))=8,IFERROR(VLOOKUP((DATE(年間!$C$1,8,1)-WEEKDAY(DATE(年間!$C$1,8,1))+16),祝日!$A$2:$B$75,2,FALSE),""),"") | C8: =IF(MONTH((DATE(年間!$C$1,8,1)-WEEKDAY(DATE(年間!$C$1,8,1))+17))=8,IFERROR(VLOOKUP((DATE(年間!$C$1,8,1)-WEEKDAY(DATE(年間!$C$1,8,1))+17),祝日!$A$2:$B$75,2,FALSE),""),"") | D8: =IF(MONTH((DATE(年間!$C$1,8,1)-WEEKDAY(DATE(年間!$C$1,8,1))+18))=8,IFERROR(VLOOKUP((DATE(年間!$C$1,8,1)-WEEKDAY(DATE(年間!$C$1,8,1))+18),祝日!$A$2:$B$75,2,FALSE),""),"") | E8: =IF(MONTH((DATE(年間!$C$1,8,1)-WEEKDAY(DATE(年間!$C$1,8,1))+19))=8,IFERROR(VLOOKUP((DATE(年間!$C$1,8,1)-WEEKDAY(DATE(年間!$C$1,8,1))+19),祝日!$A$2:$B$75,2,FALSE),""),"") | F8: =IF(MONTH((DATE(年間!$C$1,8,1)-WEEKDAY(DATE(年間!$C$1,8,1))+20))=8,IFERROR(VLOOKUP((DATE(年間!$C$1,8,1)-WEEKDAY(DATE(年間!$C$1,8,1))+20),祝日!$A$2:$B$75,2,FALSE),""),"") | G8: =IF(MONTH((DATE(年間!$C$1,8,1)-WEEKDAY(DATE(年間!$C$1,8,1))+21))=8,IFERROR(VLOOKUP((DATE(年間!$C$1,8,1)-WEEKDAY(DATE(年間!$C$1,8,1))+21),祝日!$A$2:$B$75,2,FALSE),""),"")
A9: =IF(MONTH((DATE(年間!$C$1,8,1)-WEEKDAY(DATE(年間!$C$1,8,1))+22))=8,DAY((DATE(年間!$C$1,8,1)-WEEKDAY(DATE(年間!$C$1,8,1))+22)),"") -> 22 | B9: =IF(MONTH((DATE(年間!$C$1,8,1)-WEEKDAY(DATE(年間!$C$1,8,1))+23))=8,DAY((DATE(年間!$C$1,8,1)-WEEKDAY(DATE(年間!$C$1,8,1))+23)),"") -> 23 | C9: =IF(MONTH((DATE(年間!$C$1,8,1)-WEEKDAY(DATE(年間!$C$1,8,1))+24))=8,DAY((DATE(年間!$C$1,8,1)-WEEKDAY(DATE(年間!$C$1,8,1))+24)),"") -> 24 | D9: =IF(MONTH((DATE(年間!$C$1,8,1)-WEEKDAY(DATE(年間!$C$1,8,1))+25))=8,DAY((DATE(年間!$C$1,8,1)-WEEKDAY(DATE(年間!$C$1,8,1))+25)),"") -> 25 | E9: =IF(MONTH((DATE(年間!$C$1,8,1)-WEEKDAY(DATE(年間!$C$1,8,1))+26))=8,DAY((DATE(年間!$C$1,8,1)-WEEKDAY(DATE(年間!$C$1,8,1))+26)),"") -> 26 | F9: =IF(MONTH((DATE(年間!$C$1,8,1)-WEEKDAY(DATE(年間!$C$1,8,1))+27))=8,DAY((DATE(年間!$C$1,8,1)-WEEKDAY(DATE(年間!$C$1,8,1))+27)),"") -> 27 | G9: =IF(MONTH((DATE(年間!$C$1,8,1)-WEEKDAY(DATE(年間!$C$1,8,1))+28))=8,DAY((DATE(年間!$C$1,8,1)-WEEKDAY(DATE(年間!$C$1,8,1))+28)),"") -> 28
A10: =IF(MONTH((DATE(年間!$C$1,8,1)-WEEKDAY(DATE(年間!$C$1,8,1))+22))=8,IFERROR(VLOOKUP((DATE(年間!$C$1,8,1)-WEEKDAY(DATE(年間!$C$1,8,1))+22),祝日!$A$2:$B$75,2,FALSE),""),"") | B10: =IF(MONTH((DATE(年間!$C$1,8,1)-WEEKDAY(DATE(年間!$C$1,8,1))+23))=8,IFERROR(VLOOKUP((DATE(年間!$C$1,8,1)-WEEKDAY(DATE(年間!$C$1,8,1))+23),祝日!$A$2:$B$75,2,FALSE),""),"") | C10: =IF(MONTH((DATE(年間!$C$1,8,1)-WEEKDAY(DATE(年間!$C$1,8,1))+24))=8,IFERROR(VLOOKUP((DATE(年間!$C$1,8,1)-WEEKDAY(DATE(年間!$C$1,8,1))+24),祝日!$A$2:$B$75,2,FALSE),""),"") | D10: =IF(MONTH((DATE(年間!$C$1,8,1)-WEEKDAY(DATE(年間!$C$1,8,1))+25))=8,IFERROR(VLOOKUP((DATE(年間!$C$1,8,1)-WEEKDAY(DATE(年間!$C$1,8,1))+25),祝日!$A$2:$B$75,2,FALSE),""),"") | E10: =IF(MONTH((DATE(年間!$C$1,8,1)-WEEKDAY(DATE(年間!$C$1,8,1))+26))=8,IFERROR(VLOOKUP((DATE(年間!$C$1,8,1)-WEEKDAY(DATE(年間!$C$1,8,1))+26),祝日!$A$2:$B$75,2,FALSE),""),"") | F10: =IF(MONTH((DATE(年間!$C$1,8,1)-WEEKDAY(DATE(年間!$C$1,8,1))+27))=8,IFERROR(VLOOKUP((DATE(年間!$C$1,8,1)-WEEKDAY(DATE(年間!$C$1,8,1))+27),祝日!$A$2:$B$75,2,FALSE),""),"") | G10: =IF(MONTH((DATE(年間!$C$1,8,1)-WEEKDAY(DATE(年間!$C$1,8,1))+28))=8,IFERROR(VLOOKUP((DATE(年間!$C$1,8,1)-WEEKDAY(DATE(年間!$C$1,8,1))+28),祝日!$A$2:$B$75,2,FALSE),""),"")
A11: =IF(MONTH((DATE(年間!$C$1,8,1)-WEEKDAY(DATE(年間!$C$1,8,1))+29))=8,DAY((DATE(年間!$C$1,8,1)-WEEKDAY(DATE(年間!$C$1,8,1))+29)),"") -> 29 | B11: =IF(MONTH((DATE(年間!$C$1,8,1)-WEEKDAY(DATE(年間!$C$1,8,1))+30))=8,DAY((DATE(年間!$C$1,8,1)-WEEKDAY(DATE(年間!$C$1,8,1))+30)),"") -> 30 | C11: =IF(MONTH((DATE(年間!$C$1,8,1)-WEEKDAY(DATE(年間!$C$1,8,1))+31))=8,DAY((DATE(年間!$C$1,8,1)-WEEKDAY(DATE(年間!$C$1,8,1))+31)),"") -> 31 | D11: =IF(MONTH((DATE(年間!$C$1,8,1)-WEEKDAY(DATE(年間!$C$1,8,1))+32))=8,DAY((DATE(年間!$C$1,8,1)-WEEKDAY(DATE(年間!$C$1,8,1))+32)),"") | E11: =IF(MONTH((DATE(年間!$C$1,8,1)-WEEKDAY(DATE(年間!$C$1,8,1))+33))=8,DAY((DATE(年間!$C$1,8,1)-WEEKDAY(DATE(年間!$C$1,8,1))+33)),"") | F11: =IF(MONTH((DATE(年間!$C$1,8,1)-WEEKDAY(DATE(年間!$C$1,8,1))+34))=8,DAY((DATE(年間!$C$1,8,1)-WEEKDAY(DATE(年間!$C$1,8,1))+34)),"") | G11: =IF(MONTH((DATE(年間!$C$1,8,1)-WEEKDAY(DATE(年間!$C$1,8,1))+35))=8,DAY((DATE(年間!$C$1,8,1)-WEEKDAY(DATE(年間!$C$1,8,1))+35)),"")
A12: =IF(MONTH((DATE(年間!$C$1,8,1)-WEEKDAY(DATE(年間!$C$1,8,1))+29))=8,IFERROR(VLOOKUP((DATE(年間!$C$1,8,1)-WEEKDAY(DATE(年間!$C$1,8,1))+29),祝日!$A$2:$B$75,2,FALSE),""),"") | B12: =IF(MONTH((DATE(年間!$C$1,8,1)-WEEKDAY(DATE(年間!$C$1,8,1))+30))=8,IFERROR(VLOOKUP((DATE(年間!$C$1,8,1)-WEEKDAY(DATE(年間!$C$1,8,1))+30),祝日!$A$2:$B$75,2,FALSE),""),"") | C12: =IF(MONTH((DATE(年間!$C$1,8,1)-WEEKDAY(DATE(年間!$C$1,8,1))+31))=8,IFERROR(VLOOKUP((DATE(年間!$C$1,8,1)-WEEKDAY(DATE(年間!$C$1,8,1))+31),祝日!$A$2:$B$75,2,FALSE),""),"") | D12: =IF(MONTH((DATE(年間!$C$1,8,1)-WEEKDAY(DATE(年間!$C$1,8,1))+32))=8,IFERROR(VLOOKUP((DATE(年間!$C$1,8,1)-WEEKDAY(DATE(年間!$C$1,8,1))+32),祝日!$A$2:$B$75,2,FALSE),""),"") | E12: =IF(MONTH((DATE(年間!$C$1,8,1)-WEEKDAY(DATE(年間!$C$1,8,1))+33))=8,IFERROR(VLOOKUP((DATE(年間!$C$1,8,1)-WEEKDAY(DATE(年間!$C$1,8,1))+33),祝日!$A$2:$B$75,2,FALSE),""),"") | F12: =IF(MONTH((DATE(年間!$C$1,8,1)-WEEKDAY(DATE(年間!$C$1,8,1))+34))=8,IFERROR(VLOOKUP((DATE(年間!$C$1,8,1)-WEEKDAY(DATE(年間!$C$1,8,1))+34),祝日!$A$2:$B$75,2,FALSE),""),"") | G12: =IF(MONTH((DATE(年間!$C$1,8,1)-WEEKDAY(DATE(年間!$C$1,8,1))+35))=8,IFERROR(VLOOKUP((DATE(年間!$C$1,8,1)-WEEKDAY(DATE(年間!$C$1,8,1))+35),祝日!$A$2:$B$75,2,FALSE),""),"")
A13: =IF(MONTH((DATE(年間!$C$1,8,1)-WEEKDAY(DATE(年間!$C$1,8,1))+36))=8,DAY((DATE(年間!$C$1,8,1)-WEEKDAY(DATE(年間!$C$1,8,1))+36)),"") | B13: =IF(MONTH((DATE(年間!$C$1,8,1)-WEEKDAY(DATE(年間!$C$1,8,1))+37))=8,DAY((DATE(年間!$C$1,8,1)-WEEKDAY(DATE(年間!$C$1,8,1))+37)),"") | C13: =IF(MONTH((DATE(年間!$C$1,8,1)-WEEKDAY(DATE(年間!$C$1,8,1))+38))=8,DAY((DATE(年間!$C$1,8,1)-WEEKDAY(DATE(年間!$C$1,8,1))+38)),"") | D13: =IF(MONTH((DATE(年間!$C$1,8,1)-WEEKDAY(DATE(年間!$C$1,8,1))+39))=8,DAY((DATE(年間!$C$1,8,1)-WEEKDAY(DATE(年間!$C$1,8,1))+39)),"") | E13: =IF(MONTH((DATE(年間!$C$1,8,1)-WEEKDAY(DATE(年間!$C$1,8,1))+40))=8,DAY((DATE(年間!$C$1,8,1)-WEEKDAY(DATE(年間!$C$1,8,1))+40)),"") | F13: =IF(MONTH((DATE(年間!$C$1,8,1)-WEEKDAY(DATE(年間!$C$1,8,1))+41))=8,DAY((DATE(年間!$C$1,8,1)-WEEKDAY(DATE(年間!$C$1,8,1))+41)),"") | G13: =IF(MONTH((DATE(年間!$C$1,8,1)-WEEKDAY(DATE(年間!$C$1,8,1))+42))=8,DAY((DATE(年間!$C$1,8,1)-WEEKDAY(DATE(年間!$C$1,8,1))+42)),"")
A14: =IF(MONTH((DATE(年間!$C$1,8,1)-WEEKDAY(DATE(年間!$C$1,8,1))+36))=8,IFERROR(VLOOKUP((DATE(年間!$C$1,8,1)-WEEKDAY(DATE(年間!$C$1,8,1))+36),祝日!$A$2:$B$75,2,FALSE),""),"") | B14: =IF(MONTH((DATE(年間!$C$1,8,1)-WEEKDAY(DATE(年間!$C$1,8,1))+37))=8,IFERROR(VLOOKUP((DATE(年間!$C$1,8,1)-WEEKDAY(DATE(年間!$C$1,8,1))+37),祝日!$A$2:$B$75,2,FALSE),""),"") | C14: =IF(MONTH((DATE(年間!$C$1,8,1)-WEEKDAY(DATE(年間!$C$1,8,1))+38))=8,IFERROR(VLOOKUP((DATE(年間!$C$1,8,1)-WEEKDAY(DATE(年間!$C$1,8,1))+38),祝日!$A$2:$B$75,2,FALSE),""),"") | D14: =IF(MONTH((DATE(年間!$C$1,8,1)-WEEKDAY(DATE(年間!$C$1,8,1))+39))=8,IFERROR(VLOOKUP((DATE(年間!$C$1,8,1)-WEEKDAY(DATE(年間!$C$1,8,1))+39),祝日!$A$2:$B$75,2,FALSE),""),"") | E14: =IF(MONTH((DATE(年間!$C$1,8,1)-WEEKDAY(DATE(年間!$C$1,8,1))+40))=8,IFERROR(VLOOKUP((DATE(年間!$C$1,8,1)-WEEKDAY(DATE(年間!$C$1,8,1))+40),祝日!$A$2:$B$75,2,FALSE),""),"") | F14: =IF(MONTH((DATE(年間!$C$1,8,1)-WEEKDAY(DATE(年間!$C$1,8,1))+41))=8,IFERROR(VLOOKUP((DATE(年間!$C$1,8,1)-WEEKDAY(DATE(年間!$C$1,8,1))+41),祝日!$A$2:$B$75,2,FALSE),""),"") | G14: =IF(MONTH((DATE(年間!$C$1,8,1)-WEEKDAY(DATE(年間!$C$1,8,1))+42))=8,IFERROR(VLOOKUP((DATE(年間!$C$1,8,1)-WEEKDAY(DATE(年間!$C$1,8,1))+42),祝日!$A$2:$B$75,2,FALSE),""),"")

Sheet 9月
A1: =年間!$C$1&"年 9月" -> 2027年 9月
A2: 日 | B2: 月 | C2: 火 | D2: 水 | E2: 木 | F2: 金 | G2: 土
A3: =IF(MONTH((DATE(年間!$C$1,9,1)-WEEKDAY(DATE(年間!$C$1,9,1))+1))=9,DAY((DATE(年間!$C$1,9,1)-WEEKDAY(DATE(年間!$C$1,9,1))+1)),"") | B3: =IF(MONTH((DATE(年間!$C$1,9,1)-WEEKDAY(DATE(年間!$C$1,9,1))+2))=9,DAY((DATE(年間!$C$1,9,1)-WEEKDAY(DATE(年間!$C$1,9,1))+2)),"") | C3: =IF(MONTH((DATE(年間!$C$1,9,1)-WEEKDAY(DATE(年間!$C$1,9,1))+3))=9,DAY((DATE(年間!$C$1,9,1)-WEEKDAY(DATE(年間!$C$1,9,1))+3)),"") | D3: =IF(MONTH((DATE(年間!$C$1,9,1)-WEEKDAY(DATE(年間!$C$1,9,1))+4))=9,DAY((DATE(年間!$C$1,9,1)-WEEKDAY(DATE(年間!$C$1,9,1))+4)),"") -> 1 | E3: =IF(MONTH((DATE(年間!$C$1,9,1)-WEEKDAY(DATE(年間!$C$1,9,1))+5))=9,DAY((DATE(年間!$C$1,9,1)-WEEKDAY(DATE(年間!$C$1,9,1))+5)),"") -> 2 | F3: =IF(MONTH((DATE(年間!$C$1,9,1)-WEEKDAY(DATE(年間!$C$1,9,1))+6))=9,DAY((DATE(年間!$C$1,9,1)-WEEKDAY(DATE(年間!$C$1,9,1))+6)),"") -> 3 | G3: =IF(MONTH((DATE(年間!$C$1,9,1)-WEEKDAY(DATE(年間!$C$1,9,1))+7))=9,DAY((DATE(年間!$C$1,9,1)-WEEKDAY(DATE(年間!$C$1,9,1))+7)),"") -> 4
A4: =IF(MONTH((DATE(年間!$C$1,9,1)-WEEKDAY(DATE(年間!$C$1,9,1))+1))=9,IFERROR(VLOOKUP((DATE(年間!$C$1,9,1)-WEEKDAY(DATE(年間!$C$1,9,1))+1),祝日!$A$2:$B$75,2,FALSE),""),"") | B4: =IF(MONTH((DATE(年間!$C$1,9,1)-WEEKDAY(DATE(年間!$C$1,9,1))+2))=9,IFERROR(VLOOKUP((DATE(年間!$C$1,9,1)-WEEKDAY(DATE(年間!$C$1,9,1))+2),祝日!$A$2:$B$75,2,FALSE),""),"") | C4: =IF(MONTH((DATE(年間!$C$1,9,1)-WEEKDAY(DATE(年間!$C$1,9,1))+3))=9,IFERROR(VLOOKUP((DATE(年間!$C$1,9,1)-WEEKDAY(DATE(年間!$C$1,9,1))+3),祝日!$A$2:$B$75,2,FALSE),""),"") | D4: =IF(MONTH((DATE(年間!$C$1,9,1)-WEEKDAY(DATE(年間!$C$1,9,1))+4))=9,IFERROR(VLOOKUP((DATE(年間!$C$1,9,1)-WEEKDAY(DATE(年間!$C$1,9,1))+4),祝日!$A$2:$B$75,2,FALSE),""),"") | E4: =IF(MONTH((DATE(年間!$C$1,9,1)-WEEKDAY(DATE(年間!$C$1,9,1))+5))=9,IFERROR(VLOOKUP((DATE(年間!$C$1,9,1)-WEEKDAY(DATE(年間!$C$1,9,1))+5),祝日!$A$2:$B$75,2,FALSE),""),"") | F4: =IF(MONTH((DATE(年間!$C$1,9,1)-WEEKDAY(DATE(年間!$C$1,9,1))+6))=9,IFERROR(VLOOKUP((DATE(年間!$C$1,9,1)-WEEKDAY(DATE(年間!$C$1,9,1))+6),祝日!$A$2:$B$75,2,FALSE),""),"") | G4: =IF(MONTH((DATE(年間!$C$1,9,1)-WEEKDAY(DATE(年間!$C$1,9,1))+7))=9,IFERROR(VLOOKUP((DATE(年間!$C$1,9,1)-WEEKDAY(DATE(年間!$C$1,9,1))+7),祝日!$A$2:$B$75,2,FALSE),""),"")
A5: =IF(MONTH((DATE(年間!$C$1,9,1)-WEEKDAY(DATE(年間!$C$1,9,1))+8))=9,DAY((DATE(年間!$C$1,9,1)-WEEKDAY(DATE(年間!$C$1,9,1))+8)),"") -> 5 | B5: =IF(MONTH((DATE(年間!$C$1,9,1)-WEEKDAY(DATE(年間!$C$1,9,1))+9))=9,DAY((DATE(年間!$C$1,9,1)-WEEKDAY(DATE(年間!$C$1,9,1))+9)),"") -> 6 | C5: =IF(MONTH((DATE(年間!$C$1,9,1)-WEEKDAY(DATE(年間!$C$1,9,1))+10))=9,DAY((DATE(年間!$C$1,9,1)-WEEKDAY(DATE(年間!$C$1,9,1))+10)),"") -> 7 | D5: =IF(MONTH((DATE(年間!$C$1,9,1)-WEEKDAY(DATE(年間!$C$1,9,1))+11))=9,DAY((DATE(年間!$C$1,9,1)-WEEKDAY(DATE(年間!$C$1,9,1))+11)),"") -> 8 | E5: =IF(MONTH((DATE(年間!$C$1,9,1)-WEEKDAY(DATE(年間!$C$1,9,1))+12))=9,DAY((DATE(年間!$C$1,9,1)-WEEKDAY(DATE(年間!$C$1,9,1))+12)),"") -> 9 | F5: =IF(MONTH((DATE(年間!$C$1,9,1)-WEEKDAY(DATE(年間!$C$1,9,1))+13))=9,DAY((DATE(年間!$C$1,9,1)-WEEKDAY(DATE(年間!$C$1,9,1))+13)),"") -> 10 | G5: =IF(MONTH((DATE(年間!$C$1,9,1)-WEEKDAY(DATE(年間!$C$1,9,1))+14))=9,DAY((DATE(年間!$C$1,9,1)-WEEKDAY(DATE(年間!$C$1,9,1))+14)),"") -> 11
A6: =IF(MONTH((DATE(年間!$C$1,9,1)-WEEKDAY(DATE(年間!$C$1,9,1))+8))=9,IFERROR(VLOOKUP((DATE(年間!$C$1,9,1)-WEEKDAY(DATE(年間!$C$1,9,1))+8),祝日!$A$2:$B$75,2,FALSE),""),"") | B6: =IF(MONTH((DATE(年間!$C$1,9,1)-WEEKDAY(DATE(年間!$C$1,9,1))+9))=9,IFERROR(VLOOKUP((DATE(年間!$C$1,9,1)-WEEKDAY(DATE(年間!$C$1,9,1))+9),祝日!$A$2:$B$75,2,FALSE),""),"") | C6: =IF(MONTH((DATE(年間!$C$1,9,1)-WEEKDAY(DATE(年間!$C$1,9,1))+10))=9,IFERROR(VLOOKUP((DATE(年間!$C$1,9,1)-WEEKDAY(DATE(年間!$C$1,9,1))+10),祝日!$A$2:$B$75,2,FALSE),""),"") | D6: =IF(MONTH((DATE(年間!$C$1,9,1)-WEEKDAY(DATE(年間!$C$1,9,1))+11))=9,IFERROR(VLOOKUP((DATE(年間!$C$1,9,1)-WEEKDAY(DATE(年間!$C$1,9,1))+11),祝日!$A$2:$B$75,2,FALSE),""),"") | E6: =IF(MONTH((DATE(年間!$C$1,9,1)-WEEKDAY(DATE(年間!$C$1,9,1))+12))=9,IFERROR(VLOOKUP((DATE(年間!$C$1,9,1)-WEEKDAY(DATE(年間!$C$1,9,1))+12),祝日!$A$2:$B$75,2,FALSE),""),"") | F6: =IF(MONTH((DATE(年間!$C$1,9,1)-WEEKDAY(DATE(年間!$C$1,9,1))+13))=9,IFERROR(VLOOKUP((DATE(年間!$C$1,9,1)-WEEKDAY(DATE(年間!$C$1,9,1))+13),祝日!$A$2:$B$75,2,FALSE),""),"") | G6: =IF(MONTH((DATE(年間!$C$1,9,1)-WEEKDAY(DATE(年間!$C$1,9,1))+14))=9,IFERROR(VLOOKUP((DATE(年間!$C$1,9,1)-WEEKDAY(DATE(年間!$C$1,9,1))+14),祝日!$A$2:$B$75,2,FALSE),""),"")
A7: =IF(MONTH((DATE(年間!$C$1,9,1)-WEEKDAY(DATE(年間!$C$1,9,1))+15))=9,DAY((DATE(年間!$C$1,9,1)-WEEKDAY(DATE(年間!$C$1,9,1))+15)),"") -> 12 | B7: =IF(MONTH((DATE(年間!$C$1,9,1)-WEEKDAY(DATE(年間!$C$1,9,1))+16))=9,DAY((DATE(年間!$C$1,9,1)-WEEKDAY(DATE(年間!$C$1,9,1))+16)),"") -> 13 | C7: =IF(MONTH((DATE(年間!$C$1,9,1)-WEEKDAY(DATE(年間!$C$1,9,1))+17))=9,DAY((DATE(年間!$C$1,9,1)-WEEKDAY(DATE(年間!$C$1,9,1))+17)),"") -> 14 | D7: =IF(MONTH((DATE(年間!$C$1,9,1)-WEEKDAY(DATE(年間!$C$1,9,1))+18))=9,DAY((DATE(年間!$C$1,9,1)-WEEKDAY(DATE(年間!$C$1,9,1))+18)),"") -> 15 | E7: =IF(MONTH((DATE(年間!$C$1,9,1)-WEEKDAY(DATE(年間!$C$1,9,1))+19))=9,DAY((DATE(年間!$C$1,9,1)-WEEKDAY(DATE(年間!$C$1,9,1))+19)),"") -> 16 | F7: =IF(MONTH((DATE(年間!$C$1,9,1)-WEEKDAY(DATE(年間!$C$1,9,1))+20))=9,DAY((DATE(年間!$C$1,9,1)-WEEKDAY(DATE(年間!$C$1,9,1))+20)),"") -> 17 | G7: =IF(MONTH((DATE(年間!$C$1,9,1)-WEEKDAY(DATE(年間!$C$1,9,1))+21))=9,DAY((DATE(年間!$C$1,9,1)-WEEKDAY(DATE(年間!$C$1,9,1))+21)),"") -> 18
A8: =IF(MONTH((DATE(年間!$C$1,9,1)-WEEKDAY(DATE(年間!$C$1,9,1))+15))=9,IFERROR(VLOOKUP((DATE(年間!$C$1,9,1)-WEEKDAY(DATE(年間!$C$1,9,1))+15),祝日!$A$2:$B$75,2,FALSE),""),"") | B8: =IF(MONTH((DATE(年間!$C$1,9,1)-WEEKDAY(DATE(年間!$C$1,9,1))+16))=9,IFERROR(VLOOKUP((DATE(年間!$C$1,9,1)-WEEKDAY(DATE(年間!$C$1,9,1))+16),祝日!$A$2:$B$75,2,FALSE),""),"") | C8: =IF(MONTH((DATE(年間!$C$1,9,1)-WEEKDAY(DATE(年間!$C$1,9,1))+17))=9,IFERROR(VLOOKUP((DATE(年間!$C$1,9,1)-WEEKDAY(DATE(年間!$C$1,9,1))+17),祝日!$A$2:$B$75,2,FALSE),""),"") | D8: =IF(MONTH((DATE(年間!$C$1,9,1)-WEEKDAY(DATE(年間!$C$1,9,1))+18))=9,IFERROR(VLOOKUP((DATE(年間!$C$1,9,1)-WEEKDAY(DATE(年間!$C$1,9,1))+18),祝日!$A$2:$B$75,2,FALSE),""),"") | E8: =IF(MONTH((DATE(年間!$C$1,9,1)-WEEKDAY(DATE(年間!$C$1,9,1))+19))=9,IFERROR(VLOOKUP((DATE(年間!$C$1,9,1)-WEEKDAY(DATE(年間!$C$1,9,1))+19),祝日!$A$2:$B$75,2,FALSE),""),"") | F8: =IF(MONTH((DATE(年間!$C$1,9,1)-WEEKDAY(DATE(年間!$C$1,9,1))+20))=9,IFERROR(VLOOKUP((DATE(年間!$C$1,9,1)-WEEKDAY(DATE(年間!$C$1,9,1))+20),祝日!$A$2:$B$75,2,FALSE),""),"") | G8: =IF(MONTH((DATE(年間!$C$1,9,1)-WEEKDAY(DATE(年間!$C$1,9,1))+21))=9,IFERROR(VLOOKUP((DATE(年間!$C$1,9,1)-WEEKDAY(DATE(年間!$C$1,9,1))+21),祝日!$A$2:$B$75,2,FALSE),""),"")
A9: =IF(MONTH((DATE(年間!$C$1,9,1)-WEEKDAY(DATE(年間!$C$1,9,1))+22))=9,DAY((DATE(年間!$C$1,9,1)-WEEKDAY(DATE(年間!$C$1,9,1))+22)),"") -> 19 | B9: =IF(MONTH((DATE(年間!$C$1,9,1)-WEEKDAY(DATE(年間!$C$1,9,1))+23))=9,DAY((DATE(年間!$C$1,9,1)-WEEKDAY(DATE(年間!$C$1,9,1))+23)),"") -> 20 | C9: =IF(MONTH((DATE(年間!$C$1,9,1)-WEEKDAY(DATE(年間!$C$1,9,1))+24))=9,DAY((DATE(年間!$C$1,9,1)-WEEKDAY(DATE(年間!$C$1,9,1))+24)),"") -> 21 | D9: =IF(MONTH((DATE(年間!$C$1,9,1)-WEEKDAY(DATE(年間!$C$1,9,1))+25))=9,DAY((DATE(年間!$C$1,9,1)-WEEKDAY(DATE(年間!$C$1,9,1))+25)),"") -> 22 | E9: =IF(MONTH((DATE(年間!$C$1,9,1)-WEEKDAY(DATE(年間!$C$1,9,1))+26))=9,DAY((DATE(年間!$C$1,9,1)-WEEKDAY(DATE(年間!$C$1,9,1))+26)),"") -> 23 | F9: =IF(MONTH((DATE(年間!$C$1,9,1)-WEEKDAY(DATE(年間!$C$1,9,1))+27))=9,DAY((DATE(年間!$C$1,9,1)-WEEKDAY(DATE(年間!$C$1,9,1))+27)),"") -> 24 | G9: =IF(MONTH((DATE(年間!$C$1,9,1)-WEEKDAY(DATE(年間!$C$1,9,1))+28))=9,DAY((DATE(年間!$C$1,9,1)-WEEKDAY(DATE(年間!$C$1,9,1))+28)),"") -> 25
A10: =IF(MONTH((DATE(年間!$C$1,9,1)-WEEKDAY(DATE(年間!$C$1,9,1))+22))=9,IFERROR(VLOOKUP((DATE(年間!$C$1,9,1)-WEEKDAY(DATE(年間!$C$1,9,1))+22),祝日!$A$2:$B$75,2,FALSE),""),"") | B10: =IF(MONTH((DATE(年間!$C$1,9,1)-WEEKDAY(DATE(年間!$C$1,9,1))+23))=9,IFERROR(VLOOKUP((DATE(年間!$C$1,9,1)-WEEKDAY(DATE(年間!$C$1,9,1))+23),祝日!$A$2:$B$75,2,FALSE),""),"") -> 敬老の日 | C10: =IF(MONTH((DATE(年間!$C$1,9,1)-WEEKDAY(DATE(年間!$C$1,9,1))+24))=9,IFERROR(VLOOKUP((DATE(年間!$C$1,9,1)-WEEKDAY(DATE(年間!$C$1,9,1))+24),祝日!$A$2:$B$75,2,FALSE),""),"") | D10: =IF(MONTH((DATE(年間!$C$1,9,1)-WEEKDAY(DATE(年間!$C$1,9,1))+25))=9,IFERROR(VLOOKUP((DATE(年間!$C$1,9,1)-WEEKDAY(DATE(年間!$C$1,9,1))+25),祝日!$A$2:$B$75,2,FALSE),""),"") | E10: =IF(MONTH((DATE(年間!$C$1,9,1)-WEEKDAY(DATE(年間!$C$1,9,1))+26))=9,IFERROR(VLOOKUP((DATE(年間!$C$1,9,1)-WEEKDAY(DATE(年間!$C$1,9,1))+26),祝日!$A$2:$B$75,2,FALSE),""),"") -> 秋分の日 | F10: =IF(MONTH((DATE(年間!$C$1,9,1)-WEEKDAY(DATE(年間!$C$1,9,1))+27))=9,IFERROR(VLOOKUP((DATE(年間!$C$1,9,1)-WEEKDAY(DATE(年間!$C$1,9,1))+27),祝日!$A$2:$B$75,2,FALSE),""),"") | G10: =IF(MONTH((DATE(年間!$C$1,9,1)-WEEKDAY(DATE(年間!$C$1,9,1))+28))=9,IFERROR(VLOOKUP((DATE(年間!$C$1,9,1)-WEEKDAY(DATE(年間!$C$1,9,1))+28),祝日!$A$2:$B$75,2,FALSE),""),"")
A11: =IF(MONTH((DATE(年間!$C$1,9,1)-WEEKDAY(DATE(年間!$C$1,9,1))+29))=9,DAY((DATE(年間!$C$1,9,1)-WEEKDAY(DATE(年間!$C$1,9,1))+29)),"") -> 26 | B11: =IF(MONTH((DATE(年間!$C$1,9,1)-WEEKDAY(DATE(年間!$C$1,9,1))+30))=9,DAY((DATE(年間!$C$1,9,1)-WEEKDAY(DATE(年間!$C$1,9,1))+30)),"") -> 27 | C11: =IF(MONTH((DATE(年間!$C$1,9,1)-WEEKDAY(DATE(年間!$C$1,9,1))+31))=9,DAY((DATE(年間!$C$1,9,1)-WEEKDAY(DATE(年間!$C$1,9,1))+31)),"") -> 28 | D11: =IF(MONTH((DATE(年間!$C$1,9,1)-WEEKDAY(DATE(年間!$C$1,9,1))+32))=9,DAY((DATE(年間!$C$1,9,1)-WEEKDAY(DATE(年間!$C$1,9,1))+32)),"") -> 29 | E11: =IF(MONTH((DATE(年間!$C$1,9,1)-WEEKDAY(DATE(年間!$C$1,9,1))+33))=9,DAY((DATE(年間!$C$1,9,1)-WEEKDAY(DATE(年間!$C$1,9,1))+33)),"") -> 30 | F11: =IF(MONTH((DATE(年間!$C$1,9,1)-WEEKDAY(DATE(年間!$C$1,9,1))+34))=9,DAY((DATE(年間!$C$1,9,1)-WEEKDAY(DATE(年間!$C$1,9,1))+34)),"") | G11: =IF(MONTH((DATE(年間!$C$1,9,1)-WEEKDAY(DATE(年間!$C$1,9,1))+35))=9,DAY((DATE(年間!$C$1,9,1)-WEEKDAY(DATE(年間!$C$1,9,1))+35)),"")
A12: =IF(MONTH((DATE(年間!$C$1,9,1)-WEEKDAY(DATE(年間!$C$1,9,1))+29))=9,IFERROR(VLOOKUP((DATE(年間!$C$1,9,1)-WEEKDAY(DATE(年間!$C$1,9,1))+29),祝日!$A$2:$B$75,2,FALSE),""),"") | B12: =IF(MONTH((DATE(年間!$C$1,9,1)-WEEKDAY(DATE(年間!$C$1,9,1))+30))=9,IFERROR(VLOOKUP((DATE(年間!$C$1,9,1)-WEEKDAY(DATE(年間!$C$1,9,1))+30),祝日!$A$2:$B$75,2,FALSE),""),"") | C12: =IF(MONTH((DATE(年間!$C$1,9,1)-WEEKDAY(DATE(年間!$C$1,9,1))+31))=9,IFERROR(VLOOKUP((DATE(年間!$C$1,9,1)-WEEKDAY(DATE(年間!$C$1,9,1))+31),祝日!$A$2:$B$75,2,FALSE),""),"") | D12: =IF(MONTH((DATE(年間!$C$1,9,1)-WEEKDAY(DATE(年間!$C$1,9,1))+32))=9,IFERROR(VLOOKUP((DATE(年間!$C$1,9,1)-WEEKDAY(DATE(年間!$C$1,9,1))+32),祝日!$A$2:$B$75,2,FALSE),""),"") | E12: =IF(MONTH((DATE(年間!$C$1,9,1)-WEEKDAY(DATE(年間!$C$1,9,1))+33))=9,IFERROR(VLOOKUP((DATE(年間!$C$1,9,1)-WEEKDAY(DATE(年間!$C$1,9,1))+33),祝日!$A$2:$B$75,2,FALSE),""),"") | F12: =IF(MONTH((DATE(年間!$C$1,9,1)-WEEKDAY(DATE(年間!$C$1,9,1))+34))=9,IFERROR(VLOOKUP((DATE(年間!$C$1,9,1)-WEEKDAY(DATE(年間!$C$1,9,1))+34),祝日!$A$2:$B$75,2,FALSE),""),"") | G12: =IF(MONTH((DATE(年間!$C$1,9,1)-WEEKDAY(DATE(年間!$C$1,9,1))+35))=9,IFERROR(VLOOKUP((DATE(年間!$C$1,9,1)-WEEKDAY(DATE(年間!$C$1,9,1))+35),祝日!$A$2:$B$75,2,FALSE),""),"")
A13: =IF(MONTH((DATE(年間!$C$1,9,1)-WEEKDAY(DATE(年間!$C$1,9,1))+36))=9,DAY((DATE(年間!$C$1,9,1)-WEEKDAY(DATE(年間!$C$1,9,1))+36)),"") | B13: =IF(MONTH((DATE(年間!$C$1,9,1)-WEEKDAY(DATE(年間!$C$1,9,1))+37))=9,DAY((DATE(年間!$C$1,9,1)-WEEKDAY(DATE(年間!$C$1,9,1))+37)),"") | C13: =IF(MONTH((DATE(年間!$C$1,9,1)-WEEKDAY(DATE(年間!$C$1,9,1))+38))=9,DAY((DATE(年間!$C$1,9,1)-WEEKDAY(DATE(年間!$C$1,9,1))+38)),"") | D13: =IF(MONTH((DATE(年間!$C$1,9,1)-WEEKDAY(DATE(年間!$C$1,9,1))+39))=9,DAY((DATE(年間!$C$1,9,1)-WEEKDAY(DATE(年間!$C$1,9,1))+39)),"") | E13: =IF(MONTH((DATE(年間!$C$1,9,1)-WEEKDAY(DATE(年間!$C$1,9,1))+40))=9,DAY((DATE(年間!$C$1,9,1)-WEEKDAY(DATE(年間!$C$1,9,1))+40)),"") | F13: =IF(MONTH((DATE(年間!$C$1,9,1)-WEEKDAY(DATE(年間!$C$1,9,1))+41))=9,DAY((DATE(年間!$C$1,9,1)-WEEKDAY(DATE(年間!$C$1,9,1))+41)),"") | G13: =IF(MONTH((DATE(年間!$C$1,9,1)-WEEKDAY(DATE(年間!$C$1,9,1))+42))=9,DAY((DATE(年間!$C$1,9,1)-WEEKDAY(DATE(年間!$C$1,9,1))+42)),"")
A14: =IF(MONTH((DATE(年間!$C$1,9,1)-WEEKDAY(DATE(年間!$C$1,9,1))+36))=9,IFERROR(VLOOKUP((DATE(年間!$C$1,9,1)-WEEKDAY(DATE(年間!$C$1,9,1))+36),祝日!$A$2:$B$75,2,FALSE),""),"") | B14: =IF(MONTH((DATE(年間!$C$1,9,1)-WEEKDAY(DATE(年間!$C$1,9,1))+37))=9,IFERROR(VLOOKUP((DATE(年間!$C$1,9,1)-WEEKDAY(DATE(年間!$C$1,9,1))+37),祝日!$A$2:$B$75,2,FALSE),""),"") | C14: =IF(MONTH((DATE(年間!$C$1,9,1)-WEEKDAY(DATE(年間!$C$1,9,1))+38))=9,IFERROR(VLOOKUP((DATE(年間!$C$1,9,1)-WEEKDAY(DATE(年間!$C$1,9,1))+38),祝日!$A$2:$B$75,2,FALSE),""),"") | D14: =IF(MONTH((DATE(年間!$C$1,9,1)-WEEKDAY(DATE(年間!$C$1,9,1))+39))=9,IFERROR(VLOOKUP((DATE(年間!$C$1,9,1)-WEEKDAY(DATE(年間!$C$1,9,1))+39),祝日!$A$2:$B$75,2,FALSE),""),"") | E14: =IF(MONTH((DATE(年間!$C$1,9,1)-WEEKDAY(DATE(年間!$C$1,9,1))+40))=9,IFERROR(VLOOKUP((DATE(年間!$C$1,9,1)-WEEKDAY(DATE(年間!$C$1,9,1))+40),祝日!$A$2:$B$75,2,FALSE),""),"") | F14: =IF(MONTH((DATE(年間!$C$1,9,1)-WEEKDAY(DATE(年間!$C$1,9,1))+41))=9,IFERROR(VLOOKUP((DATE(年間!$C$1,9,1)-WEEKDAY(DATE(年間!$C$1,9,1))+41),祝日!$A$2:$B$75,2,FALSE),""),"") | G14: =IF(MONTH((DATE(年間!$C$1,9,1)-WEEKDAY(DATE(年間!$C$1,9,1))+42))=9,IFERROR(VLOOKUP((DATE(年間!$C$1,9,1)-WEEKDAY(DATE(年間!$C$1,9,1))+42),祝日!$A$2:$B$75,2,FALSE),""),"")

Sheet 10月
A1: =年間!$C$1&"年 10月" -> 2027年 10月
A2: 日 | B2: 月 | C2: 火 | D2: 水 | E2: 木 | F2: 金 | G2: 土
A3: =IF(MONTH((DATE(年間!$C$1,10,1)-WEEKDAY(DATE(年間!$C$1,10,1))+1))=10,DAY((DATE(年間!$C$1,10,1)-WEEKDAY(DATE(年間!$C$1,10,1))+1)),"") | B3: =IF(MONTH((DATE(年間!$C$1,10,1)-WEEKDAY(DATE(年間!$C$1,10,1))+2))=10,DAY((DATE(年間!$C$1,10,1)-WEEKDAY(DATE(年間!$C$1,10,1))+2)),"") | C3: =IF(MONTH((DATE(年間!$C$1,10,1)-WEEKDAY(DATE(年間!$C$1,10,1))+3))=10,DAY((DATE(年間!$C$1,10,1)-WEEKDAY(DATE(年間!$C$1,10,1))+3)),"") | D3: =IF(MONTH((DATE(年間!$C$1,10,1)-WEEKDAY(DATE(年間!$C$1,10,1))+4))=10,DAY((DATE(年間!$C$1,10,1)-WEEKDAY(DATE(年間!$C$1,10,1))+4)),"") | E3: =IF(MONTH((DATE(年間!$C$1,10,1)-WEEKDAY(DATE(年間!$C$1,10,1))+5))=10,DAY((DATE(年間!$C$1,10,1)-WEEKDAY(DATE(年間!$C$1,10,1))+5)),"") | F3: =IF(MONTH((DATE(年間!$C$1,10,1)-WEEKDAY(DATE(年間!$C$1,10,1))+6))=10,DAY((DATE(年間!$C$1,10,1)-WEEKDAY(DATE(年間!$C$1,10,1))+6)),"") -> 1 | G3: =IF(MONTH((DATE(年間!$C$1,10,1)-WEEKDAY(DATE(年間!$C$1,10,1))+7))=10,DAY((DATE(年間!$C$1,10,1)-WEEKDAY(DATE(年間!$C$1,10,1))+7)),"") -> 2
A4: =IF(MONTH((DATE(年間!$C$1,10,1)-WEEKDAY(DATE(年間!$C$1,10,1))+1))=10,IFERROR(VLOOKUP((DATE(年間!$C$1,10,1)-WEEKDAY(DATE(年間!$C$1,10,1))+1),祝日!$A$2:$B$75,2,FALSE),""),"") | B4: =IF(MONTH((DATE(年間!$C$1,10,1)-WEEKDAY(DATE(年間!$C$1,10,1))+2))=10,IFERROR(VLOOKUP((DATE(年間!$C$1,10,1)-WEEKDAY(DATE(年間!$C$1,10,1))+2),祝日!$A$2:$B$75,2,FALSE),""),"") | C4: =IF(MONTH((DATE(年間!$C$1,10,1)-WEEKDAY(DATE(年間!$C$1,10,1))+3))=10,IFERROR(VLOOKUP((DATE(年間!$C$1,10,1)-WEEKDAY(DATE(年間!$C$1,10,1))+3),祝日!$A$2:$B$75,2,FALSE),""),"") | D4: =IF(MONTH((DATE(年間!$C$1,10,1)-WEEKDAY(DATE(年間!$C$1,10,1))+4))=10,IFERROR(VLOOKUP((DATE(年間!$C$1,10,1)-WEEKDAY(DATE(年間!$C$1,10,1))+4),祝日!$A$2:$B$75,2,FALSE),""),"") | E4: =IF(MONTH((DATE(年間!$C$1,10,1)-WEEKDAY(DATE(年間!$C$1,10,1))+5))=10,IFERROR(VLOOKUP((DATE(年間!$C$1,10,1)-WEEKDAY(DATE(年間!$C$1,10,1))+5),祝日!$A$2:$B$75,2,FALSE),""),"") | F4: =IF(MONTH((DATE(年間!$C$1,10,1)-WEEKDAY(DATE(年間!$C$1,10,1))+6))=10,IFERROR(VLOOKUP((DATE(年間!$C$1,10,1)-WEEKDAY(DATE(年間!$C$1,10,1))+6),祝日!$A$2:$B$75,2,FALSE),""),"") | G4: =IF(MONTH((DATE(年間!$C$1,10,1)-WEEKDAY(DATE(年間!$C$1,10,1))+7))=10,IFERROR(VLOOKUP((DATE(年間!$C$1,10,1)-WEEKDAY(DATE(年間!$C$1,10,1))+7),祝日!$A$2:$B$75,2,FALSE),""),"")
A5: =IF(MONTH((DATE(年間!$C$1,10,1)-WEEKDAY(DATE(年間!$C$1,10,1))+8))=10,DAY((DATE(年間!$C$1,10,1)-WEEKDAY(DATE(年間!$C$1,10,1))+8)),"") -> 3 | B5: =IF(MONTH((DATE(年間!$C$1,10,1)-WEEKDAY(DATE(年間!$C$1,10,1))+9))=10,DAY((DATE(年間!$C$1,10,1)-WEEKDAY(DATE(年間!$C$1,10,1))+9)),"") -> 4 | C5: =IF(MONTH((DATE(年間!$C$1,10,1)-WEEKDAY(DATE(年間!$C$1,10,1))+10))=10,DAY((DATE(年間!$C$1,10,1)-WEEKDAY(DATE(年間!$C$1,10,1))+10)),"") -> 5 | D5: =IF(MONTH((DATE(年間!$C$1,10,1)-WEEKDAY(DATE(年間!$C$1,10,1))+11))=10,DAY((DATE(年間!$C$1,10,1)-WEEKDAY(DATE(年間!$C$1,10,1))+11)),"") -> 6 | E5: =IF(MONTH((DATE(年間!$C$1,10,1)-WEEKDAY(DATE(年間!$C$1,10,1))+12))=10,DAY((DATE(年間!$C$1,10,1)-WEEKDAY(DATE(年間!$C$1,10,1))+12)),"") -> 7 | F5: =IF(MONTH((DATE(年間!$C$1,10,1)-WEEKDAY(DATE(年間!$C$1,10,1))+13))=10,DAY((DATE(年間!$C$1,10,1)-WEEKDAY(DATE(年間!$C$1,10,1))+13)),"") -> 8 | G5: =IF(MONTH((DATE(年間!$C$1,10,1)-WEEKDAY(DATE(年間!$C$1,10,1))+14))=10,DAY((DATE(年間!$C$1,10,1)-WEEKDAY(DATE(年間!$C$1,10,1))+14)),"") -> 9
A6: =IF(MONTH((DATE(年間!$C$1,10,1)-WEEKDAY(DATE(年間!$C$1,10,1))+8))=10,IFERROR(VLOOKUP((DATE(年間!$C$1,10,1)-WEEKDAY(DATE(年間!$C$1,10,1))+8),祝日!$A$2:$B$75,2,FALSE),""),"") | B6: =IF(MONTH((DATE(年間!$C$1,10,1)-WEEKDAY(DATE(年間!$C$1,10,1))+9))=10,IFERROR(VLOOKUP((DATE(年間!$C$1,10,1)-WEEKDAY(DATE(年間!$C$1,10,1))+9),祝日!$A$2:$B$75,2,FALSE),""),"") | C6: =IF(MONTH((DATE(年間!$C$1,10,1)-WEEKDAY(DATE(年間!$C$1,10,1))+10))=10,IFERROR(VLOOKUP((DATE(年間!$C$1,10,1)-WEEKDAY(DATE(年間!$C$1,10,1))+10),祝日!$A$2:$B$75,2,FALSE),""),"") | D6: =IF(MONTH((DATE(年間!$C$1,10,1)-WEEKDAY(DATE(年間!$C$1,10,1))+11))=10,IFERROR(VLOOKUP((DATE(年間!$C$1,10,1)-WEEKDAY(DATE(年間!$C$1,10,1))+11),祝日!$A$2:$B$75,2,FALSE),""),"") | E6: =IF(MONTH((DATE(年間!$C$1,10,1)-WEEKDAY(DATE(年間!$C$1,10,1))+12))=10,IFERROR(VLOOKUP((DATE(年間!$C$1,10,1)-WEEKDAY(DATE(年間!$C$1,10,1))+12),祝日!$A$2:$B$75,2,FALSE),""),"") | F6: =IF(MONTH((DATE(年間!$C$1,10,1)-WEEKDAY(DATE(年間!$C$1,10,1))+13))=10,IFERROR(VLOOKUP((DATE(年間!$C$1,10,1)-WEEKDAY(DATE(年間!$C$1,10,1))+13),祝日!$A$2:$B$75,2,FALSE),""),"") | G6: =IF(MONTH((DATE(年間!$C$1,10,1)-WEEKDAY(DATE(年間!$C$1,10,1))+14))=10,IFERROR(VLOOKUP((DATE(年間!$C$1,10,1)-WEEKDAY(DATE(年間!$C$1,10,1))+14),祝日!$A$2:$B$75,2,FALSE),""),"")
A7: =IF(MONTH((DATE(年間!$C$1,10,1)-WEEKDAY(DATE(年間!$C$1,10,1))+15))=10,DAY((DATE(年間!$C$1,10,1)-WEEKDAY(DATE(年間!$C$1,10,1))+15)),"") -> 10 | B7: =IF(MONTH((DATE(年間!$C$1,10,1)-WEEKDAY(DATE(年間!$C$1,10,1))+16))=10,DAY((DATE(年間!$C$1,10,1)-WEEKDAY(DATE(年間!$C$1,10,1))+16)),"") -> 11 | C7: =IF(MONTH((DATE(年間!$C$1,10,1)-WEEKDAY(DATE(年間!$C$1,10,1))+17))=10,DAY((DATE(年間!$C$1,10,1)-WEEKDAY(DATE(年間!$C$1,10,1))+17)),"") -> 12 | D7: =IF(MONTH((DATE(年間!$C$1,10,1)-WEEKDAY(DATE(年間!$C$1,10,1))+18))=10,DAY((DATE(年間!$C$1,10,1)-WEEKDAY(DATE(年間!$C$1,10,1))+18)),"") -> 13 | E7: =IF(MONTH((DATE(年間!$C$1,10,1)-WEEKDAY(DATE(年間!$C$1,10,1))+19))=10,DAY((DATE(年間!$C$1,10,1)-WEEKDAY(DATE(年間!$C$1,10,1))+19)),"") -> 14 | F7: =IF(MONTH((DATE(年間!$C$1,10,1)-WEEKDAY(DATE(年間!$C$1,10,1))+20))=10,DAY((DATE(年間!$C$1,10,1)-WEEKDAY(DATE(年間!$C$1,10,1))+20)),"") -> 15 | G7: =IF(MONTH((DATE(年間!$C$1,10,1)-WEEKDAY(DATE(年間!$C$1,10,1))+21))=10,DAY((DATE(年間!$C$1,10,1)-WEEKDAY(DATE(年間!$C$1,10,1))+21)),"") -> 16
A8: =IF(MONTH((DATE(年間!$C$1,10,1)-WEEKDAY(DATE(年間!$C$1,10,1))+15))=10,IFERROR(VLOOKUP((DATE(年間!$C$1,10,1)-WEEKDAY(DATE(年間!$C$1,10,1))+15),祝日!$A$2:$B$75,2,FALSE),""),"") | B8: =IF(MONTH((DATE(年間!$C$1,10,1)-WEEKDAY(DATE(年間!$C$1,10,1))+16))=10,IFERROR(VLOOKUP((DATE(年間!$C$1,10,1)-WEEKDAY(DATE(年間!$C$1,10,1))+16),祝日!$A$2:$B$75,2,FALSE),""),"") -> スポーツの日 | C8: =IF(MONTH((DATE(年間!$C$1,10,1)-WEEKDAY(DATE(年間!$C$1,10,1))+17))=10,IFERROR(VLOOKUP((DATE(年間!$C$1,10,1)-WEEKDAY(DATE(年間!$C$1,10,1))+17),祝日!$A$2:$B$75,2,FALSE),""),"") | D8: =IF(MONTH((DATE(年間!$C$1,10,1)-WEEKDAY(DATE(年間!$C$1,10,1))+18))=10,IFERROR(VLOOKUP((DATE(年間!$C$1,10,1)-WEEKDAY(DATE(年間!$C$1,10,1))+18),祝日!$A$2:$B$75,2,FALSE),""),"") | E8: =IF(MONTH((DATE(年間!$C$1,10,1)-WEEKDAY(DATE(年間!$C$1,10,1))+19))=10,IFERROR(VLOOKUP((DATE(年間!$C$1,10,1)-WEEKDAY(DATE(年間!$C$1,10,1))+19),祝日!$A$2:$B$75,2,FALSE),""),"") | F8: =IF(MONTH((DATE(年間!$C$1,10,1)-WEEKDAY(DATE(年間!$C$1,10,1))+20))=10,IFERROR(VLOOKUP((DATE(年間!$C$1,10,1)-WEEKDAY(DATE(年間!$C$1,10,1))+20),祝日!$A$2:$B$75,2,FALSE),""),"") | G8: =IF(MONTH((DATE(年間!$C$1,10,1)-WEEKDAY(DATE(年間!$C$1,10,1))+21))=10,IFERROR(VLOOKUP((DATE(年間!$C$1,10,1)-WEEKDAY(DATE(年間!$C$1,10,1))+21),祝日!$A$2:$B$75,2,FALSE),""),"")
A9: =IF(MONTH((DATE(年間!$C$1,10,1)-WEEKDAY(DATE(年間!$C$1,10,1))+22))=10,DAY((DATE(年間!$C$1,10,1)-WEEKDAY(DATE(年間!$C$1,10,1))+22)),"") -> 17 | B9: =IF(MONTH((DATE(年間!$C$1,10,1)-WEEKDAY(DATE(年間!$C$1,10,1))+23))=10,DAY((DATE(年間!$C$1,10,1)-WEEKDAY(DATE(年間!$C$1,10,1))+23)),"") -> 18 | C9: =IF(MONTH((DATE(年間!$C$1,10,1)-WEEKDAY(DATE(年間!$C$1,10,1))+24))=10,DAY((DATE(年間!$C$1,10,1)-WEEKDAY(DATE(年間!$C$1,10,1))+24)),"") -> 19 | D9: =IF(MONTH((DATE(年間!$C$1,10,1)-WEEKDAY(DATE(年間!$C$1,10,1))+25))=10,DAY((DATE(年間!$C$1,10,1)-WEEKDAY(DATE(年間!$C$1,10,1))+25)),"") -> 20 | E9: =IF(MONTH((DATE(年間!$C$1,10,1)-WEEKDAY(DATE(年間!$C$1,10,1))+26))=10,DAY((DATE(年間!$C$1,10,1)-WEEKDAY(DATE(年間!$C$1,10,1))+26)),"") -> 21 | F9: =IF(MONTH((DATE(年間!$C$1,10,1)-WEEKDAY(DATE(年間!$C$1,10,1))+27))=10,DAY((DATE(年間!$C$1,10,1)-WEEKDAY(DATE(年間!$C$1,10,1))+27)),"") -> 22 | G9: =IF(MONTH((DATE(年間!$C$1,10,1)-WEEKDAY(DATE(年間!$C$1,10,1))+28))=10,DAY((DATE(年間!$C$1,10,1)-WEEKDAY(DATE(年間!$C$1,10,1))+28)),"") -> 23
A10: =IF(MONTH((DATE(年間!$C$1,10,1)-WEEKDAY(DATE(年間!$C$1,10,1))+22))=10,IFERROR(VLOOKUP((DATE(年間!$C$1,10,1)-WEEKDAY(DATE(年間!$C$1,10,1))+22),祝日!$A$2:$B$75,2,FALSE),""),"") | B10: =IF(MONTH((DATE(年間!$C$1,10,1)-WEEKDAY(DATE(年間!$C$1,10,1))+23))=10,IFERROR(VLOOKUP((DATE(年間!$C$1,10,1)-WEEKDAY(DATE(年間!$C$1,10,1))+23),祝日!$A$2:$B$75,2,FALSE),""),"") | C10: =IF(MONTH((DATE(年間!$C$1,10,1)-WEEKDAY(DATE(年間!$C$1,10,1))+24))=10,IFERROR(VLOOKUP((DATE(年間!$C$1,10,1)-WEEKDAY(DATE(年間!$C$1,10,1))+24),祝日!$A$2:$B$75,2,FALSE),""),"") | D10: =IF(MONTH((DATE(年間!$C$1,10,1)-WEEKDAY(DATE(年間!$C$1,10,1))+25))=10,IFERROR(VLOOKUP((DATE(年間!$C$1,10,1)-WEEKDAY(DATE(年間!$C$1,10,1))+25),祝日!$A$2:$B$75,2,FALSE),""),"") | E10: =IF(MONTH((DATE(年間!$C$1,10,1)-WEEKDAY(DATE(年間!$C$1,10,1))+26))=10,IFERROR(VLOOKUP((DATE(年間!$C$1,10,1)-WEEKDAY(DATE(年間!$C$1,10,1))+26),祝日!$A$2:$B$75,2,FALSE),""),"") | F10: =IF(MONTH((DATE(年間!$C$1,10,1)-WEEKDAY(DATE(年間!$C$1,10,1))+27))=10,IFERROR(VLOOKUP((DATE(年間!$C$1,10,1)-WEEKDAY(DATE(年間!$C$1,10,1))+27),祝日!$A$2:$B$75,2,FALSE),""),"") | G10: =IF(MONTH((DATE(年間!$C$1,10,1)-WEEKDAY(DATE(年間!$C$1,10,1))+28))=10,IFERROR(VLOOKUP((DATE(年間!$C$1,10,1)-WEEKDAY(DATE(年間!$C$1,10,1))+28),祝日!$A$2:$B$75,2,FALSE),""),"")
A11: =IF(MONTH((DATE(年間!$C$1,10,1)-WEEKDAY(DATE(年間!$C$1,10,1))+29))=10,DAY((DATE(年間!$C$1,10,1)-WEEKDAY(DATE(年間!$C$1,10,1))+29)),"") -> 24 | B11: =IF(MONTH((DATE(年間!$C$1,10,1)-WEEKDAY(DATE(年間!$C$1,10,1))+30))=10,DAY((DATE(年間!$C$1,10,1)-WEEKDAY(DATE(年間!$C$1,10,1))+30)),"") -> 25 | C11: =IF(MONTH((DATE(年間!$C$1,10,1)-WEEKDAY(DATE(年間!$C$1,10,1))+31))=10,DAY((DATE(年間!$C$1,10,1)-WEEKDAY(DATE(年間!$C$1,10,1))+31)),"") -> 26 | D11: =IF(MONTH((DATE(年間!$C$1,10,1)-WEEKDAY(DATE(年間!$C$1,10,1))+32))=10,DAY((DATE(年間!$C$1,10,1)-WEEKDAY(DATE(年間!$C$1,10,1))+32)),"") -> 27 | E11: =IF(MONTH((DATE(年間!$C$1,10,1)-WEEKDAY(DATE(年間!$C$1,10,1))+33))=10,DAY((DATE(年間!$C$1,10,1)-WEEKDAY(DATE(年間!$C$1,10,1))+33)),"") -> 28 | F11: =IF(MONTH((DATE(年間!$C$1,10,1)-WEEKDAY(DATE(年間!$C$1,10,1))+34))=10,DAY((DATE(年間!$C$1,10,1)-WEEKDAY(DATE(年間!$C$1,10,1))+34)),"") -> 29 | G11: =IF(MONTH((DATE(年間!$C$1,10,1)-WEEKDAY(DATE(年間!$C$1,10,1))+35))=10,DAY((DATE(年間!$C$1,10,1)-WEEKDAY(DATE(年間!$C$1,10,1))+35)),"") -> 30
A12: =IF(MONTH((DATE(年間!$C$1,10,1)-WEEKDAY(DATE(年間!$C$1,10,1))+29))=10,IFERROR(VLOOKUP((DATE(年間!$C$1,10,1)-WEEKDAY(DATE(年間!$C$1,10,1))+29),祝日!$A$2:$B$75,2,FALSE),""),"") | B12: =IF(MONTH((DATE(年間!$C$1,10,1)-WEEKDAY(DATE(年間!$C$1,10,1))+30))=10,IFERROR(VLOOKUP((DATE(年間!$C$1,10,1)-WEEKDAY(DATE(年間!$C$1,10,1))+30),祝日!$A$2:$B$75,2,FALSE),""),"") | C12: =IF(MONTH((DATE(年間!$C$1,10,1)-WEEKDAY(DATE(年間!$C$1,10,1))+31))=10,IFERROR(VLOOKUP((DATE(年間!$C$1,10,1)-WEEKDAY(DATE(年間!$C$1,10,1))+31),祝日!$A$2:$B$75,2,FALSE),""),"") | D12: =IF(MONTH((DATE(年間!$C$1,10,1)-WEEKDAY(DATE(年間!$C$1,10,1))+32))=10,IFERROR(VLOOKUP((DATE(年間!$C$1,10,1)-WEEKDAY(DATE(年間!$C$1,10,1))+32),祝日!$A$2:$B$75,2,FALSE),""),"") | E12: =IF(MONTH((DATE(年間!$C$1,10,1)-WEEKDAY(DATE(年間!$C$1,10,1))+33))=10,IFERROR(VLOOKUP((DATE(年間!$C$1,10,1)-WEEKDAY(DATE(年間!$C$1,10,1))+33),祝日!$A$2:$B$75,2,FALSE),""),"") | F12: =IF(MONTH((DATE(年間!$C$1,10,1)-WEEKDAY(DATE(年間!$C$1,10,1))+34))=10,IFERROR(VLOOKUP((DATE(年間!$C$1,10,1)-WEEKDAY(DATE(年間!$C$1,10,1))+34),祝日!$A$2:$B$75,2,FALSE),""),"") | G12: =IF(MONTH((DATE(年間!$C$1,10,1)-WEEKDAY(DATE(年間!$C$1,10,1))+35))=10,IFERROR(VLOOKUP((DATE(年間!$C$1,10,1)-WEEKDAY(DATE(年間!$C$1,10,1))+35),祝日!$A$2:$B$75,2,FALSE),""),"")
A13: =IF(MONTH((DATE(年間!$C$1,10,1)-WEEKDAY(DATE(年間!$C$1,10,1))+36))=10,DAY((DATE(年間!$C$1,10,1)-WEEKDAY(DATE(年間!$C$1,10,1))+36)),"") -> 31 | B13: =IF(MONTH((DATE(年間!$C$1,10,1)-WEEKDAY(DATE(年間!$C$1,10,1))+37))=10,DAY((DATE(年間!$C$1,10,1)-WEEKDAY(DATE(年間!$C$1,10,1))+37)),"") | C13: =IF(MONTH((DATE(年間!$C$1,10,1)-WEEKDAY(DATE(年間!$C$1,10,1))+38))=10,DAY((DATE(年間!$C$1,10,1)-WEEKDAY(DATE(年間!$C$1,10,1))+38)),"") | D13: =IF(MONTH((DATE(年間!$C$1,10,1)-WEEKDAY(DATE(年間!$C$1,10,1))+39))=10,DAY((DATE(年間!$C$1,10,1)-WEEKDAY(DATE(年間!$C$1,10,1))+39)),"") | E13: =IF(MONTH((DATE(年間!$C$1,10,1)-WEEKDAY(DATE(年間!$C$1,10,1))+40))=10,DAY((DATE(年間!$C$1,10,1)-WEEKDAY(DATE(年間!$C$1,10,1))+40)),"") | F13: =IF(MONTH((DATE(年間!$C$1,10,1)-WEEKDAY(DATE(年間!$C$1,10,1))+41))=10,DAY((DATE(年間!$C$1,10,1)-WEEKDAY(DATE(年間!$C$1,10,1))+41)),"") | G13: =IF(MONTH((DATE(年間!$C$1,10,1)-WEEKDAY(DATE(年間!$C$1,10,1))+42))=10,DAY((DATE(年間!$C$1,10,1)-WEEKDAY(DATE(年間!$C$1,10,1))+42)),"")
A14: =IF(MONTH((DATE(年間!$C$1,10,1)-WEEKDAY(DATE(年間!$C$1,10,1))+36))=10,IFERROR(VLOOKUP((DATE(年間!$C$1,10,1)-WEEKDAY(DATE(年間!$C$1,10,1))+36),祝日!$A$2:$B$75,2,FALSE),""),"") | B14: =IF(MONTH((DATE(年間!$C$1,10,1)-WEEKDAY(DATE(年間!$C$1,10,1))+37))=10,IFERROR(VLOOKUP((DATE(年間!$C$1,10,1)-WEEKDAY(DATE(年間!$C$1,10,1))+37),祝日!$A$2:$B$75,2,FALSE),""),"") | C14: =IF(MONTH((DATE(年間!$C$1,10,1)-WEEKDAY(DATE(年間!$C$1,10,1))+38))=10,IFERROR(VLOOKUP((DATE(年間!$C$1,10,1)-WEEKDAY(DATE(年間!$C$1,10,1))+38),祝日!$A$2:$B$75,2,FALSE),""),"") | D14: =IF(MONTH((DATE(年間!$C$1,10,1)-WEEKDAY(DATE(年間!$C$1,10,1))+39))=10,IFERROR(VLOOKUP((DATE(年間!$C$1,10,1)-WEEKDAY(DATE(年間!$C$1,10,1))+39),祝日!$A$2:$B$75,2,FALSE),""),"") | E14: =IF(MONTH((DATE(年間!$C$1,10,1)-WEEKDAY(DATE(年間!$C$1,10,1))+40))=10,IFERROR(VLOOKUP((DATE(年間!$C$1,10,1)-WEEKDAY(DATE(年間!$C$1,10,1))+40),祝日!$A$2:$B$75,2,FALSE),""),"") | F14: =IF(MONTH((DATE(年間!$C$1,10,1)-WEEKDAY(DATE(年間!$C$1,10,1))+41))=10,IFERROR(VLOOKUP((DATE(年間!$C$1,10,1)-WEEKDAY(DATE(年間!$C$1,10,1))+41),祝日!$A$2:$B$75,2,FALSE),""),"") | G14: =IF(MONTH((DATE(年間!$C$1,10,1)-WEEKDAY(DATE(年間!$C$1,10,1))+42))=10,IFERROR(VLOOKUP((DATE(年間!$C$1,10,1)-WEEKDAY(DATE(年間!$C$1,10,1))+42),祝日!$A$2:$B$75,2,FALSE),""),"")

Sheet 11月
A1: =年間!$C$1&"年 11月" -> 2027年 11月
A2: 日 | B2: 月 | C2: 火 | D2: 水 | E2: 木 | F2: 金 | G2: 土
A3: =IF(MONTH((DATE(年間!$C$1,11,1)-WEEKDAY(DATE(年間!$C$1,11,1))+1))=11,DAY((DATE(年間!$C$1,11,1)-WEEKDAY(DATE(年間!$C$1,11,1))+1)),"") | B3: =IF(MONTH((DATE(年間!$C$1,11,1)-WEEKDAY(DATE(年間!$C$1,11,1))+2))=11,DAY((DATE(年間!$C$1,11,1)-WEEKDAY(DATE(年間!$C$1,11,1))+2)),"") -> 1 | C3: =IF(MONTH((DATE(年間!$C$1,11,1)-WEEKDAY(DATE(年間!$C$1,11,1))+3))=11,DAY((DATE(年間!$C$1,11,1)-WEEKDAY(DATE(年間!$C$1,11,1))+3)),"") -> 2 | D3: =IF(MONTH((DATE(年間!$C$1,11,1)-WEEKDAY(DATE(年間!$C$1,11,1))+4))=11,DAY((DATE(年間!$C$1,11,1)-WEEKDAY(DATE(年間!$C$1,11,1))+4)),"") -> 3 | E3: =IF(MONTH((DATE(年間!$C$1,11,1)-WEEKDAY(DATE(年間!$C$1,11,1))+5))=11,DAY((DATE(年間!$C$1,11,1)-WEEKDAY(DATE(年間!$C$1,11,1))+5)),"") -> 4 | F3: =IF(MONTH((DATE(年間!$C$1,11,1)-WEEKDAY(DATE(年間!$C$1,11,1))+6))=11,DAY((DATE(年間!$C$1,11,1)-WEEKDAY(DATE(年間!$C$1,11,1))+6)),"") -> 5 | G3: =IF(MONTH((DATE(年間!$C$1,11,1)-WEEKDAY(DATE(年間!$C$1,11,1))+7))=11,DAY((DATE(年間!$C$1,11,1)-WEEKDAY(DATE(年間!$C$1,11,1))+7)),"") -> 6
A4: =IF(MONTH((DATE(年間!$C$1,11,1)-WEEKDAY(DATE(年間!$C$1,11,1))+1))=11,IFERROR(VLOOKUP((DATE(年間!$C$1,11,1)-WEEKDAY(DATE(年間!$C$1,11,1))+1),祝日!$A$2:$B$75,2,FALSE),""),"") | B4: =IF(MONTH((DATE(年間!$C$1,11,1)-WEEKDAY(DATE(年間!$C$1,11,1))+2))=11,IFERROR(VLOOKUP((DATE(年間!$C$1,11,1)-WEEKDAY(DATE(年間!$C$1,11,1))+2),祝日!$A$2:$B$75,2,FALSE),""),"") | C4: =IF(MONTH((DATE(年間!$C$1,11,1)-WEEKDAY(DATE(年間!$C$1,11,1))+3))=11,IFERROR(VLOOKUP((DATE(年間!$C$1,11,1)-WEEKDAY(DATE(年間!$C$1,11,1))+3),祝日!$A$2:$B$75,2,FALSE),""),"") | D4: =IF(MONTH((DATE(年間!$C$1,11,1)-WEEKDAY(DATE(年間!$C$1,11,1))+4))=11,IFERROR(VLOOKUP((DATE(年間!$C$1,11,1)-WEEKDAY(DATE(年間!$C$1,11,1))+4),祝日!$A$2:$B$75,2,FALSE),""),"") -> 文化の日 | E4: =IF(MONTH((DATE(年間!$C$1,11,1)-WEEKDAY(DATE(年間!$C$1,11,1))+5))=11,IFERROR(VLOOKUP((DATE(年間!$C$1,11,1)-WEEKDAY(DATE(年間!$C$1,11,1))+5),祝日!$A$2:$B$75,2,FALSE),""),"") | F4: =IF(MONTH((DATE(年間!$C$1,11,1)-WEEKDAY(DATE(年間!$C$1,11,1))+6))=11,IFERROR(VLOOKUP((DATE(年間!$C$1,11,1)-WEEKDAY(DATE(年間!$C$1,11,1))+6),祝日!$A$2:$B$75,2,FALSE),""),"") | G4: =IF(MONTH((DATE(年間!$C$1,11,1)-WEEKDAY(DATE(年間!$C$1,11,1))+7))=11,IFERROR(VLOOKUP((DATE(年間!$C$1,11,1)-WEEKDAY(DATE(年間!$C$1,11,1))+7),祝日!$A$2:$B$75,2,FALSE),""),"")
A5: =IF(MONTH((DATE(年間!$C$1,11,1)-WEEKDAY(DATE(年間!$C$1,11,1))+8))=11,DAY((DATE(年間!$C$1,11,1)-WEEKDAY(DATE(年間!$C$1,11,1))+8)),"") -> 7 | B5: =IF(MONTH((DATE(年間!$C$1,11,1)-WEEKDAY(DATE(年間!$C$1,11,1))+9))=11,DAY((DATE(年間!$C$1,11,1)-WEEKDAY(DATE(年間!$C$1,11,1))+9)),"") -> 8 | C5: =IF(MONTH((DATE(年間!$C$1,11,1)-WEEKDAY(DATE(年間!$C$1,11,1))+10))=11,DAY((DATE(年間!$C$1,11,1)-WEEKDAY(DATE(年間!$C$1,11,1))+10)),"") -> 9 | D5: =IF(MONTH((DATE(年間!$C$1,11,1)-WEEKDAY(DATE(年間!$C$1,11,1))+11))=11,DAY((DATE(年間!$C$1,11,1)-WEEKDAY(DATE(年間!$C$1,11,1))+11)),"") -> 10 | E5: =IF(MONTH((DATE(年間!$C$1,11,1)-WEEKDAY(DATE(年間!$C$1,11,1))+12))=11,DAY((DATE(年間!$C$1,11,1)-WEEKDAY(DATE(年間!$C$1,11,1))+12)),"") -> 11 | F5: =IF(MONTH((DATE(年間!$C$1,11,1)-WEEKDAY(DATE(年間!$C$1,11,1))+13))=11,DAY((DATE(年間!$C$1,11,1)-WEEKDAY(DATE(年間!$C$1,11,1))+13)),"") -> 12 | G5: =IF(MONTH((DATE(年間!$C$1,11,1)-WEEKDAY(DATE(年間!$C$1,11,1))+14))=11,DAY((DATE(年間!$C$1,11,1)-WEEKDAY(DATE(年間!$C$1,11,1))+14)),"") -> 13
A6: =IF(MONTH((DATE(年間!$C$1,11,1)-WEEKDAY(DATE(年間!$C$1,11,1))+8))=11,IFERROR(VLOOKUP((DATE(年間!$C$1,11,1)-WEEKDAY(DATE(年間!$C$1,11,1))+8),祝日!$A$2:$B$75,2,FALSE),""),"") | B6: =IF(MONTH((DATE(年間!$C$1,11,1)-WEEKDAY(DATE(年間!$C$1,11,1))+9))=11,IFERROR(VLOOKUP((DATE(年間!$C$1,11,1)-WEEKDAY(DATE(年間!$C$1,11,1))+9),祝日!$A$2:$B$75,2,FALSE),""),"") | C6: =IF(MONTH((DATE(年間!$C$1,11,1)-WEEKDAY(DATE(年間!$C$1,11,1))+10))=11,IFERROR(VLOOKUP((DATE(年間!$C$1,11,1)-WEEKDAY(DATE(年間!$C$1,11,1))+10),祝日!$A$2:$B$75,2,FALSE),""),"") | D6: =IF(MONTH((DATE(年間!$C$1,11,1)-WEEKDAY(DATE(年間!$C$1,11,1))+11))=11,IFERROR(VLOOKUP((DATE(年間!$C$1,11,1)-WEEKDAY(DATE(年間!$C$1,11,1))+11),祝日!$A$2:$B$75,2,FALSE),""),"") | E6: =IF(MONTH((DATE(年間!$C$1,11,1)-WEEKDAY(DATE(年間!$C$1,11,1))+12))=11,IFERROR(VLOOKUP((DATE(年間!$C$1,11,1)-WEEKDAY(DATE(年間!$C$1,11,1))+12),祝日!$A$2:$B$75,2,FALSE),""),"") | F6: =IF(MONTH((DATE(年間!$C$1,11,1)-WEEKDAY(DATE(年間!$C$1,11,1))+13))=11,IFERROR(VLOOKUP((DATE(年間!$C$1,11,1)-WEEKDAY(DATE(年間!$C$1,11,1))+13),祝日!$A$2:$B$75,2,FALSE),""),"") | G6: =IF(MONTH((DATE(年間!$C$1,11,1)-WEEKDAY(DATE(年間!$C$1,11,1))+14))=11,IFERROR(VLOOKUP((DATE(年間!$C$1,11,1)-WEEKDAY(DATE(年間!$C$1,11,1))+14),祝日!$A$2:$B$75,2,FALSE),""),"")
A7: =IF(MONTH((DATE(年間!$C$1,11,1)-WEEKDAY(DATE(年間!$C$1,11,1))+15))=11,DAY((DATE(年間!$C$1,11,1)-WEEKDAY(DATE(年間!$C$1,11,1))+15)),"") -> 14 | B7: =IF(MONTH((DATE(年間!$C$1,11,1)-WEEKDAY(DATE(年間!$C$1,11,1))+16))=11,DAY((DATE(年間!$C$1,11,1)-WEEKDAY(DATE(年間!$C$1,11,1))+16)),"") -> 15 | C7: =IF(MONTH((DATE(年間!$C$1,11,1)-WEEKDAY(DATE(年間!$C$1,11,1))+17))=11,DAY((DATE(年間!$C$1,11,1)-WEEKDAY(DATE(年間!$C$1,11,1))+17)),"") -> 16 | D7: =IF(MONTH((DATE(年間!$C$1,11,1)-WEEKDAY(DATE(年間!$C$1,11,1))+18))=11,DAY((DATE(年間!$C$1,11,1)-WEEKDAY(DATE(年間!$C$1,11,1))+18)),"") -> 17 | E7: =IF(MONTH((DATE(年間!$C$1,11,1)-WEEKDAY(DATE(年間!$C$1,11,1))+19))=11,DAY((DATE(年間!$C$1,11,1)-WEEKDAY(DATE(年間!$C$1,11,1))+19)),"") -> 18 | F7: =IF(MONTH((DATE(年間!$C$1,11,1)-WEEKDAY(DATE(年間!$C$1,11,1))+20))=11,DAY((DATE(年間!$C$1,11,1)-WEEKDAY(DATE(年間!$C$1,11,1))+20)),"") -> 19 | G7: =IF(MONTH((DATE(年間!$C$1,11,1)-WEEKDAY(DATE(年間!$C$1,11,1))+21))=11,DAY((DATE(年間!$C$1,11,1)-WEEKDAY(DATE(年間!$C$1,11,1))+21)),"") -> 20
A8: =IF(MONTH((DATE(年間!$C$1,11,1)-WEEKDAY(DATE(年間!$C$1,11,1))+15))=11,IFERROR(VLOOKUP((DATE(年間!$C$1,11,1)-WEEKDAY(DATE(年間!$C$1,11,1))+15),祝日!$A$2:$B$75,2,FALSE),""),"") | B8: =IF(MONTH((DATE(年間!$C$1,11,1)-WEEKDAY(DATE(年間!$C$1,11,1))+16))=11,IFERROR(VLOOKUP((DATE(年間!$C$1,11,1)-WEEKDAY(DATE(年間!$C$1,11,1))+16),祝日!$A$2:$B$75,2,FALSE),""),"") | C8: =IF(MONTH((DATE(年間!$C$1,11,1)-WEEKDAY(DATE(年間!$C$1,11,1))+17))=11,IFERROR(VLOOKUP((DATE(年間!$C$1,11,1)-WEEKDAY(DATE(年間!$C$1,11,1))+17),祝日!$A$2:$B$75,2,FALSE),""),"") | D8: =IF(MONTH((DATE(年間!$C$1,11,1)-WEEKDAY(DATE(年間!$C$1,11,1))+18))=11,IFERROR(VLOOKUP((DATE(年間!$C$1,11,1)-WEEKDAY(DATE(年間!$C$1,11,1))+18),祝日!$A$2:$B$75,2,FALSE),""),"") | E8: =IF(MONTH((DATE(年間!$C$1,11,1)-WEEKDAY(DATE(年間!$C$1,11,1))+19))=11,IFERROR(VLOOKUP((DATE(年間!$C$1,11,1)-WEEKDAY(DATE(年間!$C$1,11,1))+19),祝日!$A$2:$B$75,2,FALSE),""),"") | F8: =IF(MONTH((DATE(年間!$C$1,11,1)-WEEKDAY(DATE(年間!$C$1,11,1))+20))=11,IFERROR(VLOOKUP((DATE(年間!$C$1,11,1)-WEEKDAY(DATE(年間!$C$1,11,1))+20),祝日!$A$2:$B$75,2,FALSE),""),"") | G8: =IF(MONTH((DATE(年間!$C$1,11,1)-WEEKDAY(DATE(年間!$C$1,11,1))+21))=11,IFERROR(VLOOKUP((DATE(年間!$C$1,11,1)-WEEKDAY(DATE(年間!$C$1,11,1))+21),祝日!$A$2:$B$75,2,FALSE),""),"")
A9: =IF(MONTH((DATE(年間!$C$1,11,1)-WEEKDAY(DATE(年間!$C$1,11,1))+22))=11,DAY((DATE(年間!$C$1,11,1)-WEEKDAY(DATE(年間!$C$1,11,1))+22)),"") -> 21 | B9: =IF(MONTH((DATE(年間!$C$1,11,1)-WEEKDAY(DATE(年間!$C$1,11,1))+23))=11,DAY((DATE(年間!$C$1,11,1)-WEEKDAY(DATE(年間!$C$1,11,1))+23)),"") -> 22 | C9: =IF(MONTH((DATE(年間!$C$1,11,1)-WEEKDAY(DATE(年間!$C$1,11,1))+24))=11,DAY((DATE(年間!$C$1,11,1)-WEEKDAY(DATE(年間!$C$1,11,1))+24)),"") -> 23 | D9: =IF(MONTH((DATE(年間!$C$1,11,1)-WEEKDAY(DATE(年間!$C$1,11,1))+25))=11,DAY((DATE(年間!$C$1,11,1)-WEEKDAY(DATE(年間!$C$1,11,1))+25)),"") -> 24 | E9: =IF(MONTH((DATE(年間!$C$1,11,1)-WEEKDAY(DATE(年間!$C$1,11,1))+26))=11,DAY((DATE(年間!$C$1,11,1)-WEEKDAY(DATE(年間!$C$1,11,1))+26)),"") -> 25 | F9: =IF(MONTH((DATE(年間!$C$1,11,1)-WEEKDAY(DATE(年間!$C$1,11,1))+27))=11,DAY((DATE(年間!$C$1,11,1)-WEEKDAY(DATE(年間!$C$1,11,1))+27)),"") -> 26 | G9: =IF(MONTH((DATE(年間!$C$1,11,1)-WEEKDAY(DATE(年間!$C$1,11,1))+28))=11,DAY((DATE(年間!$C$1,11,1)-WEEKDAY(DATE(年間!$C$1,11,1))+28)),"") -> 27
A10: =IF(MONTH((DATE(年間!$C$1,11,1)-WEEKDAY(DATE(年間!$C$1,11,1))+22))=11,IFERROR(VLOOKUP((DATE(年間!$C$1,11,1)-WEEKDAY(DATE(年間!$C$1,11,1))+22),祝日!$A$2:$B$75,2,FALSE),""),"") | B10: =IF(MONTH((DATE(年間!$C$1,11,1)-WEEKDAY(DATE(年間!$C$1,11,1))+23))=11,IFERROR(VLOOKUP((DATE(年間!$C$1,11,1)-WEEKDAY(DATE(年間!$C$1,11,1))+23),祝日!$A$2:$B$75,2,FALSE),""),"") | C10: =IF(MONTH((DATE(年間!$C$1,11,1)-WEEKDAY(DATE(年間!$C$1,11,1))+24))=11,IFERROR(VLOOKUP((DATE(年間!$C$1,11,1)-WEEKDAY(DATE(年間!$C$1,11,1))+24),祝日!$A$2:$B$75,2,FALSE),""),"") -> 勤労感謝の日 | D10: =IF(MONTH((DATE(年間!$C$1,11,1)-WEEKDAY(DATE(年間!$C$1,11,1))+25))=11,IFERROR(VLOOKUP((DATE(年間!$C$1,11,1)-WEEKDAY(DATE(年間!$C$1,11,1))+25),祝日!$A$2:$B$75,2,FALSE),""),"") | E10: =IF(MONTH((DATE(年間!$C$1,11,1)-WEEKDAY(DATE(年間!$C$1,11,1))+26))=11,IFERROR(VLOOKUP((DATE(年間!$C$1,11,1)-WEEKDAY(DATE(年間!$C$1,11,1))+26),祝日!$A$2:$B$75,2,FALSE),""),"") | F10: =IF(MONTH((DATE(年間!$C$1,11,1)-WEEKDAY(DATE(年間!$C$1,11,1))+27))=11,IFERROR(VLOOKUP((DATE(年間!$C$1,11,1)-WEEKDAY(DATE(年間!$C$1,11,1))+27),祝日!$A$2:$B$75,2,FALSE),""),"") | G10: =IF(MONTH((DATE(年間!$C$1,11,1)-WEEKDAY(DATE(年間!$C$1,11,1))+28))=11,IFERROR(VLOOKUP((DATE(年間!$C$1,11,1)-WEEKDAY(DATE(年間!$C$1,11,1))+28),祝日!$A$2:$B$75,2,FALSE),""),"")
A11: =IF(MONTH((DATE(年間!$C$1,11,1)-WEEKDAY(DATE(年間!$C$1,11,1))+29))=11,DAY((DATE(年間!$C$1,11,1)-WEEKDAY(DATE(年間!$C$1,11,1))+29)),"") -> 28 | B11: =IF(MONTH((DATE(年間!$C$1,11,1)-WEEKDAY(DATE(年間!$C$1,11,1))+30))=11,DAY((DATE(年間!$C$1,11,1)-WEEKDAY(DATE(年間!$C$1,11,1))+30)),"") -> 29 | C11: =IF(MONTH((DATE(年間!$C$1,11,1)-WEEKDAY(DATE(年間!$C$1,11,1))+31))=11,DAY((DATE(年間!$C$1,11,1)-WEEKDAY(DATE(年間!$C$1,11,1))+31)),"") -> 30 | D11: =IF(MONTH((DATE(年間!$C$1,11,1)-WEEKDAY(DATE(年間!$C$1,11,1))+32))=11,DAY((DATE(年間!$C$1,11,1)-WEEKDAY(DATE(年間!$C$1,11,1))+32)),"") | E11: =IF(MONTH((DATE(年間!$C$1,11,1)-WEEKDAY(DATE(年間!$C$1,11,1))+33))=11,DAY((DATE(年間!$C$1,11,1)-WEEKDAY(DATE(年間!$C$1,11,1))+33)),"") | F11: =IF(MONTH((DATE(年間!$C$1,11,1)-WEEKDAY(DATE(年間!$C$1,11,1))+34))=11,DAY((DATE(年間!$C$1,11,1)-WEEKDAY(DATE(年間!$C$1,11,1))+34)),"") | G11: =IF(MONTH((DATE(年間!$C$1,11,1)-WEEKDAY(DATE(年間!$C$1,11,1))+35))=11,DAY((DATE(年間!$C$1,11,1)-WEEKDAY(DATE(年間!$C$1,11,1))+35)),"")
A12: =IF(MONTH((DATE(年間!$C$1,11,1)-WEEKDAY(DATE(年間!$C$1,11,1))+29))=11,IFERROR(VLOOKUP((DATE(年間!$C$1,11,1)-WEEKDAY(DATE(年間!$C$1,11,1))+29),祝日!$A$2:$B$75,2,FALSE),""),"") | B12: =IF(MONTH((DATE(年間!$C$1,11,1)-WEEKDAY(DATE(年間!$C$1,11,1))+30))=11,IFERROR(VLOOKUP((DATE(年間!$C$1,11,1)-WEEKDAY(DATE(年間!$C$1,11,1))+30),祝日!$A$2:$B$75,2,FALSE),""),"") | C12: =IF(MONTH((DATE(年間!$C$1,11,1)-WEEKDAY(DATE(年間!$C$1,11,1))+31))=11,IFERROR(VLOOKUP((DATE(年間!$C$1,11,1)-WEEKDAY(DATE(年間!$C$1,11,1))+31),祝日!$A$2:$B$75,2,FALSE),""),"") | D12: =IF(MONTH((DATE(年間!$C$1,11,1)-WEEKDAY(DATE(年間!$C$1,11,1))+32))=11,IFERROR(VLOOKUP((DATE(年間!$C$1,11,1)-WEEKDAY(DATE(年間!$C$1,11,1))+32),祝日!$A$2:$B$75,2,FALSE),""),"") | E12: =IF(MONTH((DATE(年間!$C$1,11,1)-WEEKDAY(DATE(年間!$C$1,11,1))+33))=11,IFERROR(VLOOKUP((DATE(年間!$C$1,11,1)-WEEKDAY(DATE(年間!$C$1,11,1))+33),祝日!$A$2:$B$75,2,FALSE),""),"") | F12: =IF(MONTH((DATE(年間!$C$1,11,1)-WEEKDAY(DATE(年間!$C$1,11,1))+34))=11,IFERROR(VLOOKUP((DATE(年間!$C$1,11,1)-WEEKDAY(DATE(年間!$C$1,11,1))+34),祝日!$A$2:$B$75,2,FALSE),""),"") | G12: =IF(MONTH((DATE(年間!$C$1,11,1)-WEEKDAY(DATE(年間!$C$1,11,1))+35))=11,IFERROR(VLOOKUP((DATE(年間!$C$1,11,1)-WEEKDAY(DATE(年間!$C$1,11,1))+35),祝日!$A$2:$B$75,2,FALSE),""),"")
