Workbook

Sheet 年間まとめ
B1: 年間まとめ
C3: 1月 | D3: 2月 | E3: 3月 | F3: 4月 | G3: 5月 | H3: 6月 | I3: 7月 | J3: 8月 | K3: 9月 | L3: 10月 | M3: 11月 | N3: 12月 | O3: 年間合計
B4: 収入合計 | C4: ='1月'!H6 | D4: ='2月'!H6 | E4: ='3月'!H6 | F4: ='4月'!H6 | G4: ='5月'!H6 | H4: ='6月'!H6 | I4: ='7月'!H6 | J4: ='8月'!H6 | K4: ='9月'!H6 | L4: ='10月'!H6 | M4: ='11月'!H6 | N4: ='12月'!H6 | O4: =SUM(C4:N4)
B5: =費目!A2 | C5: ='1月'!H9 | D5: ='2月'!H9 | E5: ='3月'!H9 | F5: ='4月'!H9 | G5: ='5月'!H9 | H5: ='6月'!H9 | I5: ='7月'!H9 | J5: ='8月'!H9 | K5: ='9月'!H9 | L5: ='10月'!H9 | M5: ='11月'!H9 | N5: ='12月'!H9 | O5: =SUM(C5:N5)
B6: =費目!A3 | C6: ='1月'!H10 | D6: ='2月'!H10 | E6: ='3月'!H10 | F6: ='4月'!H10 | G6: ='5月'!H10 | H6: ='6月'!H10 | I6: ='7月'!H10 | J6: ='8月'!H10 | K6: ='9月'!H10 | L6: ='10月'!H10 | M6: ='11月'!H10 | N6: ='12月'!H10 | O6: =SUM(C6:N6)
B7: =費目!A4 | C7: ='1月'!H11 | D7: ='2月'!H11 | E7: ='3月'!H11 | F7: ='4月'!H11 | G7: ='5月'!H11 | H7: ='6月'!H11 | I7: ='7月'!H11 | J7: ='8月'!H11 | K7: ='9月'!H11 | L7: ='10月'!H11 | M7: ='11月'!H11 | N7: ='12月'!H11 | O7: =SUM(C7:N7)
B8: =費目!A5 | C8: ='1月'!H12 | D8: ='2月'!H12 | E8: ='3月'!H12 | F8: ='4月'!H12 | G8: ='5月'!H12 | H8: ='6月'!H12 | I8: ='7月'!H12 | J8: ='8月'!H12 | K8: ='9月'!H12 | L8: ='10月'!H12 | M8: ='11月'!H12 | N8: ='12月'!H12 | O8: =SUM(C8:N8)
B9: =費目!A6 | C9: ='1月'!H13 | D9: ='2月'!H13 | E9: ='3月'!H13 | F9: ='4月'!H13 | G9: ='5月'!H13 | H9: ='6月'!H13 | I9: ='7月'!H13 | J9: ='8月'!H13 | K9: ='9月'!H13 | L9: ='10月'!H13 | M9: ='11月'!H13 | N9: ='12月'!H13 | O9: =SUM(C9:N9)
B10: =費目!A7 | C10: ='1月'!H14 | D10: ='2月'!H14 | E10: ='3月'!H14 | F10: ='4月'!H14 | G10: ='5月'!H14 | H10: ='6月'!H14 | I10: ='7月'!H14 | J10: ='8月'!H14 | K10: ='9月'!H14 | L10: ='10月'!H14 | M10: ='11月'!H14 | N10: ='12月'!H14 | O10: =SUM(C10:N10)
B11: =費目!A8 | C11: ='1月'!H15 | D11: ='2月'!H15 | E11: ='3月'!H15 | F11: ='4月'!H15 | G11: ='5月'!H15 | H11: ='6月'!H15 | I11: ='7月'!H15 | J11: ='8月'!H15 | K11: ='9月'!H15 | L11: ='10月'!H15 | M11: ='11月'!H15 | N11: ='12月'!H15 | O11: =SUM(C11:N11)
B12: =費目!A9 | C12: ='1月'!H16 | D12: ='2月'!H16 | E12: ='3月'!H16 | F12: ='4月'!H16 | G12: ='5月'!H16 | H12: ='6月'!H16 | I12: ='7月'!H16 | J12: ='8月'!H16 | K12: ='9月'!H16 | L12: ='10月'!H16 | M12: ='11月'!H16 | N12: ='12月'!H16 | O12: =SUM(C12:N12)
B13: =費目!A10 | C13: ='1月'!H17 | D13: ='2月'!H17 | E13: ='3月'!H17 | F13: ='4月'!H17 | G13: ='5月'!H17 | H13: ='6月'!H17 | I13: ='7月'!H17 | J13: ='8月'!H17 | K13: ='9月'!H17 | L13: ='10月'!H17 | M13: ='11月'!H17 | N13: ='12月'!H17 | O13: =SUM(C13:N13)
B14: =費目!A11 | C14: ='1月'!H18 | D14: ='2月'!H18 | E14: ='3月'!H18 | F14: ='4月'!H18 | G14: ='5月'!H18 | H14: ='6月'!H18 | I14: ='7月'!H18 | J14: ='8月'!H18 | K14: ='9月'!H18 | L14: ='10月'!H18 | M14: ='11月'!H18 | N14: ='12月'!H18 | O14: =SUM(C14:N14)
B15: =費目!A12 | C15: ='1月'!H19 | D15: ='2月'!H19 | E15: ='3月'!H19 | F15: ='4月'!H19 | G15: ='5月'!H19 | H15: ='6月'!H19 | I15: ='7月'!H19 | J15: ='8月'!H19 | K15: ='9月'!H19 | L15: ='10月'!H19 | M15: ='11月'!H19 | N15: ='12月'!H19 | O15: =SUM(C15:N15)
B16: =費目!A13 | C16: ='1月'!H20 | D16: ='2月'!H20 | E16: ='3月'!H20 | F16: ='4月'!H20 | G16: ='5月'!H20 | H16: ='6月'!H20 | I16: ='7月'!H20 | J16: ='8月'!H20 | K16: ='9月'!H20 | L16: ='10月'!H20 | M16: ='11月'!H20 | N16: ='12月'!H20 | O16: =SUM(C16:N16)
B17: =費目!A14 | C17: ='1月'!H21 | D17: ='2月'!H21 | E17: ='3月'!H21 | F17: ='4月'!H21 | G17: ='5月'!H21 | H17: ='6月'!H21 | I17: ='7月'!H21 | J17: ='8月'!H21 | K17: ='9月'!H21 | L17: ='10月'!H21 | M17: ='11月'!H21 | N17: ='12月'!H21 | O17: =SUM(C17:N17)
B18: 支出合計 | C18: ='1月'!H22 | D18: ='2月'!H22 | E18: ='3月'!H22 | F18: ='4月'!H22 | G18: ='5月'!H22 | H18: ='6月'!H22 | I18: ='7月'!H22 | J18: ='8月'!H22 | K18: ='9月'!H22 | L18: ='10月'!H22 | M18: ='11月'!H22 | N18: ='12月'!H22 | O18: =SUM(C18:N18)
B19: 収支 | C19: ='1月'!H24 | D19: ='2月'!H24 | E19: ='3月'!H24 | F19: ='4月'!H24 | G19: ='5月'!H24 | H19: ='6月'!H24 | I19: ='7月'!H24 | J19: ='8月'!H24 | K19: ='9月'!H24 | L19: ='10月'!H24 | M19: ='11月'!H24 | N19: ='12月'!H24 | O19: =SUM(C19:N19)

Sheet 費目
A1: 費目(自由に書き換えられます)
A2: 食費
A3: 日用品
A4: 住居費
A5: 水道光熱費
A6: 通信費
A7: 交通費
A8: 医療費
A9: 教育費
A10: 衣服・美容
A11: 交際費
A12: 趣味・娯楽
... A14: その他

Sheet 1月
B1: 1月の家計簿
G2: 収入 | H2: 金額
B3: 日付 | C3: 費目 | D3: 内容 | E3: 金額 | G3: 給料 | H3: 250000
B4: =DATE(2026,1,1) | C4: 食費 | D4: スーパー | E4: 3280 | G4: 副収入
B5: =DATE(2026,1,4) | C5: 日用品 | D5: ドラッグストア | E5: 1540 | G5: その他
B6: =DATE(2026,1,7) | C6: 住居費 | D6: 家賃 | E6: 70000 | G6: 収入合計 | H6: =SUM(H3:H5)
B7: =DATE(2026,1,10) | C7: 水道光熱費 | D7: 電気代 | E7: 6800
B8: =DATE(2026,1,13) | C8: 通信費 | D8: スマホ | E8: 3500 | G8: 費目 | H8: 合計
B9: =DATE(2026,1,16) | C9: 食費 | D9: 外食 | E9: 2400 | G9: =費目!A2 | H9: =SUMIF($C$4:$C$63,G9,$E$4:$E$63)
G10: =費目!A3 | H10: =SUMIF($C$4:$C$63,G10,$E$4:$E$63)
G11: =費目!A4 | H11: =SUMIF($C$4:$C$63,G11,$E$4:$E$63)
G12: =費目!A5 | H12: =SUMIF($C$4:$C$63,G12,$E$4:$E$63)
G13: =費目!A6 | H13: =SUMIF($C$4:$C$63,G13,$E$4:$E$63)
G14: =費目!A7 | H14: =SUMIF($C$4:$C$63,G14,$E$4:$E$63)
G15: =費目!A8 | H15: =SUMIF($C$4:$C$63,G15,$E$4:$E$63)
G16: =費目!A9 | H16: =SUMIF($C$4:$C$63,G16,$E$4:$E$63)
G17: =費目!A10 | H17: =SUMIF($C$4:$C$63,G17,$E$4:$E$63)
G18: =費目!A11 | H18: =SUMIF($C$4:$C$63,G18,$E$4:$E$63)
G19: =費目!A12 | H19: =SUMIF($C$4:$C$63,G19,$E$4:$E$63)
G20: =費目!A13 | H20: =SUMIF($C$4:$C$63,G20,$E$4:$E$63)
G21: =費目!A14 | H21: =SUMIF($C$4:$C$63,G21,$E$4:$E$63)
G22: 支出合計 | H22: =SUM(E4:E63)
G24: 収支(収入-支出) | H24: =H6-H22

Sheet 2月
B1: 2月の家計簿
G2: 収入 | H2: 金額
B3: 日付 | C3: 費目 | D3: 内容 | E3: 金額 | G3: 給料
G4: 副収入
G5: その他
G6: 収入合計 | H6: =SUM(H3:H5)
G8: 費目 | H8: 合計
G9: =費目!A2 | H9: =SUMIF($C$4:$C$63,G9,$E$4:$E$63)
G10: =費目!A3 | H10: =SUMIF($C$4:$C$63,G10,$E$4:$E$63)
G11: =費目!A4 | H11: =SUMIF($C$4:$C$63,G11,$E$4:$E$63)
G12: =費目!A5 | H12: =SUMIF($C$4:$C$63,G12,$E$4:$E$63)
G13: =費目!A6 | H13: =SUMIF($C$4:$C$63,G13,$E$4:$E$63)
G14: =費目!A7 | H14: =SUMIF($C$4:$C$63,G14,$E$4:$E$63)
G15: =費目!A8 | H15: =SUMIF($C$4:$C$63,G15,$E$4:$E$63)
G16: =費目!A9 | H16: =SUMIF($C$4:$C$63,G16,$E$4:$E$63)
G17: =費目!A10 | H17: =SUMIF($C$4:$C$63,G17,$E$4:$E$63)
G18: =費目!A11 | H18: =SUMIF($C$4:$C$63,G18,$E$4:$E$63)
G19: =費目!A12 | H19: =SUMIF($C$4:$C$63,G19,$E$4:$E$63)
G20: =費目!A13 | H20: =SUMIF($C$4:$C$63,G20,$E$4:$E$63)
G21: =費目!A14 | H21: =SUMIF($C$4:$C$63,G21,$E$4:$E$63)
G22: 支出合計 | H22: =SUM(E4:E63)
G24: 収支(収入-支出) | H24: =H6-H22

Sheet 3月
B1: 3月の家計簿
G2: 収入 | H2: 金額
B3: 日付 | C3: 費目 | D3: 内容 | E3: 金額 | G3: 給料
G4: 副収入
G5: その他
G6: 収入合計 | H6: =SUM(H3:H5)
G8: 費目 | H8: 合計
G9: =費目!A2 | H9: =SUMIF($C$4:$C$63,G9,$E$4:$E$63)
G10: =費目!A3 | H10: =SUMIF($C$4:$C$63,G10,$E$4:$E$63)
G11: =費目!A4 | H11: =SUMIF($C$4:$C$63,G11,$E$4:$E$63)
G12: =費目!A5 | H12: =SUMIF($C$4:$C$63,G12,$E$4:$E$63)
G13: =費目!A6 | H13: =SUMIF($C$4:$C$63,G13,$E$4:$E$63)
G14: =費目!A7 | H14: =SUMIF($C$4:$C$63,G14,$E$4:$E$63)
G15: =費目!A8 | H15: =SUMIF($C$4:$C$63,G15,$E$4:$E$63)
G16: =費目!A9 | H16: =SUMIF($C$4:$C$63,G16,$E$4:$E$63)
G17: =費目!A10 | H17: =SUMIF($C$4:$C$63,G17,$E$4:$E$63)
G18: =費目!A11 | H18: =SUMIF($C$4:$C$63,G18,$E$4:$E$63)
G19: =費目!A12 | H19: =SUMIF($C$4:$C$63,G19,$E$4:$E$63)
G20: =費目!A13 | H20: =SUMIF($C$4:$C$63,G20,$E$4:$E$63)
G21: =費目!A14 | H21: =SUMIF($C$4:$C$63,G21,$E$4:$E$63)
G22: 支出合計 | H22: =SUM(E4:E63)
G24: 収支(収入-支出) | H24: =H6-H22

Sheet 4月
B1: 4月の家計簿
G2: 収入 | H2: 金額
B3: 日付 | C3: 費目 | D3: 内容 | E3: 金額 | G3: 給料
G4: 副収入
G5: その他
G6: 収入合計 | H6: =SUM(H3:H5)
G8: 費目 | H8: 合計
G9: =費目!A2 | H9: =SUMIF($C$4:$C$63,G9,$E$4:$E$63)
G10: =費目!A3 | H10: =SUMIF($C$4:$C$63,G10,$E$4:$E$63)
G11: =費目!A4 | H11: =SUMIF($C$4:$C$63,G11,$E$4:$E$63)
G12: =費目!A5 | H12: =SUMIF($C$4:$C$63,G12,$E$4:$E$63)
G13: =費目!A6 | H13: =SUMIF($C$4:$C$63,G13,$E$4:$E$63)
G14: =費目!A7 | H14: =SUMIF($C$4:$C$63,G14,$E$4:$E$63)
G15: =費目!A8 | H15: =SUMIF($C$4:$C$63,G15,$E$4:$E$63)
G16: =費目!A9 | H16: =SUMIF($C$4:$C$63,G16,$E$4:$E$63)
G17: =費目!A10 | H17: =SUMIF($C$4:$C$63,G17,$E$4:$E$63)
G18: =費目!A11 | H18: =SUMIF($C$4:$C$63,G18,$E$4:$E$63)
G19: =費目!A12 | H19: =SUMIF($C$4:$C$63,G19,$E$4:$E$63)
G20: =費目!A13 | H20: =SUMIF($C$4:$C$63,G20,$E$4:$E$63)
G21: =費目!A14 | H21: =SUMIF($C$4:$C$63,G21,$E$4:$E$63)
G22: 支出合計 | H22: =SUM(E4:E63)
G24: 収支(収入-支出) | H24: =H6-H22

Sheet 5月
B1: 5月の家計簿
G2: 収入 | H2: 金額
B3: 日付 | C3: 費目 | D3: 内容 | E3: 金額 | G3: 給料
G4: 副収入
G5: その他
G6: 収入合計 | H6: =SUM(H3:H5)
G8: 費目 | H8: 合計
G9: =費目!A2 | H9: =SUMIF($C$4:$C$63,G9,$E$4:$E$63)
G10: =費目!A3 | H10: =SUMIF($C$4:$C$63,G10,$E$4:$E$63)
G11: =費目!A4 | H11: =SUMIF($C$4:$C$63,G11,$E$4:$E$63)
G12: =費目!A5 | H12: =SUMIF($C$4:$C$63,G12,$E$4:$E$63)
G13: =費目!A6 | H13: =SUMIF($C$4:$C$63,G13,$E$4:$E$63)
G14: =費目!A7 | H14: =SUMIF($C$4:$C$63,G14,$E$4:$E$63)
G15: =費目!A8 | H15: =SUMIF($C$4:$C$63,G15,$E$4:$E$63)
G16: =費目!A9 | H16: =SUMIF($C$4:$C$63,G16,$E$4:$E$63)
G17: =費目!A10 | H17: =SUMIF($C$4:$C$63,G17,$E$4:$E$63)
G18: =費目!A11 | H18: =SUMIF($C$4:$C$63,G18,$E$4:$E$63)
G19: =費目!A12 | H19: =SUMIF($C$4:$C$63,G19,$E$4:$E$63)
G20: =費目!A13 | H20: =SUMIF($C$4:$C$63,G20,$E$4:$E$63)
G21: =費目!A14 | H21: =SUMIF($C$4:$C$63,G21,$E$4:$E$63)
G22: 支出合計 | H22: =SUM(E4:E63)
G24: 収支(収入-支出) | H24: =H6-H22

Sheet 6月
B1: 6月の家計簿
G2: 収入 | H2: 金額
B3: 日付 | C3: 費目 | D3: 内容 | E3: 金額 | G3: 給料
G4: 副収入
G5: その他
G6: 収入合計 | H6: =SUM(H3:H5)
G8: 費目 | H8: 合計
G9: =費目!A2 | H9: =SUMIF($C$4:$C$63,G9,$E$4:$E$63)
G10: =費目!A3 | H10: =SUMIF($C$4:$C$63,G10,$E$4:$E$63)
G11: =費目!A4 | H11: =SUMIF($C$4:$C$63,G11,$E$4:$E$63)
G12: =費目!A5 | H12: =SUMIF($C$4:$C$63,G12,$E$4:$E$63)
G13: =費目!A6 | H13: =SUMIF($C$4:$C$63,G13,$E$4:$E$63)
G14: =費目!A7 | H14: =SUMIF($C$4:$C$63,G14,$E$4:$E$63)
G15: =費目!A8 | H15: =SUMIF($C$4:$C$63,G15,$E$4:$E$63)
G16: =費目!A9 | H16: =SUMIF($C$4:$C$63,G16,$E$4:$E$63)
G17: =費目!A10 | H17: =SUMIF($C$4:$C$63,G17,$E$4:$E$63)
G18: =費目!A11 | H18: =SUMIF($C$4:$C$63,G18,$E$4:$E$63)
G19: =費目!A12 | H19: =SUMIF($C$4:$C$63,G19,$E$4:$E$63)
G20: =費目!A13 | H20: =SUMIF($C$4:$C$63,G20,$E$4:$E$63)
G21: =費目!A14 | H21: =SUMIF($C$4:$C$63,G21,$E$4:$E$63)
G22: 支出合計 | H22: =SUM(E4:E63)
G24: 収支(収入-支出) | H24: =H6-H22

Sheet 7月
B1: 7月の家計簿
G2: 収入 | H2: 金額
B3: 日付 | C3: 費目 | D3: 内容 | E3: 金額 | G3: 給料
G4: 副収入
G5: その他
G6: 収入合計 | H6: =SUM(H3:H5)
G8: 費目 | H8: 合計
G9: =費目!A2 | H9: =SUMIF($C$4:$C$63,G9,$E$4:$E$63)
G10: =費目!A3 | H10: =SUMIF($C$4:$C$63,G10,$E$4:$E$63)
G11: =費目!A4 | H11: =SUMIF($C$4:$C$63,G11,$E$4:$E$63)
G12: =費目!A5 | H12: =SUMIF($C$4:$C$63,G12,$E$4:$E$63)
G13: =費目!A6 | H13: =SUMIF($C$4:$C$63,G13,$E$4:$E$63)
G14: =費目!A7 | H14: =SUMIF($C$4:$C$63,G14,$E$4:$E$63)
G15: =費目!A8 | H15: =SUMIF($C$4:$C$63,G15,$E$4:$E$63)
G16: =費目!A9 | H16: =SUMIF($C$4:$C$63,G16,$E$4:$E$63)
G17: =費目!A10 | H17: =SUMIF($C$4:$C$63,G17,$E$4:$E$63)
G18: =費目!A11 | H18: =SUMIF($C$4:$C$63,G18,$E$4:$E$63)
G19: =費目!A12 | H19: =SUMIF($C$4:$C$63,G19,$E$4:$E$63)
G20: =費目!A13 | H20: =SUMIF($C$4:$C$63,G20,$E$4:$E$63)
G21: =費目!A14 | H21: =SUMIF($C$4:$C$63,G21,$E$4:$E$63)
G22: 支出合計 | H22: =SUM(E4:E63)
G24: 収支(収入-支出) | H24: =H6-H22

Sheet 8月
B1: 8月の家計簿
G2: 収入 | H2: 金額
B3: 日付 | C3: 費目 | D3: 内容 | E3: 金額 | G3: 給料
G4: 副収入
G5: その他
G6: 収入合計 | H6: =SUM(H3:H5)
G8: 費目 | H8: 合計
G9: =費目!A2 | H9: =SUMIF($C$4:$C$63,G9,$E$4:$E$63)
G10: =費目!A3 | H10: =SUMIF($C$4:$C$63,G10,$E$4:$E$63)
G11: =費目!A4 | H11: =SUMIF($C$4:$C$63,G11,$E$4:$E$63)
G12: =費目!A5 | H12: =SUMIF($C$4:$C$63,G12,$E$4:$E$63)
G13: =費目!A6 | H13: =SUMIF($C$4:$C$63,G13,$E$4:$E$63)
G14: =費目!A7 | H14: =SUMIF($C$4:$C$63,G14,$E$4:$E$63)
G15: =費目!A8 | H15: =SUMIF($C$4:$C$63,G15,$E$4:$E$63)
G16: =費目!A9 | H16: =SUMIF($C$4:$C$63,G16,$E$4:$E$63)
G17: =費目!A10 | H17: =SUMIF($C$4:$C$63,G17,$E$4:$E$63)
G18: =費目!A11 | H18: =SUMIF($C$4:$C$63,G18,$E$4:$E$63)
G19: =費目!A12 | H19: =SUMIF($C$4:$C$63,G19,$E$4:$E$63)
G20: =費目!A13 | H20: =SUMIF($C$4:$C$63,G20,$E$4:$E$63)
G21: =費目!A14 | H21: =SUMIF($C$4:$C$63,G21,$E$4:$E$63)
G22: 支出合計 | H22: =SUM(E4:E63)
G24: 収支(収入-支出) | H24: =H6-H22

Sheet 9月
B1: 9月の家計簿
G2: 収入 | H2: 金額
B3: 日付 | C3: 費目 | D3: 内容 | E3: 金額 | G3: 給料
G4: 副収入
G5: その他
G6: 収入合計 | H6: =SUM(H3:H5)
G8: 費目 | H8: 合計
G9: =費目!A2 | H9: =SUMIF($C$4:$C$63,G9,$E$4:$E$63)
G10: =費目!A3 | H10: =SUMIF($C$4:$C$63,G10,$E$4:$E$63)
G11: =費目!A4 | H11: =SUMIF($C$4:$C$63,G11,$E$4:$E$63)
G12: =費目!A5 | H12: =SUMIF($C$4:$C$63,G12,$E$4:$E$63)
G13: =費目!A6 | H13: =SUMIF($C$4:$C$63,G13,$E$4:$E$63)
G14: =費目!A7 | H14: =SUMIF($C$4:$C$63,G14,$E$4:$E$63)
G15: =費目!A8 | H15: =SUMIF($C$4:$C$63,G15,$E$4:$E$63)
G16: =費目!A9 | H16: =SUMIF($C$4:$C$63,G16,$E$4:$E$63)
G17: =費目!A10 | H17: =SUMIF($C$4:$C$63,G17,$E$4:$E$63)
G18: =費目!A11 | H18: =SUMIF($C$4:$C$63,G18,$E$4:$E$63)
G19: =費目!A12 | H19: =SUMIF($C$4:$C$63,G19,$E$4:$E$63)
G20: =費目!A13 | H20: =SUMIF($C$4:$C$63,G20,$E$4:$E$63)
G21: =費目!A14 | H21: =SUMIF($C$4:$C$63,G21,$E$4:$E$63)
G22: 支出合計 | H22: =SUM(E4:E63)
G24: 収支(収入-支出) | H24: =H6-H22

Sheet 10月
B1: 10月の家計簿
G2: 収入 | H2: 金額
B3: 日付 | C3: 費目 | D3: 内容 | E3: 金額 | G3: 給料
G4: 副収入
G5: その他
G6: 収入合計 | H6: =SUM(H3:H5)
G8: 費目 | H8: 合計
G9: =費目!A2 | H9: =SUMIF($C$4:$C$63,G9,$E$4:$E$63)
G10: =費目!A3 | H10: =SUMIF($C$4:$C$63,G10,$E$4:$E$63)
G11: =費目!A4 | H11: =SUMIF($C$4:$C$63,G11,$E$4:$E$63)
G12: =費目!A5 | H12: =SUMIF($C$4:$C$63,G12,$E$4:$E$63)
G13: =費目!A6 | H13: =SUMIF($C$4:$C$63,G13,$E$4:$E$63)
G14: =費目!A7 | H14: =SUMIF($C$4:$C$63,G14,$E$4:$E$63)
G15: =費目!A8 | H15: =SUMIF($C$4:$C$63,G15,$E$4:$E$63)
G16: =費目!A9 | H16: =SUMIF($C$4:$C$63,G16,$E$4:$E$63)
G17: =費目!A10 | H17: =SUMIF($C$4:$C$63,G17,$E$4:$E$63)
G18: =費目!A11 | H18: =SUMIF($C$4:$C$63,G18,$E$4:$E$63)
G19: =費目!A12 | H19: =SUMIF($C$4:$C$63,G19,$E$4:$E$63)
G20: =費目!A13 | H20: =SUMIF($C$4:$C$63,G20,$E$4:$E$63)
G21: =費目!A14 | H21: =SUMIF($C$4:$C$63,G21,$E$4:$E$63)
G22: 支出合計 | H22: =SUM(E4:E63)
G24: 収支(収入-支出) | H24: =H6-H22

Sheet 11月
B1: 11月の家計簿
G2: 収入 | H2: 金額
B3: 日付 | C3: 費目 | D3: 内容 | E3: 金額 | G3: 給料
G4: 副収入
G5: その他
G6: 収入合計 | H6: =SUM(H3:H5)
G8: 費目 | H8: 合計
G9: =費目!A2 | H9: =SUMIF($C$4:$C$63,G9,$E$4:$E$63)
G10: =費目!A3 | H10: =SUMIF($C$4:$C$63,G10,$E$4:$E$63)
G11: =費目!A4 | H11: =SUMIF($C$4:$C$63,G11,$E$4:$E$63)
G12: =費目!A5 | H12: =SUMIF($C$4:$C$63,G12,$E$4:$E$63)
G13: =費目!A6 | H13: =SUMIF($C$4:$C$63,G13,$E$4:$E$63)
G14: =費目!A7 | H14: =SUMIF($C$4:$C$63,G14,$E$4:$E$63)
G15: =費目!A8 | H15: =SUMIF($C$4:$C$63,G15,$E$4:$E$63)
G16: =費目!A9 | H16: =SUMIF($C$4:$C$63,G16,$E$4:$E$63)
G17: =費目!A10 | H17: =SUMIF($C$4:$C$63,G17,$E$4:$E$63)
G18: =費目!A11 | H18: =SUMIF($C$4:$C$63,G18,$E$4:$E$63)
G19: =費目!A12 | H19: =SUMIF($C$4:$C$63,G19,$E$4:$E$63)
G20: =費目!A13 | H20: =SUMIF($C$4:$C$63,G20,$E$4:$E$63)
G21: =費目!A14 | H21: =SUMIF($C$4:$C$63,G21,$E$4:$E$63)
G22: 支出合計 | H22: =SUM(E4:E63)
G24: 収支(収入-支出) | H24: =H6-H22

Sheet 12月
B1: 12月の家計簿
G2: 収入 | H2: 金額
B3: 日付 | C3: 費目 | D3: 内容 | E3: 金額 | G3: 給料
G4: 副収入
G5: その他
G6: 収入合計 | H6: =SUM(H3:H5)
G8: 費目 | H8: 合計
G9: =費目!A2 | H9: =SUMIF($C$4:$C$63,G9,$E$4:$E$63)
G10: =費目!A3 | H10: =SUMIF($C$4:$C$63,G10,$E$4:$E$63)
G11: =費目!A4 | H11: =SUMIF($C$4:$C$63,G11,$E$4:$E$63)
G12: =費目!A5 | H12: =SUMIF($C$4:$C$63,G12,$E$4:$E$63)
G13: =費目!A6 | H13: =SUMIF($C$4:$C$63,G13,$E$4:$E$63)
G14: =費目!A7 | H14: =SUMIF($C$4:$C$63,G14,$E$4:$E$63)
G15: =費目!A8 | H15: =SUMIF($C$4:$C$63,G15,$E$4:$E$63)
G16: =費目!A9 | H16: =SUMIF($C$4:$C$63,G16,$E$4:$E$63)
G17: =費目!A10 | H17: =SUMIF($C$4:$C$63,G17,$E$4:$E$63)
G18: =費目!A11 | H18: =SUMIF($C$4:$C$63,G18,$E$4:$E$63)
G19: =費目!A12 | H19: =SUMIF($C$4:$C$63,G19,$E$4:$E$63)
G20: =費目!A13 | H20: =SUMIF($C$4:$C$63,G20,$E$4:$E$63)
G21: =費目!A14 | H21: =SUMIF($C$4:$C$63,G21,$E$4:$E$63)
G22: 支出合計 | H22: =SUM(E4:E63)
G24: 収支(収入-支出) | H24: =H6-H22
