Workbook

Sheet 契約書管理台帳
A1: 契約書管理台帳
A2: 終了日・自動更新・通知(何か月前までに申し出るか)を入れると、更新しない場合の通知の期限・残り日数・状態を自動で表示します。
A3: 状態: 終了まで90日以内=期限間近(オレンジ)、自動更新ありで終了日を過ぎた=更新確認(赤。終了日を次の期間に書き換える)、終了=灰色。
A4: No. | B4: 契約書名 | C4: 相手方 | D4: 種類 | E4: 担当部署 | F4: 契約日 | G4: 開始日 | H4: 終了日 | I4: 自動 更新 | J4: 通知 (月前) | K4: 更新しない 通知の期限 | L4: 残り 日数 | M4: 状態 | N4: 契約金額 | O4: 原本の保管場所 | P4: 備考
A5: 1 | B5: 事務所賃貸借契約書 | C5: ○○不動産株式会社 | D5: 賃貸借 | E5: 総務 | F5: 45765 | G5: 45778 | H5: 46507 | I5: 有 | J5: 6 | K5: =IF(OR(H5="",I5<>"有",N(J5)=0),"",EDATE(H5,-J5)) | L5: =IF(H5="","",H5-TODAY()) | M5: =IF(H5="","",IF(H5<TODAY(),IF(I5="有","更新確認","終了"),IF(H5-TODAY()<=90,"期限間近","契約中"))) | O5: 金庫A | P5: 賃料 月18万円・2年ごと更新
A6: 2 | B6: 業務委託契約書(Web保守) | C6: 株式会社△△システム | D6: 業務委託 | E6: 情報システム | F6: 46106 | G6: 46113 | H6: 46477 | I6: 有 | J6: 1 | K6: =IF(OR(H6="",I6<>"有",N(J6)=0),"",EDATE(H6,-J6)) | L6: =IF(H6="","",H6-TODAY()) | M6: =IF(H6="","",IF(H6<TODAY(),IF(I6="有","更新確認","終了"),IF(H6-TODAY()<=90,"期限間近","契約中"))) | N6: 600000 | O6: 金庫A | P6: 月額50,000円
A7: 3 | B7: 秘密保持契約書 | C7: □□工業株式会社 | D7: 秘密保持 | E7: 営業 | F7: 45971 | G7: 45971 | H7: 46356 | I7: 無 | K7: =IF(OR(H7="",I7<>"有",N(J7)=0),"",EDATE(H7,-J7)) | L7: =IF(H7="","",H7-TODAY()) | M7: =IF(H7="","",IF(H7<TODAY(),IF(I7="有","更新確認","終了"),IF(H7-TODAY()<=90,"期限間近","契約中"))) | O7: キャビネット2
A8: 4 | B8: 複合機リース契約書 | C8: ◇◇リース株式会社 | D8: リース | E8: 総務 | F8: 44531 | G8: 44531 | H8: 46356 | I8: 無 | K8: =IF(OR(H8="",I8<>"有",N(J8)=0),"",EDATE(H8,-J8)) | L8: =IF(H8="","",H8-TODAY()) | M8: =IF(H8="","",IF(H8<TODAY(),IF(I8="有","更新確認","終了"),IF(H8-TODAY()<=90,"期限間近","契約中"))) | N8: 1050000 | O8: 金庫A | P8: 再リースか入れ替えを検討
A9: 5 | B9: 商品売買基本契約書 | C9: 株式会社○○商事 | D9: 売買 | E9: 営業 | F9: 45550 | G9: 45566 | H9: 45930 | I9: 有 | J9: 3 | K9: =IF(OR(H9="",I9<>"有",N(J9)=0),"",EDATE(H9,-J9)) | L9: =IF(H9="","",H9-TODAY()) | M9: =IF(H9="","",IF(H9<TODAY(),IF(I9="有","更新確認","終了"),IF(H9-TODAY()<=90,"期限間近","契約中"))) | O9: キャビネット2 | P9: 1年ごとの自動更新
A10: 6 | B10: ソフトウェア使用許諾契約 | C10: △△ソフト株式会社 | D10: ライセンス | E10: 情報システム | F10: 45828 | G10: 45839 | H10: 46203 | I10: 無 | K10: =IF(OR(H10="",I10<>"有",N(J10)=0),"",EDATE(H10,-J10)) | L10: =IF(H10="","",H10-TODAY()) | M10: =IF(H10="","",IF(H10<TODAY(),IF(I10="有","更新確認","終了"),IF(H10-TODAY()<=90,"期限間近","契約中"))) | N10: 240000 | O10: 電子(共有フォルダ)
A11: 7 | K11: =IF(OR(H11="",I11<>"有",N(J11)=0),"",EDATE(H11,-J11)) | L11: =IF(H11="","",H11-TODAY()) | M11: =IF(H11="","",IF(H11<TODAY(),IF(I11="有","更新確認","終了"),IF(H11-TODAY()<=90,"期限間近","契約中")))
A12: 8 | K12: =IF(OR(H12="",I12<>"有",N(J12)=0),"",EDATE(H12,-J12)) | L12: =IF(H12="","",H12-TODAY()) | M12: =IF(H12="","",IF(H12<TODAY(),IF(I12="有","更新確認","終了"),IF(H12-TODAY()<=90,"期限間近","契約中")))
A13: 9 | K13: =IF(OR(H13="",I13<>"有",N(J13)=0),"",EDATE(H13,-J13)) | L13: =IF(H13="","",H13-TODAY()) | M13: =IF(H13="","",IF(H13<TODAY(),IF(I13="有","更新確認","終了"),IF(H13-TODAY()<=90,"期限間近","契約中")))
A14: 10 | K14: =IF(OR(H14="",I14<>"有",N(J14)=0),"",EDATE(H14,-J14)) | L14: =IF(H14="","",H14-TODAY()) | M14: =IF(H14="","",IF(H14<TODAY(),IF(I14="有","更新確認","終了"),IF(H14-TODAY()<=90,"期限間近","契約中")))
A15: 11 | K15: =IF(OR(H15="",I15<>"有",N(J15)=0),"",EDATE(H15,-J15)) | L15: =IF(H15="","",H15-TODAY()) | M15: =IF(H15="","",IF(H15<TODAY(),IF(I15="有","更新確認","終了"),IF(H15-TODAY()<=90,"期限間近","契約中")))
A16: 12 | K16: =IF(OR(H16="",I16<>"有",N(J16)=0),"",EDATE(H16,-J16)) | L16: =IF(H16="","",H16-TODAY()) | M16: =IF(H16="","",IF(H16<TODAY(),IF(I16="有","更新確認","終了"),IF(H16-TODAY()<=90,"期限間近","契約中")))
A17: 13 | K17: =IF(OR(H17="",I17<>"有",N(J17)=0),"",EDATE(H17,-J17)) | L17: =IF(H17="","",H17-TODAY()) | M17: =IF(H17="","",IF(H17<TODAY(),IF(I17="有","更新確認","終了"),IF(H17-TODAY()<=90,"期限間近","契約中")))
A18: 14 | K18: =IF(OR(H18="",I18<>"有",N(J18)=0),"",EDATE(H18,-J18)) | L18: =IF(H18="","",H18-TODAY()) | M18: =IF(H18="","",IF(H18<TODAY(),IF(I18="有","更新確認","終了"),IF(H18-TODAY()<=90,"期限間近","契約中")))
A19: 15 | K19: =IF(OR(H19="",I19<>"有",N(J19)=0),"",EDATE(H19,-J19)) | L19: =IF(H19="","",H19-TODAY()) | M19: =IF(H19="","",IF(H19<TODAY(),IF(I19="有","更新確認","終了"),IF(H19-TODAY()<=90,"期限間近","契約中")))
A20: 16 | K20: =IF(OR(H20="",I20<>"有",N(J20)=0),"",EDATE(H20,-J20)) | L20: =IF(H20="","",H20-TODAY()) | M20: =IF(H20="","",IF(H20<TODAY(),IF(I20="有","更新確認","終了"),IF(H20-TODAY()<=90,"期限間近","契約中")))
A21: 17 | K21: =IF(OR(H21="",I21<>"有",N(J21)=0),"",EDATE(H21,-J21)) | L21: =IF(H21="","",H21-TODAY()) | M21: =IF(H21="","",IF(H21<TODAY(),IF(I21="有","更新確認","終了"),IF(H21-TODAY()<=90,"期限間近","契約中")))
A22: 18 | K22: =IF(OR(H22="",I22<>"有",N(J22)=0),"",EDATE(H22,-J22)) | L22: =IF(H22="","",H22-TODAY()) | M22: =IF(H22="","",IF(H22<TODAY(),IF(I22="有","更新確認","終了"),IF(H22-TODAY()<=90,"期限間近","契約中")))
... A54: 50 | K54: =IF(OR(H54="",I54<>"有",N(J54)=0),"",EDATE(H54,-J54)) | L54: =IF(H54="","",H54-TODAY()) | M54: =IF(H54="","",IF(H54<TODAY(),IF(I54="有","更新確認","終了"),IF(H54-TODAY()<=90,"期限間近","契約中")))

Sheet 集計
A1: 契約書の集計
A2: 契約書管理台帳から自動で集計します。
A4: 状態 | B4: 件数 | D4: 種類 | E4: 件数 | F4: 契約金額
A5: 契約中 | B5: =COUNTIF(契約書管理台帳!$M$5:$M$54,A5) | D5: 売買 | E5: =COUNTIF(契約書管理台帳!$D$5:$D$54,D5) | F5: =SUMIF(契約書管理台帳!$D$5:$D$54,D5,契約書管理台帳!$N$5:$N$54)
A6: 期限間近 | B6: =COUNTIF(契約書管理台帳!$M$5:$M$54,A6) | D6: 業務委託 | E6: =COUNTIF(契約書管理台帳!$D$5:$D$54,D6) | F6: =SUMIF(契約書管理台帳!$D$5:$D$54,D6,契約書管理台帳!$N$5:$N$54)
A7: 更新確認 | B7: =COUNTIF(契約書管理台帳!$M$5:$M$54,A7) | D7: 賃貸借 | E7: =COUNTIF(契約書管理台帳!$D$5:$D$54,D7) | F7: =SUMIF(契約書管理台帳!$D$5:$D$54,D7,契約書管理台帳!$N$5:$N$54)
A8: 終了 | B8: =COUNTIF(契約書管理台帳!$M$5:$M$54,A8) | D8: 秘密保持 | E8: =COUNTIF(契約書管理台帳!$D$5:$D$54,D8) | F8: =SUMIF(契約書管理台帳!$D$5:$D$54,D8,契約書管理台帳!$N$5:$N$54)
A9: 合計 | B9: =SUM(B5:B8) | D9: リース | E9: =COUNTIF(契約書管理台帳!$D$5:$D$54,D9) | F9: =SUMIF(契約書管理台帳!$D$5:$D$54,D9,契約書管理台帳!$N$5:$N$54)
D10: 保守 | E10: =COUNTIF(契約書管理台帳!$D$5:$D$54,D10) | F10: =SUMIF(契約書管理台帳!$D$5:$D$54,D10,契約書管理台帳!$N$5:$N$54)
D11: ライセンス | E11: =COUNTIF(契約書管理台帳!$D$5:$D$54,D11) | F11: =SUMIF(契約書管理台帳!$D$5:$D$54,D11,契約書管理台帳!$N$5:$N$54)
D12: その他 | E12: =COUNTIF(契約書管理台帳!$D$5:$D$54,D12) | F12: =SUMIF(契約書管理台帳!$D$5:$D$54,D12,契約書管理台帳!$N$5:$N$54)
D13: 合計 | E13: =SUM(E5:E12) | F13: =SUM(F5:F12)
A15: ※期限間近・更新確認の契約は、台帳で色がつきます。
