Workbook

Sheet 顧客管理表
A1: 顧客管理表
A2: 受注回数・累計売上・最後の対応日・経過日数は「履歴」シートから自動で出ます。90日以上連絡していない顧客はオレンジ、次回の連絡予定が今日までの顧客は黄色で表示します。
A4: No. | B4: 会社名・氏名 | C4: ふりがな | D4: 担当者(先方) | E4: 電話番号 | F4: メール | G4: 住所 | H4: 区分 | I4: 自社の担当 | J4: 受注回数 | K4: 累計売上 | L4: 最後の対応日 | M4: 経過日数 | N4: 次回の連絡予定 | O4: メモ
A5: 1 | B5: 株式会社○○商事 | C5: まるまるしょうじ | D5: 総務部 山田様 | E5: 03-○○○○-○○○○ | F5: yamada@example.com | G5: 東京都○○区○○1-2-3 | H5: 既存 | I5: 佐藤 | J5: =IF(B5="","",COUNTIFS(履歴!$B$5:$B$304,B5,履歴!$C$5:$C$304,"受注")) | K5: =IF(B5="","",SUMIF(履歴!$B$5:$B$304,B5,履歴!$E$5:$E$304)) | L5: =IF(OR(B5="",COUNTIF(履歴!$B$5:$B$304,B5)=0),"",SUMPRODUCT(MAX((履歴!$B$5:$B$304=B5)*履歴!$A$5:$A$304))) | M5: =IF(L5="","",TODAY()-L5) | N5: 46331 | O5: 見積の返事待ち
A6: 2 | B6: △△工業株式会社 | C6: さんかくこうぎょう | D6: 購買課 鈴木様 | E6: 06-○○○○-○○○○ | F6: suzuki@example.com | G6: 大阪府○○市○○4-5-6 | H6: 既存 | I6: 田中 | J6: =IF(B6="","",COUNTIFS(履歴!$B$5:$B$304,B6,履歴!$C$5:$C$304,"受注")) | K6: =IF(B6="","",SUMIF(履歴!$B$5:$B$304,B6,履歴!$E$5:$E$304)) | L6: =IF(OR(B6="",COUNTIF(履歴!$B$5:$B$304,B6)=0),"",SUMPRODUCT(MAX((履歴!$B$5:$B$304=B6)*履歴!$A$5:$A$304))) | M6: =IF(L6="","",TODAY()-L6)
A7: 3 | B7: □□デザイン | C7: しかくでざいん | D7: 代表 高橋様 | E7: 090-○○○○-○○○○ | F7: info@example.com | G7: 福岡県○○市○○7-8 | H7: 見込み | I7: 佐藤 | J7: =IF(B7="","",COUNTIFS(履歴!$B$5:$B$304,B7,履歴!$C$5:$C$304,"受注")) | K7: =IF(B7="","",SUMIF(履歴!$B$5:$B$304,B7,履歴!$E$5:$E$304)) | L7: =IF(OR(B7="",COUNTIF(履歴!$B$5:$B$304,B7)=0),"",SUMPRODUCT(MAX((履歴!$B$5:$B$304=B7)*履歴!$A$5:$A$304))) | M7: =IF(L7="","",TODAY()-L7) | N7: 46325 | O7: 展示会で名刺交換
A8: 4 | B8: 株式会社◇◇ | C8: ひしがた | D8: 経理部 伊藤様 | E8: 052-○○○○-○○○○ | F8: ito@example.com | G8: 愛知県○○市○○9-10 | H8: 休眠 | I8: 田中 | J8: =IF(B8="","",COUNTIFS(履歴!$B$5:$B$304,B8,履歴!$C$5:$C$304,"受注")) | K8: =IF(B8="","",SUMIF(履歴!$B$5:$B$304,B8,履歴!$E$5:$E$304)) | L8: =IF(OR(B8="",COUNTIF(履歴!$B$5:$B$304,B8)=0),"",SUMPRODUCT(MAX((履歴!$B$5:$B$304=B8)*履歴!$A$5:$A$304))) | M8: =IF(L8="","",TODAY()-L8) | O8: 前回の取引から半年
A9: 5 | J9: =IF(B9="","",COUNTIFS(履歴!$B$5:$B$304,B9,履歴!$C$5:$C$304,"受注")) | K9: =IF(B9="","",SUMIF(履歴!$B$5:$B$304,B9,履歴!$E$5:$E$304)) | L9: =IF(OR(B9="",COUNTIF(履歴!$B$5:$B$304,B9)=0),"",SUMPRODUCT(MAX((履歴!$B$5:$B$304=B9)*履歴!$A$5:$A$304))) | M9: =IF(L9="","",TODAY()-L9)
A10: 6 | J10: =IF(B10="","",COUNTIFS(履歴!$B$5:$B$304,B10,履歴!$C$5:$C$304,"受注")) | K10: =IF(B10="","",SUMIF(履歴!$B$5:$B$304,B10,履歴!$E$5:$E$304)) | L10: =IF(OR(B10="",COUNTIF(履歴!$B$5:$B$304,B10)=0),"",SUMPRODUCT(MAX((履歴!$B$5:$B$304=B10)*履歴!$A$5:$A$304))) | M10: =IF(L10="","",TODAY()-L10)
A11: 7 | J11: =IF(B11="","",COUNTIFS(履歴!$B$5:$B$304,B11,履歴!$C$5:$C$304,"受注")) | K11: =IF(B11="","",SUMIF(履歴!$B$5:$B$304,B11,履歴!$E$5:$E$304)) | L11: =IF(OR(B11="",COUNTIF(履歴!$B$5:$B$304,B11)=0),"",SUMPRODUCT(MAX((履歴!$B$5:$B$304=B11)*履歴!$A$5:$A$304))) | M11: =IF(L11="","",TODAY()-L11)
A12: 8 | J12: =IF(B12="","",COUNTIFS(履歴!$B$5:$B$304,B12,履歴!$C$5:$C$304,"受注")) | K12: =IF(B12="","",SUMIF(履歴!$B$5:$B$304,B12,履歴!$E$5:$E$304)) | L12: =IF(OR(B12="",COUNTIF(履歴!$B$5:$B$304,B12)=0),"",SUMPRODUCT(MAX((履歴!$B$5:$B$304=B12)*履歴!$A$5:$A$304))) | M12: =IF(L12="","",TODAY()-L12)
A13: 9 | J13: =IF(B13="","",COUNTIFS(履歴!$B$5:$B$304,B13,履歴!$C$5:$C$304,"受注")) | K13: =IF(B13="","",SUMIF(履歴!$B$5:$B$304,B13,履歴!$E$5:$E$304)) | L13: =IF(OR(B13="",COUNTIF(履歴!$B$5:$B$304,B13)=0),"",SUMPRODUCT(MAX((履歴!$B$5:$B$304=B13)*履歴!$A$5:$A$304))) | M13: =IF(L13="","",TODAY()-L13)
A14: 10 | J14: =IF(B14="","",COUNTIFS(履歴!$B$5:$B$304,B14,履歴!$C$5:$C$304,"受注")) | K14: =IF(B14="","",SUMIF(履歴!$B$5:$B$304,B14,履歴!$E$5:$E$304)) | L14: =IF(OR(B14="",COUNTIF(履歴!$B$5:$B$304,B14)=0),"",SUMPRODUCT(MAX((履歴!$B$5:$B$304=B14)*履歴!$A$5:$A$304))) | M14: =IF(L14="","",TODAY()-L14)
A15: 11 | J15: =IF(B15="","",COUNTIFS(履歴!$B$5:$B$304,B15,履歴!$C$5:$C$304,"受注")) | K15: =IF(B15="","",SUMIF(履歴!$B$5:$B$304,B15,履歴!$E$5:$E$304)) | L15: =IF(OR(B15="",COUNTIF(履歴!$B$5:$B$304,B15)=0),"",SUMPRODUCT(MAX((履歴!$B$5:$B$304=B15)*履歴!$A$5:$A$304))) | M15: =IF(L15="","",TODAY()-L15)
A16: 12 | J16: =IF(B16="","",COUNTIFS(履歴!$B$5:$B$304,B16,履歴!$C$5:$C$304,"受注")) | K16: =IF(B16="","",SUMIF(履歴!$B$5:$B$304,B16,履歴!$E$5:$E$304)) | L16: =IF(OR(B16="",COUNTIF(履歴!$B$5:$B$304,B16)=0),"",SUMPRODUCT(MAX((履歴!$B$5:$B$304=B16)*履歴!$A$5:$A$304))) | M16: =IF(L16="","",TODAY()-L16)
A17: 13 | J17: =IF(B17="","",COUNTIFS(履歴!$B$5:$B$304,B17,履歴!$C$5:$C$304,"受注")) | K17: =IF(B17="","",SUMIF(履歴!$B$5:$B$304,B17,履歴!$E$5:$E$304)) | L17: =IF(OR(B17="",COUNTIF(履歴!$B$5:$B$304,B17)=0),"",SUMPRODUCT(MAX((履歴!$B$5:$B$304=B17)*履歴!$A$5:$A$304))) | M17: =IF(L17="","",TODAY()-L17)
A18: 14 | J18: =IF(B18="","",COUNTIFS(履歴!$B$5:$B$304,B18,履歴!$C$5:$C$304,"受注")) | K18: =IF(B18="","",SUMIF(履歴!$B$5:$B$304,B18,履歴!$E$5:$E$304)) | L18: =IF(OR(B18="",COUNTIF(履歴!$B$5:$B$304,B18)=0),"",SUMPRODUCT(MAX((履歴!$B$5:$B$304=B18)*履歴!$A$5:$A$304))) | M18: =IF(L18="","",TODAY()-L18)
A19: 15 | J19: =IF(B19="","",COUNTIFS(履歴!$B$5:$B$304,B19,履歴!$C$5:$C$304,"受注")) | K19: =IF(B19="","",SUMIF(履歴!$B$5:$B$304,B19,履歴!$E$5:$E$304)) | L19: =IF(OR(B19="",COUNTIF(履歴!$B$5:$B$304,B19)=0),"",SUMPRODUCT(MAX((履歴!$B$5:$B$304=B19)*履歴!$A$5:$A$304))) | M19: =IF(L19="","",TODAY()-L19)
A20: 16 | J20: =IF(B20="","",COUNTIFS(履歴!$B$5:$B$304,B20,履歴!$C$5:$C$304,"受注")) | K20: =IF(B20="","",SUMIF(履歴!$B$5:$B$304,B20,履歴!$E$5:$E$304)) | L20: =IF(OR(B20="",COUNTIF(履歴!$B$5:$B$304,B20)=0),"",SUMPRODUCT(MAX((履歴!$B$5:$B$304=B20)*履歴!$A$5:$A$304))) | M20: =IF(L20="","",TODAY()-L20)
... A54: 50 | J54: =IF(B54="","",COUNTIFS(履歴!$B$5:$B$304,B54,履歴!$C$5:$C$304,"受注")) | K54: =IF(B54="","",SUMIF(履歴!$B$5:$B$304,B54,履歴!$E$5:$E$304)) | L54: =IF(OR(B54="",COUNTIF(履歴!$B$5:$B$304,B54)=0),"",SUMPRODUCT(MAX((履歴!$B$5:$B$304=B54)*履歴!$A$5:$A$304))) | M54: =IF(L54="","",TODAY()-L54)

Sheet 履歴
A1: 取引・対応履歴
A2: 取引や連絡をしたら、日付順に1行ずつ入れます。顧客は「顧客管理表」の名前から選べます。売上がない対応(電話・訪問など)は金額を空欄にします。
A4: 日付 | B4: 顧客(会社名・氏名) | C4: 種類 | D4: 内容 | E4: 売上金額 | F4: 自社の担当
A5: 46122 | B5: 株式会社◇◇ | C5: 受注 | D5: コピー用紙 50箱 | E5: 120000 | F5: 田中
A6: 46205 | B6: 株式会社○○商事 | C6: 受注 | D6: 事務机・いす 一式 | E6: 480000 | F6: 佐藤
A7: 46254 | B7: △△工業株式会社 | C7: 受注 | D7: 工具セット | E7: 86000 | F7: 田中
A8: 46280 | B8: 株式会社○○商事 | C8: 受注 | D8: 複合機の消耗品 | E8: 35000 | F8: 佐藤
A9: 46300 | B9: □□デザイン | C9: 訪問 | D9: 展示会のお礼と会社紹介 | F9: 佐藤
A10: 46313 | B10: 株式会社○○商事 | C10: 見積 | D10: 会議室の家具の見積を提出 | F10: 佐藤
