Workbook

Sheet 1か月目
A1: おこづかい帳
A3: なまえ | C3: 前の月の残り | D3: 350
A5: 日付 | B5: 内容(何に使ったか・もらったか) | C5: 入ったお金 | D5: 使ったお金 | E5: 残り
A6: 46327 | B6: 11月のおこづかい | C6: 1000 | E6: =IF(AND(B6="",C6="",D6=""),"",$D$3+N(C6)-N(D6))
A7: 46329 | B7: ノート | D7: 150 | E7: =IF(AND(B7="",C7="",D7=""),"",LOOKUP(2,1/(E$6:E6<>""),E$6:E6)+N(C7)-N(D7))
A8: 46334 | B8: おかし | D8: 120 | E8: =IF(AND(B8="",C8="",D8=""),"",LOOKUP(2,1/(E$6:E7<>""),E$6:E7)+N(C8)-N(D8))
A9: 46341 | B9: お手伝い(おふろそうじ) | C9: 100 | E9: =IF(AND(B9="",C9="",D9=""),"",LOOKUP(2,1/(E$6:E8<>""),E$6:E8)+N(C9)-N(D9))
A10: 46348 | B10: まんが | D10: 480 | E10: =IF(AND(B10="",C10="",D10=""),"",LOOKUP(2,1/(E$6:E9<>""),E$6:E9)+N(C10)-N(D10))
E11: =IF(AND(B11="",C11="",D11=""),"",LOOKUP(2,1/(E$6:E10<>""),E$6:E10)+N(C11)-N(D11))
E12: =IF(AND(B12="",C12="",D12=""),"",LOOKUP(2,1/(E$6:E11<>""),E$6:E11)+N(C12)-N(D12))
E13: =IF(AND(B13="",C13="",D13=""),"",LOOKUP(2,1/(E$6:E12<>""),E$6:E12)+N(C13)-N(D13))
E14: =IF(AND(B14="",C14="",D14=""),"",LOOKUP(2,1/(E$6:E13<>""),E$6:E13)+N(C14)-N(D14))
E15: =IF(AND(B15="",C15="",D15=""),"",LOOKUP(2,1/(E$6:E14<>""),E$6:E14)+N(C15)-N(D15))
E16: =IF(AND(B16="",C16="",D16=""),"",LOOKUP(2,1/(E$6:E15<>""),E$6:E15)+N(C16)-N(D16))
E17: =IF(AND(B17="",C17="",D17=""),"",LOOKUP(2,1/(E$6:E16<>""),E$6:E16)+N(C17)-N(D17))
E18: =IF(AND(B18="",C18="",D18=""),"",LOOKUP(2,1/(E$6:E17<>""),E$6:E17)+N(C18)-N(D18))
E19: =IF(AND(B19="",C19="",D19=""),"",LOOKUP(2,1/(E$6:E18<>""),E$6:E18)+N(C19)-N(D19))
E20: =IF(AND(B20="",C20="",D20=""),"",LOOKUP(2,1/(E$6:E19<>""),E$6:E19)+N(C20)-N(D20))
E21: =IF(AND(B21="",C21="",D21=""),"",LOOKUP(2,1/(E$6:E20<>""),E$6:E20)+N(C21)-N(D21))
E22: =IF(AND(B22="",C22="",D22=""),"",LOOKUP(2,1/(E$6:E21<>""),E$6:E21)+N(C22)-N(D22))
... E35: =IF(AND(B35="",C35="",D35=""),"",LOOKUP(2,1/(E$6:E34<>""),E$6:E34)+N(C35)-N(D35))
A36: 合計 | C36: =SUM(C6:C35) | D36: =SUM(D6:D35) | E36: =D3+C36-D36
A38: 今月のふりかえり

Sheet 2か月目
A1: おこづかい帳
A3: なまえ | C3: 前の月の残り | D3: ='1か月目'!E36
A5: 日付 | B5: 内容(何に使ったか・もらったか) | C5: 入ったお金 | D5: 使ったお金 | E5: 残り
E6: =IF(AND(B6="",C6="",D6=""),"",$D$3+N(C6)-N(D6))
E7: =IF(AND(B7="",C7="",D7=""),"",LOOKUP(2,1/(E$6:E6<>""),E$6:E6)+N(C7)-N(D7))
E8: =IF(AND(B8="",C8="",D8=""),"",LOOKUP(2,1/(E$6:E7<>""),E$6:E7)+N(C8)-N(D8))
E9: =IF(AND(B9="",C9="",D9=""),"",LOOKUP(2,1/(E$6:E8<>""),E$6:E8)+N(C9)-N(D9))
E10: =IF(AND(B10="",C10="",D10=""),"",LOOKUP(2,1/(E$6:E9<>""),E$6:E9)+N(C10)-N(D10))
E11: =IF(AND(B11="",C11="",D11=""),"",LOOKUP(2,1/(E$6:E10<>""),E$6:E10)+N(C11)-N(D11))
E12: =IF(AND(B12="",C12="",D12=""),"",LOOKUP(2,1/(E$6:E11<>""),E$6:E11)+N(C12)-N(D12))
E13: =IF(AND(B13="",C13="",D13=""),"",LOOKUP(2,1/(E$6:E12<>""),E$6:E12)+N(C13)-N(D13))
E14: =IF(AND(B14="",C14="",D14=""),"",LOOKUP(2,1/(E$6:E13<>""),E$6:E13)+N(C14)-N(D14))
E15: =IF(AND(B15="",C15="",D15=""),"",LOOKUP(2,1/(E$6:E14<>""),E$6:E14)+N(C15)-N(D15))
E16: =IF(AND(B16="",C16="",D16=""),"",LOOKUP(2,1/(E$6:E15<>""),E$6:E15)+N(C16)-N(D16))
E17: =IF(AND(B17="",C17="",D17=""),"",LOOKUP(2,1/(E$6:E16<>""),E$6:E16)+N(C17)-N(D17))
E18: =IF(AND(B18="",C18="",D18=""),"",LOOKUP(2,1/(E$6:E17<>""),E$6:E17)+N(C18)-N(D18))
... E35: =IF(AND(B35="",C35="",D35=""),"",LOOKUP(2,1/(E$6:E34<>""),E$6:E34)+N(C35)-N(D35))
A36: 合計 | C36: =SUM(C6:C35) | D36: =SUM(D6:D35) | E36: =D3+C36-D36
A38: 今月のふりかえり

Sheet 3か月目
A1: おこづかい帳
A3: なまえ | C3: 前の月の残り | D3: ='2か月目'!E36
A5: 日付 | B5: 内容(何に使ったか・もらったか) | C5: 入ったお金 | D5: 使ったお金 | E5: 残り
E6: =IF(AND(B6="",C6="",D6=""),"",$D$3+N(C6)-N(D6))
E7: =IF(AND(B7="",C7="",D7=""),"",LOOKUP(2,1/(E$6:E6<>""),E$6:E6)+N(C7)-N(D7))
E8: =IF(AND(B8="",C8="",D8=""),"",LOOKUP(2,1/(E$6:E7<>""),E$6:E7)+N(C8)-N(D8))
E9: =IF(AND(B9="",C9="",D9=""),"",LOOKUP(2,1/(E$6:E8<>""),E$6:E8)+N(C9)-N(D9))
E10: =IF(AND(B10="",C10="",D10=""),"",LOOKUP(2,1/(E$6:E9<>""),E$6:E9)+N(C10)-N(D10))
E11: =IF(AND(B11="",C11="",D11=""),"",LOOKUP(2,1/(E$6:E10<>""),E$6:E10)+N(C11)-N(D11))
E12: =IF(AND(B12="",C12="",D12=""),"",LOOKUP(2,1/(E$6:E11<>""),E$6:E11)+N(C12)-N(D12))
E13: =IF(AND(B13="",C13="",D13=""),"",LOOKUP(2,1/(E$6:E12<>""),E$6:E12)+N(C13)-N(D13))
E14: =IF(AND(B14="",C14="",D14=""),"",LOOKUP(2,1/(E$6:E13<>""),E$6:E13)+N(C14)-N(D14))
E15: =IF(AND(B15="",C15="",D15=""),"",LOOKUP(2,1/(E$6:E14<>""),E$6:E14)+N(C15)-N(D15))
E16: =IF(AND(B16="",C16="",D16=""),"",LOOKUP(2,1/(E$6:E15<>""),E$6:E15)+N(C16)-N(D16))
E17: =IF(AND(B17="",C17="",D17=""),"",LOOKUP(2,1/(E$6:E16<>""),E$6:E16)+N(C17)-N(D17))
E18: =IF(AND(B18="",C18="",D18=""),"",LOOKUP(2,1/(E$6:E17<>""),E$6:E17)+N(C18)-N(D18))
... E35: =IF(AND(B35="",C35="",D35=""),"",LOOKUP(2,1/(E$6:E34<>""),E$6:E34)+N(C35)-N(D35))
A36: 合計 | C36: =SUM(C6:C35) | D36: =SUM(D6:D35) | E36: =D3+C36-D36
A38: 今月のふりかえり

Sheet 4か月目
A1: おこづかい帳
A3: なまえ | C3: 前の月の残り | D3: ='3か月目'!E36
A5: 日付 | B5: 内容(何に使ったか・もらったか) | C5: 入ったお金 | D5: 使ったお金 | E5: 残り
E6: =IF(AND(B6="",C6="",D6=""),"",$D$3+N(C6)-N(D6))
E7: =IF(AND(B7="",C7="",D7=""),"",LOOKUP(2,1/(E$6:E6<>""),E$6:E6)+N(C7)-N(D7))
E8: =IF(AND(B8="",C8="",D8=""),"",LOOKUP(2,1/(E$6:E7<>""),E$6:E7)+N(C8)-N(D8))
E9: =IF(AND(B9="",C9="",D9=""),"",LOOKUP(2,1/(E$6:E8<>""),E$6:E8)+N(C9)-N(D9))
E10: =IF(AND(B10="",C10="",D10=""),"",LOOKUP(2,1/(E$6:E9<>""),E$6:E9)+N(C10)-N(D10))
E11: =IF(AND(B11="",C11="",D11=""),"",LOOKUP(2,1/(E$6:E10<>""),E$6:E10)+N(C11)-N(D11))
E12: =IF(AND(B12="",C12="",D12=""),"",LOOKUP(2,1/(E$6:E11<>""),E$6:E11)+N(C12)-N(D12))
E13: =IF(AND(B13="",C13="",D13=""),"",LOOKUP(2,1/(E$6:E12<>""),E$6:E12)+N(C13)-N(D13))
E14: =IF(AND(B14="",C14="",D14=""),"",LOOKUP(2,1/(E$6:E13<>""),E$6:E13)+N(C14)-N(D14))
E15: =IF(AND(B15="",C15="",D15=""),"",LOOKUP(2,1/(E$6:E14<>""),E$6:E14)+N(C15)-N(D15))
E16: =IF(AND(B16="",C16="",D16=""),"",LOOKUP(2,1/(E$6:E15<>""),E$6:E15)+N(C16)-N(D16))
E17: =IF(AND(B17="",C17="",D17=""),"",LOOKUP(2,1/(E$6:E16<>""),E$6:E16)+N(C17)-N(D17))
E18: =IF(AND(B18="",C18="",D18=""),"",LOOKUP(2,1/(E$6:E17<>""),E$6:E17)+N(C18)-N(D18))
... E35: =IF(AND(B35="",C35="",D35=""),"",LOOKUP(2,1/(E$6:E34<>""),E$6:E34)+N(C35)-N(D35))
A36: 合計 | C36: =SUM(C6:C35) | D36: =SUM(D6:D35) | E36: =D3+C36-D36
A38: 今月のふりかえり

Sheet 5か月目
A1: おこづかい帳
A3: なまえ | C3: 前の月の残り | D3: ='4か月目'!E36
A5: 日付 | B5: 内容(何に使ったか・もらったか) | C5: 入ったお金 | D5: 使ったお金 | E5: 残り
E6: =IF(AND(B6="",C6="",D6=""),"",$D$3+N(C6)-N(D6))
E7: =IF(AND(B7="",C7="",D7=""),"",LOOKUP(2,1/(E$6:E6<>""),E$6:E6)+N(C7)-N(D7))
E8: =IF(AND(B8="",C8="",D8=""),"",LOOKUP(2,1/(E$6:E7<>""),E$6:E7)+N(C8)-N(D8))
E9: =IF(AND(B9="",C9="",D9=""),"",LOOKUP(2,1/(E$6:E8<>""),E$6:E8)+N(C9)-N(D9))
E10: =IF(AND(B10="",C10="",D10=""),"",LOOKUP(2,1/(E$6:E9<>""),E$6:E9)+N(C10)-N(D10))
E11: =IF(AND(B11="",C11="",D11=""),"",LOOKUP(2,1/(E$6:E10<>""),E$6:E10)+N(C11)-N(D11))
E12: =IF(AND(B12="",C12="",D12=""),"",LOOKUP(2,1/(E$6:E11<>""),E$6:E11)+N(C12)-N(D12))
E13: =IF(AND(B13="",C13="",D13=""),"",LOOKUP(2,1/(E$6:E12<>""),E$6:E12)+N(C13)-N(D13))
E14: =IF(AND(B14="",C14="",D14=""),"",LOOKUP(2,1/(E$6:E13<>""),E$6:E13)+N(C14)-N(D14))
E15: =IF(AND(B15="",C15="",D15=""),"",LOOKUP(2,1/(E$6:E14<>""),E$6:E14)+N(C15)-N(D15))
E16: =IF(AND(B16="",C16="",D16=""),"",LOOKUP(2,1/(E$6:E15<>""),E$6:E15)+N(C16)-N(D16))
E17: =IF(AND(B17="",C17="",D17=""),"",LOOKUP(2,1/(E$6:E16<>""),E$6:E16)+N(C17)-N(D17))
E18: =IF(AND(B18="",C18="",D18=""),"",LOOKUP(2,1/(E$6:E17<>""),E$6:E17)+N(C18)-N(D18))
... E35: =IF(AND(B35="",C35="",D35=""),"",LOOKUP(2,1/(E$6:E34<>""),E$6:E34)+N(C35)-N(D35))
A36: 合計 | C36: =SUM(C6:C35) | D36: =SUM(D6:D35) | E36: =D3+C36-D36
A38: 今月のふりかえり

Sheet 6か月目
A1: おこづかい帳
A3: なまえ | C3: 前の月の残り | D3: ='5か月目'!E36
A5: 日付 | B5: 内容(何に使ったか・もらったか) | C5: 入ったお金 | D5: 使ったお金 | E5: 残り
E6: =IF(AND(B6="",C6="",D6=""),"",$D$3+N(C6)-N(D6))
E7: =IF(AND(B7="",C7="",D7=""),"",LOOKUP(2,1/(E$6:E6<>""),E$6:E6)+N(C7)-N(D7))
E8: =IF(AND(B8="",C8="",D8=""),"",LOOKUP(2,1/(E$6:E7<>""),E$6:E7)+N(C8)-N(D8))
E9: =IF(AND(B9="",C9="",D9=""),"",LOOKUP(2,1/(E$6:E8<>""),E$6:E8)+N(C9)-N(D9))
E10: =IF(AND(B10="",C10="",D10=""),"",LOOKUP(2,1/(E$6:E9<>""),E$6:E9)+N(C10)-N(D10))
E11: =IF(AND(B11="",C11="",D11=""),"",LOOKUP(2,1/(E$6:E10<>""),E$6:E10)+N(C11)-N(D11))
E12: =IF(AND(B12="",C12="",D12=""),"",LOOKUP(2,1/(E$6:E11<>""),E$6:E11)+N(C12)-N(D12))
E13: =IF(AND(B13="",C13="",D13=""),"",LOOKUP(2,1/(E$6:E12<>""),E$6:E12)+N(C13)-N(D13))
E14: =IF(AND(B14="",C14="",D14=""),"",LOOKUP(2,1/(E$6:E13<>""),E$6:E13)+N(C14)-N(D14))
E15: =IF(AND(B15="",C15="",D15=""),"",LOOKUP(2,1/(E$6:E14<>""),E$6:E14)+N(C15)-N(D15))
E16: =IF(AND(B16="",C16="",D16=""),"",LOOKUP(2,1/(E$6:E15<>""),E$6:E15)+N(C16)-N(D16))
E17: =IF(AND(B17="",C17="",D17=""),"",LOOKUP(2,1/(E$6:E16<>""),E$6:E16)+N(C17)-N(D17))
E18: =IF(AND(B18="",C18="",D18=""),"",LOOKUP(2,1/(E$6:E17<>""),E$6:E17)+N(C18)-N(D18))
... E35: =IF(AND(B35="",C35="",D35=""),"",LOOKUP(2,1/(E$6:E34<>""),E$6:E34)+N(C35)-N(D35))
A36: 合計 | C36: =SUM(C6:C35) | D36: =SUM(D6:D35) | E36: =D3+C36-D36
A38: 今月のふりかえり

Sheet 7か月目
A1: おこづかい帳
A3: なまえ | C3: 前の月の残り | D3: ='6か月目'!E36
A5: 日付 | B5: 内容(何に使ったか・もらったか) | C5: 入ったお金 | D5: 使ったお金 | E5: 残り
E6: =IF(AND(B6="",C6="",D6=""),"",$D$3+N(C6)-N(D6))
E7: =IF(AND(B7="",C7="",D7=""),"",LOOKUP(2,1/(E$6:E6<>""),E$6:E6)+N(C7)-N(D7))
E8: =IF(AND(B8="",C8="",D8=""),"",LOOKUP(2,1/(E$6:E7<>""),E$6:E7)+N(C8)-N(D8))
E9: =IF(AND(B9="",C9="",D9=""),"",LOOKUP(2,1/(E$6:E8<>""),E$6:E8)+N(C9)-N(D9))
E10: =IF(AND(B10="",C10="",D10=""),"",LOOKUP(2,1/(E$6:E9<>""),E$6:E9)+N(C10)-N(D10))
E11: =IF(AND(B11="",C11="",D11=""),"",LOOKUP(2,1/(E$6:E10<>""),E$6:E10)+N(C11)-N(D11))
E12: =IF(AND(B12="",C12="",D12=""),"",LOOKUP(2,1/(E$6:E11<>""),E$6:E11)+N(C12)-N(D12))
E13: =IF(AND(B13="",C13="",D13=""),"",LOOKUP(2,1/(E$6:E12<>""),E$6:E12)+N(C13)-N(D13))
E14: =IF(AND(B14="",C14="",D14=""),"",LOOKUP(2,1/(E$6:E13<>""),E$6:E13)+N(C14)-N(D14))
E15: =IF(AND(B15="",C15="",D15=""),"",LOOKUP(2,1/(E$6:E14<>""),E$6:E14)+N(C15)-N(D15))
E16: =IF(AND(B16="",C16="",D16=""),"",LOOKUP(2,1/(E$6:E15<>""),E$6:E15)+N(C16)-N(D16))
E17: =IF(AND(B17="",C17="",D17=""),"",LOOKUP(2,1/(E$6:E16<>""),E$6:E16)+N(C17)-N(D17))
E18: =IF(AND(B18="",C18="",D18=""),"",LOOKUP(2,1/(E$6:E17<>""),E$6:E17)+N(C18)-N(D18))
... E35: =IF(AND(B35="",C35="",D35=""),"",LOOKUP(2,1/(E$6:E34<>""),E$6:E34)+N(C35)-N(D35))
A36: 合計 | C36: =SUM(C6:C35) | D36: =SUM(D6:D35) | E36: =D3+C36-D36
A38: 今月のふりかえり

Sheet 8か月目
A1: おこづかい帳
A3: なまえ | C3: 前の月の残り | D3: ='7か月目'!E36
A5: 日付 | B5: 内容(何に使ったか・もらったか) | C5: 入ったお金 | D5: 使ったお金 | E5: 残り
E6: =IF(AND(B6="",C6="",D6=""),"",$D$3+N(C6)-N(D6))
E7: =IF(AND(B7="",C7="",D7=""),"",LOOKUP(2,1/(E$6:E6<>""),E$6:E6)+N(C7)-N(D7))
E8: =IF(AND(B8="",C8="",D8=""),"",LOOKUP(2,1/(E$6:E7<>""),E$6:E7)+N(C8)-N(D8))
E9: =IF(AND(B9="",C9="",D9=""),"",LOOKUP(2,1/(E$6:E8<>""),E$6:E8)+N(C9)-N(D9))
E10: =IF(AND(B10="",C10="",D10=""),"",LOOKUP(2,1/(E$6:E9<>""),E$6:E9)+N(C10)-N(D10))
E11: =IF(AND(B11="",C11="",D11=""),"",LOOKUP(2,1/(E$6:E10<>""),E$6:E10)+N(C11)-N(D11))
E12: =IF(AND(B12="",C12="",D12=""),"",LOOKUP(2,1/(E$6:E11<>""),E$6:E11)+N(C12)-N(D12))
E13: =IF(AND(B13="",C13="",D13=""),"",LOOKUP(2,1/(E$6:E12<>""),E$6:E12)+N(C13)-N(D13))
E14: =IF(AND(B14="",C14="",D14=""),"",LOOKUP(2,1/(E$6:E13<>""),E$6:E13)+N(C14)-N(D14))
E15: =IF(AND(B15="",C15="",D15=""),"",LOOKUP(2,1/(E$6:E14<>""),E$6:E14)+N(C15)-N(D15))
E16: =IF(AND(B16="",C16="",D16=""),"",LOOKUP(2,1/(E$6:E15<>""),E$6:E15)+N(C16)-N(D16))
E17: =IF(AND(B17="",C17="",D17=""),"",LOOKUP(2,1/(E$6:E16<>""),E$6:E16)+N(C17)-N(D17))
E18: =IF(AND(B18="",C18="",D18=""),"",LOOKUP(2,1/(E$6:E17<>""),E$6:E17)+N(C18)-N(D18))
... E35: =IF(AND(B35="",C35="",D35=""),"",LOOKUP(2,1/(E$6:E34<>""),E$6:E34)+N(C35)-N(D35))
A36: 合計 | C36: =SUM(C6:C35) | D36: =SUM(D6:D35) | E36: =D3+C36-D36
A38: 今月のふりかえり

Sheet 9か月目
A1: おこづかい帳
A3: なまえ | C3: 前の月の残り | D3: ='8か月目'!E36
A5: 日付 | B5: 内容(何に使ったか・もらったか) | C5: 入ったお金 | D5: 使ったお金 | E5: 残り
E6: =IF(AND(B6="",C6="",D6=""),"",$D$3+N(C6)-N(D6))
E7: =IF(AND(B7="",C7="",D7=""),"",LOOKUP(2,1/(E$6:E6<>""),E$6:E6)+N(C7)-N(D7))
E8: =IF(AND(B8="",C8="",D8=""),"",LOOKUP(2,1/(E$6:E7<>""),E$6:E7)+N(C8)-N(D8))
E9: =IF(AND(B9="",C9="",D9=""),"",LOOKUP(2,1/(E$6:E8<>""),E$6:E8)+N(C9)-N(D9))
E10: =IF(AND(B10="",C10="",D10=""),"",LOOKUP(2,1/(E$6:E9<>""),E$6:E9)+N(C10)-N(D10))
E11: =IF(AND(B11="",C11="",D11=""),"",LOOKUP(2,1/(E$6:E10<>""),E$6:E10)+N(C11)-N(D11))
E12: =IF(AND(B12="",C12="",D12=""),"",LOOKUP(2,1/(E$6:E11<>""),E$6:E11)+N(C12)-N(D12))
E13: =IF(AND(B13="",C13="",D13=""),"",LOOKUP(2,1/(E$6:E12<>""),E$6:E12)+N(C13)-N(D13))
E14: =IF(AND(B14="",C14="",D14=""),"",LOOKUP(2,1/(E$6:E13<>""),E$6:E13)+N(C14)-N(D14))
E15: =IF(AND(B15="",C15="",D15=""),"",LOOKUP(2,1/(E$6:E14<>""),E$6:E14)+N(C15)-N(D15))
E16: =IF(AND(B16="",C16="",D16=""),"",LOOKUP(2,1/(E$6:E15<>""),E$6:E15)+N(C16)-N(D16))
E17: =IF(AND(B17="",C17="",D17=""),"",LOOKUP(2,1/(E$6:E16<>""),E$6:E16)+N(C17)-N(D17))
E18: =IF(AND(B18="",C18="",D18=""),"",LOOKUP(2,1/(E$6:E17<>""),E$6:E17)+N(C18)-N(D18))
... E35: =IF(AND(B35="",C35="",D35=""),"",LOOKUP(2,1/(E$6:E34<>""),E$6:E34)+N(C35)-N(D35))
A36: 合計 | C36: =SUM(C6:C35) | D36: =SUM(D6:D35) | E36: =D3+C36-D36
A38: 今月のふりかえり

Sheet 10か月目
A1: おこづかい帳
A3: なまえ | C3: 前の月の残り | D3: ='9か月目'!E36
A5: 日付 | B5: 内容(何に使ったか・もらったか) | C5: 入ったお金 | D5: 使ったお金 | E5: 残り
E6: =IF(AND(B6="",C6="",D6=""),"",$D$3+N(C6)-N(D6))
E7: =IF(AND(B7="",C7="",D7=""),"",LOOKUP(2,1/(E$6:E6<>""),E$6:E6)+N(C7)-N(D7))
E8: =IF(AND(B8="",C8="",D8=""),"",LOOKUP(2,1/(E$6:E7<>""),E$6:E7)+N(C8)-N(D8))
E9: =IF(AND(B9="",C9="",D9=""),"",LOOKUP(2,1/(E$6:E8<>""),E$6:E8)+N(C9)-N(D9))
E10: =IF(AND(B10="",C10="",D10=""),"",LOOKUP(2,1/(E$6:E9<>""),E$6:E9)+N(C10)-N(D10))
E11: =IF(AND(B11="",C11="",D11=""),"",LOOKUP(2,1/(E$6:E10<>""),E$6:E10)+N(C11)-N(D11))
E12: =IF(AND(B12="",C12="",D12=""),"",LOOKUP(2,1/(E$6:E11<>""),E$6:E11)+N(C12)-N(D12))
E13: =IF(AND(B13="",C13="",D13=""),"",LOOKUP(2,1/(E$6:E12<>""),E$6:E12)+N(C13)-N(D13))
E14: =IF(AND(B14="",C14="",D14=""),"",LOOKUP(2,1/(E$6:E13<>""),E$6:E13)+N(C14)-N(D14))
E15: =IF(AND(B15="",C15="",D15=""),"",LOOKUP(2,1/(E$6:E14<>""),E$6:E14)+N(C15)-N(D15))
E16: =IF(AND(B16="",C16="",D16=""),"",LOOKUP(2,1/(E$6:E15<>""),E$6:E15)+N(C16)-N(D16))
E17: =IF(AND(B17="",C17="",D17=""),"",LOOKUP(2,1/(E$6:E16<>""),E$6:E16)+N(C17)-N(D17))
E18: =IF(AND(B18="",C18="",D18=""),"",LOOKUP(2,1/(E$6:E17<>""),E$6:E17)+N(C18)-N(D18))
... E35: =IF(AND(B35="",C35="",D35=""),"",LOOKUP(2,1/(E$6:E34<>""),E$6:E34)+N(C35)-N(D35))
A36: 合計 | C36: =SUM(C6:C35) | D36: =SUM(D6:D35) | E36: =D3+C36-D36
A38: 今月のふりかえり

Sheet 11か月目
A1: おこづかい帳
A3: なまえ | C3: 前の月の残り | D3: ='10か月目'!E36
A5: 日付 | B5: 内容(何に使ったか・もらったか) | C5: 入ったお金 | D5: 使ったお金 | E5: 残り
E6: =IF(AND(B6="",C6="",D6=""),"",$D$3+N(C6)-N(D6))
E7: =IF(AND(B7="",C7="",D7=""),"",LOOKUP(2,1/(E$6:E6<>""),E$6:E6)+N(C7)-N(D7))
E8: =IF(AND(B8="",C8="",D8=""),"",LOOKUP(2,1/(E$6:E7<>""),E$6:E7)+N(C8)-N(D8))
E9: =IF(AND(B9="",C9="",D9=""),"",LOOKUP(2,1/(E$6:E8<>""),E$6:E8)+N(C9)-N(D9))
E10: =IF(AND(B10="",C10="",D10=""),"",LOOKUP(2,1/(E$6:E9<>""),E$6:E9)+N(C10)-N(D10))
E11: =IF(AND(B11="",C11="",D11=""),"",LOOKUP(2,1/(E$6:E10<>""),E$6:E10)+N(C11)-N(D11))
E12: =IF(AND(B12="",C12="",D12=""),"",LOOKUP(2,1/(E$6:E11<>""),E$6:E11)+N(C12)-N(D12))
E13: =IF(AND(B13="",C13="",D13=""),"",LOOKUP(2,1/(E$6:E12<>""),E$6:E12)+N(C13)-N(D13))
E14: =IF(AND(B14="",C14="",D14=""),"",LOOKUP(2,1/(E$6:E13<>""),E$6:E13)+N(C14)-N(D14))
E15: =IF(AND(B15="",C15="",D15=""),"",LOOKUP(2,1/(E$6:E14<>""),E$6:E14)+N(C15)-N(D15))
E16: =IF(AND(B16="",C16="",D16=""),"",LOOKUP(2,1/(E$6:E15<>""),E$6:E15)+N(C16)-N(D16))
E17: =IF(AND(B17="",C17="",D17=""),"",LOOKUP(2,1/(E$6:E16<>""),E$6:E16)+N(C17)-N(D17))
E18: =IF(AND(B18="",C18="",D18=""),"",LOOKUP(2,1/(E$6:E17<>""),E$6:E17)+N(C18)-N(D18))
... E35: =IF(AND(B35="",C35="",D35=""),"",LOOKUP(2,1/(E$6:E34<>""),E$6:E34)+N(C35)-N(D35))
A36: 合計 | C36: =SUM(C6:C35) | D36: =SUM(D6:D35) | E36: =D3+C36-D36
A38: 今月のふりかえり

Sheet 12か月目
A1: おこづかい帳
A3: なまえ | C3: 前の月の残り | D3: ='11か月目'!E36
A5: 日付 | B5: 内容(何に使ったか・もらったか) | C5: 入ったお金 | D5: 使ったお金 | E5: 残り
E6: =IF(AND(B6="",C6="",D6=""),"",$D$3+N(C6)-N(D6))
E7: =IF(AND(B7="",C7="",D7=""),"",LOOKUP(2,1/(E$6:E6<>""),E$6:E6)+N(C7)-N(D7))
E8: =IF(AND(B8="",C8="",D8=""),"",LOOKUP(2,1/(E$6:E7<>""),E$6:E7)+N(C8)-N(D8))
E9: =IF(AND(B9="",C9="",D9=""),"",LOOKUP(2,1/(E$6:E8<>""),E$6:E8)+N(C9)-N(D9))
E10: =IF(AND(B10="",C10="",D10=""),"",LOOKUP(2,1/(E$6:E9<>""),E$6:E9)+N(C10)-N(D10))
E11: =IF(AND(B11="",C11="",D11=""),"",LOOKUP(2,1/(E$6:E10<>""),E$6:E10)+N(C11)-N(D11))
E12: =IF(AND(B12="",C12="",D12=""),"",LOOKUP(2,1/(E$6:E11<>""),E$6:E11)+N(C12)-N(D12))
E13: =IF(AND(B13="",C13="",D13=""),"",LOOKUP(2,1/(E$6:E12<>""),E$6:E12)+N(C13)-N(D13))
E14: =IF(AND(B14="",C14="",D14=""),"",LOOKUP(2,1/(E$6:E13<>""),E$6:E13)+N(C14)-N(D14))
E15: =IF(AND(B15="",C15="",D15=""),"",LOOKUP(2,1/(E$6:E14<>""),E$6:E14)+N(C15)-N(D15))
E16: =IF(AND(B16="",C16="",D16=""),"",LOOKUP(2,1/(E$6:E15<>""),E$6:E15)+N(C16)-N(D16))
E17: =IF(AND(B17="",C17="",D17=""),"",LOOKUP(2,1/(E$6:E16<>""),E$6:E16)+N(C17)-N(D17))
E18: =IF(AND(B18="",C18="",D18=""),"",LOOKUP(2,1/(E$6:E17<>""),E$6:E17)+N(C18)-N(D18))
... E35: =IF(AND(B35="",C35="",D35=""),"",LOOKUP(2,1/(E$6:E34<>""),E$6:E34)+N(C35)-N(D35))
A36: 合計 | C36: =SUM(C6:C35) | D36: =SUM(D6:D35) | E36: =D3+C36-D36
A38: 今月のふりかえり
