Workbook

Sheet 名札
A1: =IF(名簿!$A$2="","",名簿!$A$2) -> ○○株式会社 営業部 | B1: =IF(名簿!$A$3="","",名簿!$A$3) -> ○○株式会社 総務部
A2: =IF(名簿!$B$2="","",名簿!$B$2) -> やまだ たろう | B2: =IF(名簿!$B$3="","",名簿!$B$3) -> さとう はなこ
A3: =IF(名簿!$C$2="","",名簿!$C$2) -> 山田 太郎 | B3: =IF(名簿!$C$3="","",名簿!$C$3) -> 佐藤 花子
A5: =IF(名簿!$A$4="","",名簿!$A$4) -> ひまわり組 | B5: =IF(名簿!$A$5="","",名簿!$A$5)
A6: =IF(名簿!$B$4="","",名簿!$B$4) -> すずき けんと | B6: =IF(名簿!$B$5="","",名簿!$B$5)
A7: =IF(名簿!$C$4="","",名簿!$C$4) -> 鈴木 健人 | B7: =IF(名簿!$C$5="","",名簿!$C$5)
A9: =IF(名簿!$A$6="","",名簿!$A$6) | B9: =IF(名簿!$A$7="","",名簿!$A$7)
A10: =IF(名簿!$B$6="","",名簿!$B$6) | B10: =IF(名簿!$B$7="","",名簿!$B$7)
A11: =IF(名簿!$C$6="","",名簿!$C$6) | B11: =IF(名簿!$C$7="","",名簿!$C$7)
A13: =IF(名簿!$A$8="","",名簿!$A$8) | B13: =IF(名簿!$A$9="","",名簿!$A$9)
A14: =IF(名簿!$B$8="","",名簿!$B$8) | B14: =IF(名簿!$B$9="","",名簿!$B$9)
A15: =IF(名簿!$C$8="","",名簿!$C$8) | B15: =IF(名簿!$C$9="","",名簿!$C$9)
A17: =IF(名簿!$A$10="","",名簿!$A$10) | B17: =IF(名簿!$A$11="","",名簿!$A$11)
A18: =IF(名簿!$B$10="","",名簿!$B$10) | B18: =IF(名簿!$B$11="","",名簿!$B$11)
A19: =IF(名簿!$C$10="","",名簿!$C$10) | B19: =IF(名簿!$C$11="","",名簿!$C$11)
A21: =IF(名簿!$A$12="","",名簿!$A$12) | B21: =IF(名簿!$A$13="","",名簿!$A$13)
A22: =IF(名簿!$B$12="","",名簿!$B$12) | B22: =IF(名簿!$B$13="","",名簿!$B$13)
A23: =IF(名簿!$C$12="","",名簿!$C$12) | B23: =IF(名簿!$C$13="","",名簿!$C$13)
A25: =IF(名簿!$A$14="","",名簿!$A$14) | B25: =IF(名簿!$A$15="","",名簿!$A$15)
A26: =IF(名簿!$B$14="","",名簿!$B$14) | B26: =IF(名簿!$B$15="","",名簿!$B$15)
A27: =IF(名簿!$C$14="","",名簿!$C$14) | B27: =IF(名簿!$C$15="","",名簿!$C$15)
A29: =IF(名簿!$A$16="","",名簿!$A$16) | B29: =IF(名簿!$A$17="","",名簿!$A$17)
A30: =IF(名簿!$B$16="","",名簿!$B$16) | B30: =IF(名簿!$B$17="","",名簿!$B$17)
A31: =IF(名簿!$C$16="","",名簿!$C$16) | B31: =IF(名簿!$C$17="","",名簿!$C$17)
A33: =IF(名簿!$A$18="","",名簿!$A$18) | B33: =IF(名簿!$A$19="","",名簿!$A$19)
A34: =IF(名簿!$B$18="","",名簿!$B$18) | B34: =IF(名簿!$B$19="","",名簿!$B$19)
A35: =IF(名簿!$C$18="","",名簿!$C$18) | B35: =IF(名簿!$C$19="","",名簿!$C$19)
A37: =IF(名簿!$A$20="","",名簿!$A$20) | B37: =IF(名簿!$A$21="","",名簿!$A$21)
A38: =IF(名簿!$B$20="","",名簿!$B$20) | B38: =IF(名簿!$B$21="","",名簿!$B$21)
A39: =IF(名簿!$C$20="","",名簿!$C$20) | B39: =IF(名簿!$C$21="","",名簿!$C$21)
A41: =IF(名簿!$A$22="","",名簿!$A$22) | B41: =IF(名簿!$A$23="","",名簿!$A$23)
A42: =IF(名簿!$B$22="","",名簿!$B$22) | B42: =IF(名簿!$B$23="","",名簿!$B$23)
A43: =IF(名簿!$C$22="","",名簿!$C$22) | B43: =IF(名簿!$C$23="","",名簿!$C$23)
A45: =IF(名簿!$A$24="","",名簿!$A$24) | B45: =IF(名簿!$A$25="","",名簿!$A$25)
A46: =IF(名簿!$B$24="","",名簿!$B$24) | B46: =IF(名簿!$B$25="","",名簿!$B$25)
A47: =IF(名簿!$C$24="","",名簿!$C$24) | B47: =IF(名簿!$C$25="","",名簿!$C$25)
A49: =IF(名簿!$A$26="","",名簿!$A$26) | B49: =IF(名簿!$A$27="","",名簿!$A$27)
A50: =IF(名簿!$B$26="","",名簿!$B$26) | B50: =IF(名簿!$B$27="","",名簿!$B$27)
A51: =IF(名簿!$C$26="","",名簿!$C$26) | B51: =IF(名簿!$C$27="","",名簿!$C$27)
A53: =IF(名簿!$A$28="","",名簿!$A$28) | B53: =IF(名簿!$A$29="","",名簿!$A$29)
A54: =IF(名簿!$B$28="","",名簿!$B$28) | B54: =IF(名簿!$B$29="","",名簿!$B$29)
A55: =IF(名簿!$C$28="","",名簿!$C$28) | B55: =IF(名簿!$C$29="","",名簿!$C$29)
A57: =IF(名簿!$A$30="","",名簿!$A$30) | B57: =IF(名簿!$A$31="","",名簿!$A$31)
A58: =IF(名簿!$B$30="","",名簿!$B$30) | B58: =IF(名簿!$B$31="","",名簿!$B$31)
A59: =IF(名簿!$C$30="","",名簿!$C$30) | B59: =IF(名簿!$C$31="","",名簿!$C$31)
A61: =IF(名簿!$A$32="","",名簿!$A$32) | B61: =IF(名簿!$A$33="","",名簿!$A$33)
A62: =IF(名簿!$B$32="","",名簿!$B$32) | B62: =IF(名簿!$B$33="","",名簿!$B$33)
A63: =IF(名簿!$C$32="","",名簿!$C$32) | B63: =IF(名簿!$C$33="","",名簿!$C$33)
A65: =IF(名簿!$A$34="","",名簿!$A$34) | B65: =IF(名簿!$A$35="","",名簿!$A$35)
A66: =IF(名簿!$B$34="","",名簿!$B$34) | B66: =IF(名簿!$B$35="","",名簿!$B$35)
A67: =IF(名簿!$C$34="","",名簿!$C$34) | B67: =IF(名簿!$C$35="","",名簿!$C$35)
A69: =IF(名簿!$A$36="","",名簿!$A$36) | B69: =IF(名簿!$A$37="","",名簿!$A$37)
A70: =IF(名簿!$B$36="","",名簿!$B$36) | B70: =IF(名簿!$B$37="","",名簿!$B$37)
A71: =IF(名簿!$C$36="","",名簿!$C$36) | B71: =IF(名簿!$C$37="","",名簿!$C$37)
A73: =IF(名簿!$A$38="","",名簿!$A$38) | B73: =IF(名簿!$A$39="","",名簿!$A$39)
A74: =IF(名簿!$B$38="","",名簿!$B$38) | B74: =IF(名簿!$B$39="","",名簿!$B$39)
A75: =IF(名簿!$C$38="","",名簿!$C$38) | B75: =IF(名簿!$C$39="","",名簿!$C$39)
A77: =IF(名簿!$A$40="","",名簿!$A$40) | B77: =IF(名簿!$A$41="","",名簿!$A$41)
A78: =IF(名簿!$B$40="","",名簿!$B$40) | B78: =IF(名簿!$B$41="","",名簿!$B$41)
A79: =IF(名簿!$C$40="","",名簿!$C$40) | B79: =IF(名簿!$C$41="","",名簿!$C$41)
A81: =IF(名簿!$A$42="","",名簿!$A$42) | B81: =IF(名簿!$A$43="","",名簿!$A$43)
A82: =IF(名簿!$B$42="","",名簿!$B$42) | B82: =IF(名簿!$B$43="","",名簿!$B$43)
A83: =IF(名簿!$C$42="","",名簿!$C$42) | B83: =IF(名簿!$C$43="","",名簿!$C$43)
A85: =IF(名簿!$A$44="","",名簿!$A$44) | B85: =IF(名簿!$A$45="","",名簿!$A$45)
A86: =IF(名簿!$B$44="","",名簿!$B$44) | B86: =IF(名簿!$B$45="","",名簿!$B$45)
A87: =IF(名簿!$C$44="","",名簿!$C$44) | B87: =IF(名簿!$C$45="","",名簿!$C$45)
A89: =IF(名簿!$A$46="","",名簿!$A$46) | B89: =IF(名簿!$A$47="","",名簿!$A$47)
A90: =IF(名簿!$B$46="","",名簿!$B$46) | B90: =IF(名簿!$B$47="","",名簿!$B$47)
A91: =IF(名簿!$C$46="","",名簿!$C$46) | B91: =IF(名簿!$C$47="","",名簿!$C$47)
A93: =IF(名簿!$A$48="","",名簿!$A$48) | B93: =IF(名簿!$A$49="","",名簿!$A$49)
A94: =IF(名簿!$B$48="","",名簿!$B$48) | B94: =IF(名簿!$B$49="","",名簿!$B$49)
A95: =IF(名簿!$C$48="","",名簿!$C$48) | B95: =IF(名簿!$C$49="","",名簿!$C$49)
A97: =IF(名簿!$A$50="","",名簿!$A$50) | B97: =IF(名簿!$A$51="","",名簿!$A$51)
A98: =IF(名簿!$B$50="","",名簿!$B$50) | B98: =IF(名簿!$B$51="","",名簿!$B$51)
A99: =IF(名簿!$C$50="","",名簿!$C$50) | B99: =IF(名簿!$C$51="","",名簿!$C$51)

Sheet 名簿
A1: 所属(学校・会社・クラスなど) | B1: ふりがな | C1: 名前
A2: ○○株式会社 営業部 | B2: やまだ たろう | C2: 山田 太郎
A3: ○○株式会社 総務部 | B3: さとう はなこ | C3: 佐藤 花子
A4: ひまわり組 | B4: すずき けんと | C4: 鈴木 健人
