Workbook

Sheet 値札
A1: =IF(商品リスト!$A$2="","",商品リスト!$A$2) | B1: =IF(商品リスト!$A$3="","",商品リスト!$A$3) | C1: =IF(商品リスト!$A$4="","",商品リスト!$A$4)
A2: =IF(商品リスト!$D$2="","","¥"&TEXT(商品リスト!$D$2,"#,##0")) | B2: =IF(商品リスト!$D$3="","","¥"&TEXT(商品リスト!$D$3,"#,##0")) | C2: =IF(商品リスト!$D$4="","","¥"&TEXT(商品リスト!$D$4,"#,##0"))
A3: =IF(商品リスト!$D$2="","","(税込) 本体 "&TEXT(商品リスト!$B$2,"#,##0")&"円") | B3: =IF(商品リスト!$D$3="","","(税込) 本体 "&TEXT(商品リスト!$B$3,"#,##0")&"円") | C3: =IF(商品リスト!$D$4="","","(税込) 本体 "&TEXT(商品リスト!$B$4,"#,##0")&"円")
A4: =IF(商品リスト!$A$5="","",商品リスト!$A$5) | B4: =IF(商品リスト!$A$6="","",商品リスト!$A$6) | C4: =IF(商品リスト!$A$7="","",商品リスト!$A$7)
A5: =IF(商品リスト!$D$5="","","¥"&TEXT(商品リスト!$D$5,"#,##0")) | B5: =IF(商品リスト!$D$6="","","¥"&TEXT(商品リスト!$D$6,"#,##0")) | C5: =IF(商品リスト!$D$7="","","¥"&TEXT(商品リスト!$D$7,"#,##0"))
A6: =IF(商品リスト!$D$5="","","(税込) 本体 "&TEXT(商品リスト!$B$5,"#,##0")&"円") | B6: =IF(商品リスト!$D$6="","","(税込) 本体 "&TEXT(商品リスト!$B$6,"#,##0")&"円") | C6: =IF(商品リスト!$D$7="","","(税込) 本体 "&TEXT(商品リスト!$B$7,"#,##0")&"円")
A7: =IF(商品リスト!$A$8="","",商品リスト!$A$8) | B7: =IF(商品リスト!$A$9="","",商品リスト!$A$9) | C7: =IF(商品リスト!$A$10="","",商品リスト!$A$10)
A8: =IF(商品リスト!$D$8="","","¥"&TEXT(商品リスト!$D$8,"#,##0")) | B8: =IF(商品リスト!$D$9="","","¥"&TEXT(商品リスト!$D$9,"#,##0")) | C8: =IF(商品リスト!$D$10="","","¥"&TEXT(商品リスト!$D$10,"#,##0"))
A9: =IF(商品リスト!$D$8="","","(税込) 本体 "&TEXT(商品リスト!$B$8,"#,##0")&"円") | B9: =IF(商品リスト!$D$9="","","(税込) 本体 "&TEXT(商品リスト!$B$9,"#,##0")&"円") | C9: =IF(商品リスト!$D$10="","","(税込) 本体 "&TEXT(商品リスト!$B$10,"#,##0")&"円")
A10: =IF(商品リスト!$A$11="","",商品リスト!$A$11) | B10: =IF(商品リスト!$A$12="","",商品リスト!$A$12) | C10: =IF(商品リスト!$A$13="","",商品リスト!$A$13)
A11: =IF(商品リスト!$D$11="","","¥"&TEXT(商品リスト!$D$11,"#,##0")) | B11: =IF(商品リスト!$D$12="","","¥"&TEXT(商品リスト!$D$12,"#,##0")) | C11: =IF(商品リスト!$D$13="","","¥"&TEXT(商品リスト!$D$13,"#,##0"))
A12: =IF(商品リスト!$D$11="","","(税込) 本体 "&TEXT(商品リスト!$B$11,"#,##0")&"円") | B12: =IF(商品リスト!$D$12="","","(税込) 本体 "&TEXT(商品リスト!$B$12,"#,##0")&"円") | C12: =IF(商品リスト!$D$13="","","(税込) 本体 "&TEXT(商品リスト!$B$13,"#,##0")&"円")
A13: =IF(商品リスト!$A$14="","",商品リスト!$A$14) | B13: =IF(商品リスト!$A$15="","",商品リスト!$A$15) | C13: =IF(商品リスト!$A$16="","",商品リスト!$A$16)
A14: =IF(商品リスト!$D$14="","","¥"&TEXT(商品リスト!$D$14,"#,##0")) | B14: =IF(商品リスト!$D$15="","","¥"&TEXT(商品リスト!$D$15,"#,##0")) | C14: =IF(商品リスト!$D$16="","","¥"&TEXT(商品リスト!$D$16,"#,##0"))
A15: =IF(商品リスト!$D$14="","","(税込) 本体 "&TEXT(商品リスト!$B$14,"#,##0")&"円") | B15: =IF(商品リスト!$D$15="","","(税込) 本体 "&TEXT(商品リスト!$B$15,"#,##0")&"円") | C15: =IF(商品リスト!$D$16="","","(税込) 本体 "&TEXT(商品リスト!$B$16,"#,##0")&"円")
A16: =IF(商品リスト!$A$17="","",商品リスト!$A$17) | B16: =IF(商品リスト!$A$18="","",商品リスト!$A$18) | C16: =IF(商品リスト!$A$19="","",商品リスト!$A$19)
A17: =IF(商品リスト!$D$17="","","¥"&TEXT(商品リスト!$D$17,"#,##0")) | B17: =IF(商品リスト!$D$18="","","¥"&TEXT(商品リスト!$D$18,"#,##0")) | C17: =IF(商品リスト!$D$19="","","¥"&TEXT(商品リスト!$D$19,"#,##0"))
A18: =IF(商品リスト!$D$17="","","(税込) 本体 "&TEXT(商品リスト!$B$17,"#,##0")&"円") | B18: =IF(商品リスト!$D$18="","","(税込) 本体 "&TEXT(商品リスト!$B$18,"#,##0")&"円") | C18: =IF(商品リスト!$D$19="","","(税込) 本体 "&TEXT(商品リスト!$B$19,"#,##0")&"円")
A19: =IF(商品リスト!$A$20="","",商品リスト!$A$20) | B19: =IF(商品リスト!$A$21="","",商品リスト!$A$21) | C19: =IF(商品リスト!$A$22="","",商品リスト!$A$22)
A20: =IF(商品リスト!$D$20="","","¥"&TEXT(商品リスト!$D$20,"#,##0")) | B20: =IF(商品リスト!$D$21="","","¥"&TEXT(商品リスト!$D$21,"#,##0")) | C20: =IF(商品リスト!$D$22="","","¥"&TEXT(商品リスト!$D$22,"#,##0"))
A21: =IF(商品リスト!$D$20="","","(税込) 本体 "&TEXT(商品リスト!$B$20,"#,##0")&"円") | B21: =IF(商品リスト!$D$21="","","(税込) 本体 "&TEXT(商品リスト!$B$21,"#,##0")&"円") | C21: =IF(商品リスト!$D$22="","","(税込) 本体 "&TEXT(商品リスト!$B$22,"#,##0")&"円")
A22: =IF(商品リスト!$A$23="","",商品リスト!$A$23) | B22: =IF(商品リスト!$A$24="","",商品リスト!$A$24) | C22: =IF(商品リスト!$A$25="","",商品リスト!$A$25)
A23: =IF(商品リスト!$D$23="","","¥"&TEXT(商品リスト!$D$23,"#,##0")) | B23: =IF(商品リスト!$D$24="","","¥"&TEXT(商品リスト!$D$24,"#,##0")) | C23: =IF(商品リスト!$D$25="","","¥"&TEXT(商品リスト!$D$25,"#,##0"))
A24: =IF(商品リスト!$D$23="","","(税込) 本体 "&TEXT(商品リスト!$B$23,"#,##0")&"円") | B24: =IF(商品リスト!$D$24="","","(税込) 本体 "&TEXT(商品リスト!$B$24,"#,##0")&"円") | C24: =IF(商品リスト!$D$25="","","(税込) 本体 "&TEXT(商品リスト!$B$25,"#,##0")&"円")
A25: =IF(商品リスト!$A$26="","",商品リスト!$A$26) | B25: =IF(商品リスト!$A$27="","",商品リスト!$A$27) | C25: =IF(商品リスト!$A$28="","",商品リスト!$A$28)
A26: =IF(商品リスト!$D$26="","","¥"&TEXT(商品リスト!$D$26,"#,##0")) | B26: =IF(商品リスト!$D$27="","","¥"&TEXT(商品リスト!$D$27,"#,##0")) | C26: =IF(商品リスト!$D$28="","","¥"&TEXT(商品リスト!$D$28,"#,##0"))
A27: =IF(商品リスト!$D$26="","","(税込) 本体 "&TEXT(商品リスト!$B$26,"#,##0")&"円") | B27: =IF(商品リスト!$D$27="","","(税込) 本体 "&TEXT(商品リスト!$B$27,"#,##0")&"円") | C27: =IF(商品リスト!$D$28="","","(税込) 本体 "&TEXT(商品リスト!$B$28,"#,##0")&"円")
A28: =IF(商品リスト!$A$29="","",商品リスト!$A$29) | B28: =IF(商品リスト!$A$30="","",商品リスト!$A$30) | C28: =IF(商品リスト!$A$31="","",商品リスト!$A$31)
A29: =IF(商品リスト!$D$29="","","¥"&TEXT(商品リスト!$D$29,"#,##0")) | B29: =IF(商品リスト!$D$30="","","¥"&TEXT(商品リスト!$D$30,"#,##0")) | C29: =IF(商品リスト!$D$31="","","¥"&TEXT(商品リスト!$D$31,"#,##0"))
A30: =IF(商品リスト!$D$29="","","(税込) 本体 "&TEXT(商品リスト!$B$29,"#,##0")&"円") | B30: =IF(商品リスト!$D$30="","","(税込) 本体 "&TEXT(商品リスト!$B$30,"#,##0")&"円") | C30: =IF(商品リスト!$D$31="","","(税込) 本体 "&TEXT(商品リスト!$B$31,"#,##0")&"円")
A31: =IF(商品リスト!$A$32="","",商品リスト!$A$32) | B31: =IF(商品リスト!$A$33="","",商品リスト!$A$33) | C31: =IF(商品リスト!$A$34="","",商品リスト!$A$34)
A32: =IF(商品リスト!$D$32="","","¥"&TEXT(商品リスト!$D$32,"#,##0")) | B32: =IF(商品リスト!$D$33="","","¥"&TEXT(商品リスト!$D$33,"#,##0")) | C32: =IF(商品リスト!$D$34="","","¥"&TEXT(商品リスト!$D$34,"#,##0"))
A33: =IF(商品リスト!$D$32="","","(税込) 本体 "&TEXT(商品リスト!$B$32,"#,##0")&"円") | B33: =IF(商品リスト!$D$33="","","(税込) 本体 "&TEXT(商品リスト!$B$33,"#,##0")&"円") | C33: =IF(商品リスト!$D$34="","","(税込) 本体 "&TEXT(商品リスト!$B$34,"#,##0")&"円")
A34: =IF(商品リスト!$A$35="","",商品リスト!$A$35) | B34: =IF(商品リスト!$A$36="","",商品リスト!$A$36) | C34: =IF(商品リスト!$A$37="","",商品リスト!$A$37)
A35: =IF(商品リスト!$D$35="","","¥"&TEXT(商品リスト!$D$35,"#,##0")) | B35: =IF(商品リスト!$D$36="","","¥"&TEXT(商品リスト!$D$36,"#,##0")) | C35: =IF(商品リスト!$D$37="","","¥"&TEXT(商品リスト!$D$37,"#,##0"))
A36: =IF(商品リスト!$D$35="","","(税込) 本体 "&TEXT(商品リスト!$B$35,"#,##0")&"円") | B36: =IF(商品リスト!$D$36="","","(税込) 本体 "&TEXT(商品リスト!$B$36,"#,##0")&"円") | C36: =IF(商品リスト!$D$37="","","(税込) 本体 "&TEXT(商品リスト!$B$37,"#,##0")&"円")
A37: =IF(商品リスト!$A$38="","",商品リスト!$A$38) | B37: =IF(商品リスト!$A$39="","",商品リスト!$A$39) | C37: =IF(商品リスト!$A$40="","",商品リスト!$A$40)
A38: =IF(商品リスト!$D$38="","","¥"&TEXT(商品リスト!$D$38,"#,##0")) | B38: =IF(商品リスト!$D$39="","","¥"&TEXT(商品リスト!$D$39,"#,##0")) | C38: =IF(商品リスト!$D$40="","","¥"&TEXT(商品リスト!$D$40,"#,##0"))
A39: =IF(商品リスト!$D$38="","","(税込) 本体 "&TEXT(商品リスト!$B$38,"#,##0")&"円") | B39: =IF(商品リスト!$D$39="","","(税込) 本体 "&TEXT(商品リスト!$B$39,"#,##0")&"円") | C39: =IF(商品リスト!$D$40="","","(税込) 本体 "&TEXT(商品リスト!$B$40,"#,##0")&"円")
A40: =IF(商品リスト!$A$41="","",商品リスト!$A$41) | B40: =IF(商品リスト!$A$42="","",商品リスト!$A$42) | C40: =IF(商品リスト!$A$43="","",商品リスト!$A$43)
...

Sheet 商品リスト
A1: 商品名 | B1: 本体価格(税抜) | C1: 税率 | D1: 税込価格(自動) | F1: ※税率は［▼］から選びます(飲食料品は2027年4月〜2029年3月は1%の予定)。税込価格は1円未満切り捨て。
A2: 手作りクッキー(5枚入り) | B2: 300 | C2: 8% | D2: =IF(OR(A2="",B2=""),"",ROUNDDOWN(B2*(1+(C2+0)),0))
A3: ハンドタオル | B3: 500 | C3: 10% | D3: =IF(OR(A3="",B3=""),"",ROUNDDOWN(B3*(1+(C3+0)),0))
A4: ミニブーケ | B4: 1200 | C4: 10% | D4: =IF(OR(A4="",B4=""),"",ROUNDDOWN(B4*(1+(C4+0)),0))
A5: いちごジャム | B5: 650 | C5: 8% | D5: =IF(OR(A5="",B5=""),"",ROUNDDOWN(B5*(1+(C5+0)),0))
D6: =IF(OR(A6="",B6=""),"",ROUNDDOWN(B6*(1+(C6+0)),0))
D7: =IF(OR(A7="",B7=""),"",ROUNDDOWN(B7*(1+(C7+0)),0))
D8: =IF(OR(A8="",B8=""),"",ROUNDDOWN(B8*(1+(C8+0)),0))
D9: =IF(OR(A9="",B9=""),"",ROUNDDOWN(B9*(1+(C9+0)),0))
D10: =IF(OR(A10="",B10=""),"",ROUNDDOWN(B10*(1+(C10+0)),0))
D11: =IF(OR(A11="",B11=""),"",ROUNDDOWN(B11*(1+(C11+0)),0))
D12: =IF(OR(A12="",B12=""),"",ROUNDDOWN(B12*(1+(C12+0)),0))
D13: =IF(OR(A13="",B13=""),"",ROUNDDOWN(B13*(1+(C13+0)),0))
D14: =IF(OR(A14="",B14=""),"",ROUNDDOWN(B14*(1+(C14+0)),0))
D15: =IF(OR(A15="",B15=""),"",ROUNDDOWN(B15*(1+(C15+0)),0))
D16: =IF(OR(A16="",B16=""),"",ROUNDDOWN(B16*(1+(C16+0)),0))
D17: =IF(OR(A17="",B17=""),"",ROUNDDOWN(B17*(1+(C17+0)),0))
... D49: =IF(OR(A49="",B49=""),"",ROUNDDOWN(B49*(1+(C49+0)),0))
