Workbook

Sheet 年間行事予定表
B1: =C2&"年度 年間行事予定表"
B2: 年度 | C2: 2026 | D2: ← 年度を入れると、4月〜3月の日付・曜日・祝日が入ります。土曜は青、日曜・祝日は赤。行事は日付の右の欄に書きます(祝日名は上書きしてかまいません)。 | U2: ○○小学校
B4: 4月 | D4: 5月 | F4: 6月 | H4: 7月 | J4: 8月 | L4: 9月 | N4: 10月 | P4: 11月 | R4: 12月 | T4: 1月 | V4: 2月 | X4: 3月
A5: 1 | B5: =IF(DAY(DATE(($C$2+0),4,1))=1,TEXT(DATE(($C$2+0),4,1),"aaa"),"") | C5: =IF(DAY(DATE(($C$2+0),4,1))=1,IFERROR(VLOOKUP(DATE(($C$2+0),4,1),祝日!$A$2:$B$65,2,FALSE),""),"") | D5: =IF(DAY(DATE(($C$2+0),5,1))=1,TEXT(DATE(($C$2+0),5,1),"aaa"),"") | E5: =IF(DAY(DATE(($C$2+0),5,1))=1,IFERROR(VLOOKUP(DATE(($C$2+0),5,1),祝日!$A$2:$B$65,2,FALSE),""),"") | F5: =IF(DAY(DATE(($C$2+0),6,1))=1,TEXT(DATE(($C$2+0),6,1),"aaa"),"") | G5: =IF(DAY(DATE(($C$2+0),6,1))=1,IFERROR(VLOOKUP(DATE(($C$2+0),6,1),祝日!$A$2:$B$65,2,FALSE),""),"") | H5: =IF(DAY(DATE(($C$2+0),7,1))=1,TEXT(DATE(($C$2+0),7,1),"aaa"),"") | I5: =IF(DAY(DATE(($C$2+0),7,1))=1,IFERROR(VLOOKUP(DATE(($C$2+0),7,1),祝日!$A$2:$B$65,2,FALSE),""),"") | J5: =IF(DAY(DATE(($C$2+0),8,1))=1,TEXT(DATE(($C$2+0),8,1),"aaa"),"") | K5: =IF(DAY(DATE(($C$2+0),8,1))=1,IFERROR(VLOOKUP(DATE(($C$2+0),8,1),祝日!$A$2:$B$65,2,FALSE),""),"") | L5: =IF(DAY(DATE(($C$2+0),9,1))=1,TEXT(DATE(($C$2+0),9,1),"aaa"),"") | M5: =IF(DAY(DATE(($C$2+0),9,1))=1,IFERROR(VLOOKUP(DATE(($C$2+0),9,1),祝日!$A$2:$B$65,2,FALSE),""),"") | N5: =IF(DAY(DATE(($C$2+0),10,1))=1,TEXT(DATE(($C$2+0),10,1),"aaa"),"") | O5: =IF(DAY(DATE(($C$2+0),10,1))=1,IFERROR(VLOOKUP(DATE(($C$2+0),10,1),祝日!$A$2:$B$65,2,FALSE),""),"") | P5: =IF(DAY(DATE(($C$2+0),11,1))=1,TEXT(DATE(($C$2+0),11,1),"aaa"),"") | Q5: =IF(DAY(DATE(($C$2+0),11,1))=1,IFERROR(VLOOKUP(DATE(($C$2+0),11,1),祝日!$A$2:$B$65,2,FALSE),""),"") | R5: =IF(DAY(DATE(($C$2+0),12,1))=1,TEXT(DATE(($C$2+0),12,1),"aaa"),"") | S5: =IF(DAY(DATE(($C$2+0),12,1))=1,IFERROR(VLOOKUP(DATE(($C$2+0),12,1),祝日!$A$2:$B$65,2,FALSE),""),"") | T5: =IF(DAY(DATE(($C$2+1),1,1))=1,TEXT(DATE(($C$2+1),1,1),"aaa"),"") | U5: =IF(DAY(DATE(($C$2+1),1,1))=1,IFERROR(VLOOKUP(DATE(($C$2+1),1,1),祝日!$A$2:$B$65,2,FALSE),""),"") | V5: =IF(DAY(DATE(($C$2+1),2,1))=1,TEXT(DATE(($C$2+1),2,1),"aaa"),"") | W5: =IF(DAY(DATE(($C$2+1),2,1))=1,IFERROR(VLOOKUP(DATE(($C$2+1),2,1),祝日!$A$2:$B$65,2,FALSE),""),"") | X5: =IF(DAY(DATE(($C$2+1),3,1))=1,TEXT(DATE(($C$2+1),3,1),"aaa"),"") | Y5: =IF(DAY(DATE(($C$2+1),3,1))=1,IFERROR(VLOOKUP(DATE(($C$2+1),3,1),祝日!$A$2:$B$65,2,FALSE),""),"")
A6: 2 | B6: =IF(DAY(DATE(($C$2+0),4,2))=2,TEXT(DATE(($C$2+0),4,2),"aaa"),"") | C6: =IF(DAY(DATE(($C$2+0),4,2))=2,IFERROR(VLOOKUP(DATE(($C$2+0),4,2),祝日!$A$2:$B$65,2,FALSE),""),"") | D6: =IF(DAY(DATE(($C$2+0),5,2))=2,TEXT(DATE(($C$2+0),5,2),"aaa"),"") | E6: =IF(DAY(DATE(($C$2+0),5,2))=2,IFERROR(VLOOKUP(DATE(($C$2+0),5,2),祝日!$A$2:$B$65,2,FALSE),""),"") | F6: =IF(DAY(DATE(($C$2+0),6,2))=2,TEXT(DATE(($C$2+0),6,2),"aaa"),"") | G6: =IF(DAY(DATE(($C$2+0),6,2))=2,IFERROR(VLOOKUP(DATE(($C$2+0),6,2),祝日!$A$2:$B$65,2,FALSE),""),"") | H6: =IF(DAY(DATE(($C$2+0),7,2))=2,TEXT(DATE(($C$2+0),7,2),"aaa"),"") | I6: =IF(DAY(DATE(($C$2+0),7,2))=2,IFERROR(VLOOKUP(DATE(($C$2+0),7,2),祝日!$A$2:$B$65,2,FALSE),""),"") | J6: =IF(DAY(DATE(($C$2+0),8,2))=2,TEXT(DATE(($C$2+0),8,2),"aaa"),"") | K6: =IF(DAY(DATE(($C$2+0),8,2))=2,IFERROR(VLOOKUP(DATE(($C$2+0),8,2),祝日!$A$2:$B$65,2,FALSE),""),"") | L6: =IF(DAY(DATE(($C$2+0),9,2))=2,TEXT(DATE(($C$2+0),9,2),"aaa"),"") | M6: =IF(DAY(DATE(($C$2+0),9,2))=2,IFERROR(VLOOKUP(DATE(($C$2+0),9,2),祝日!$A$2:$B$65,2,FALSE),""),"") | N6: =IF(DAY(DATE(($C$2+0),10,2))=2,TEXT(DATE(($C$2+0),10,2),"aaa"),"") | O6: =IF(DAY(DATE(($C$2+0),10,2))=2,IFERROR(VLOOKUP(DATE(($C$2+0),10,2),祝日!$A$2:$B$65,2,FALSE),""),"") | P6: =IF(DAY(DATE(($C$2+0),11,2))=2,TEXT(DATE(($C$2+0),11,2),"aaa"),"") | Q6: =IF(DAY(DATE(($C$2+0),11,2))=2,IFERROR(VLOOKUP(DATE(($C$2+0),11,2),祝日!$A$2:$B$65,2,FALSE),""),"") | R6: =IF(DAY(DATE(($C$2+0),12,2))=2,TEXT(DATE(($C$2+0),12,2),"aaa"),"") | S6: =IF(DAY(DATE(($C$2+0),12,2))=2,IFERROR(VLOOKUP(DATE(($C$2+0),12,2),祝日!$A$2:$B$65,2,FALSE),""),"") | T6: =IF(DAY(DATE(($C$2+1),1,2))=2,TEXT(DATE(($C$2+1),1,2),"aaa"),"") | U6: =IF(DAY(DATE(($C$2+1),1,2))=2,IFERROR(VLOOKUP(DATE(($C$2+1),1,2),祝日!$A$2:$B$65,2,FALSE),""),"") | V6: =IF(DAY(DATE(($C$2+1),2,2))=2,TEXT(DATE(($C$2+1),2,2),"aaa"),"") | W6: =IF(DAY(DATE(($C$2+1),2,2))=2,IFERROR(VLOOKUP(DATE(($C$2+1),2,2),祝日!$A$2:$B$65,2,FALSE),""),"") | X6: =IF(DAY(DATE(($C$2+1),3,2))=2,TEXT(DATE(($C$2+1),3,2),"aaa"),"") | Y6: =IF(DAY(DATE(($C$2+1),3,2))=2,IFERROR(VLOOKUP(DATE(($C$2+1),3,2),祝日!$A$2:$B$65,2,FALSE),""),"")
A7: 3 | B7: =IF(DAY(DATE(($C$2+0),4,3))=3,TEXT(DATE(($C$2+0),4,3),"aaa"),"") | C7: =IF(DAY(DATE(($C$2+0),4,3))=3,IFERROR(VLOOKUP(DATE(($C$2+0),4,3),祝日!$A$2:$B$65,2,FALSE),""),"") | D7: =IF(DAY(DATE(($C$2+0),5,3))=3,TEXT(DATE(($C$2+0),5,3),"aaa"),"") | E7: =IF(DAY(DATE(($C$2+0),5,3))=3,IFERROR(VLOOKUP(DATE(($C$2+0),5,3),祝日!$A$2:$B$65,2,FALSE),""),"") | F7: =IF(DAY(DATE(($C$2+0),6,3))=3,TEXT(DATE(($C$2+0),6,3),"aaa"),"") | G7: =IF(DAY(DATE(($C$2+0),6,3))=3,IFERROR(VLOOKUP(DATE(($C$2+0),6,3),祝日!$A$2:$B$65,2,FALSE),""),"") | H7: =IF(DAY(DATE(($C$2+0),7,3))=3,TEXT(DATE(($C$2+0),7,3),"aaa"),"") | I7: =IF(DAY(DATE(($C$2+0),7,3))=3,IFERROR(VLOOKUP(DATE(($C$2+0),7,3),祝日!$A$2:$B$65,2,FALSE),""),"") | J7: =IF(DAY(DATE(($C$2+0),8,3))=3,TEXT(DATE(($C$2+0),8,3),"aaa"),"") | K7: =IF(DAY(DATE(($C$2+0),8,3))=3,IFERROR(VLOOKUP(DATE(($C$2+0),8,3),祝日!$A$2:$B$65,2,FALSE),""),"") | L7: =IF(DAY(DATE(($C$2+0),9,3))=3,TEXT(DATE(($C$2+0),9,3),"aaa"),"") | M7: =IF(DAY(DATE(($C$2+0),9,3))=3,IFERROR(VLOOKUP(DATE(($C$2+0),9,3),祝日!$A$2:$B$65,2,FALSE),""),"") | N7: =IF(DAY(DATE(($C$2+0),10,3))=3,TEXT(DATE(($C$2+0),10,3),"aaa"),"") | O7: =IF(DAY(DATE(($C$2+0),10,3))=3,IFERROR(VLOOKUP(DATE(($C$2+0),10,3),祝日!$A$2:$B$65,2,FALSE),""),"") | P7: =IF(DAY(DATE(($C$2+0),11,3))=3,TEXT(DATE(($C$2+0),11,3),"aaa"),"") | Q7: =IF(DAY(DATE(($C$2+0),11,3))=3,IFERROR(VLOOKUP(DATE(($C$2+0),11,3),祝日!$A$2:$B$65,2,FALSE),""),"") | R7: =IF(DAY(DATE(($C$2+0),12,3))=3,TEXT(DATE(($C$2+0),12,3),"aaa"),"") | S7: =IF(DAY(DATE(($C$2+0),12,3))=3,IFERROR(VLOOKUP(DATE(($C$2+0),12,3),祝日!$A$2:$B$65,2,FALSE),""),"") | T7: =IF(DAY(DATE(($C$2+1),1,3))=3,TEXT(DATE(($C$2+1),1,3),"aaa"),"") | U7: =IF(DAY(DATE(($C$2+1),1,3))=3,IFERROR(VLOOKUP(DATE(($C$2+1),1,3),祝日!$A$2:$B$65,2,FALSE),""),"") | V7: =IF(DAY(DATE(($C$2+1),2,3))=3,TEXT(DATE(($C$2+1),2,3),"aaa"),"") | W7: =IF(DAY(DATE(($C$2+1),2,3))=3,IFERROR(VLOOKUP(DATE(($C$2+1),2,3),祝日!$A$2:$B$65,2,FALSE),""),"") | X7: =IF(DAY(DATE(($C$2+1),3,3))=3,TEXT(DATE(($C$2+1),3,3),"aaa"),"") | Y7: =IF(DAY(DATE(($C$2+1),3,3))=3,IFERROR(VLOOKUP(DATE(($C$2+1),3,3),祝日!$A$2:$B$65,2,FALSE),""),"")
A8: 4 | B8: =IF(DAY(DATE(($C$2+0),4,4))=4,TEXT(DATE(($C$2+0),4,4),"aaa"),"") | C8: =IF(DAY(DATE(($C$2+0),4,4))=4,IFERROR(VLOOKUP(DATE(($C$2+0),4,4),祝日!$A$2:$B$65,2,FALSE),""),"") | D8: =IF(DAY(DATE(($C$2+0),5,4))=4,TEXT(DATE(($C$2+0),5,4),"aaa"),"") | E8: =IF(DAY(DATE(($C$2+0),5,4))=4,IFERROR(VLOOKUP(DATE(($C$2+0),5,4),祝日!$A$2:$B$65,2,FALSE),""),"") | F8: =IF(DAY(DATE(($C$2+0),6,4))=4,TEXT(DATE(($C$2+0),6,4),"aaa"),"") | G8: =IF(DAY(DATE(($C$2+0),6,4))=4,IFERROR(VLOOKUP(DATE(($C$2+0),6,4),祝日!$A$2:$B$65,2,FALSE),""),"") | H8: =IF(DAY(DATE(($C$2+0),7,4))=4,TEXT(DATE(($C$2+0),7,4),"aaa"),"") | I8: =IF(DAY(DATE(($C$2+0),7,4))=4,IFERROR(VLOOKUP(DATE(($C$2+0),7,4),祝日!$A$2:$B$65,2,FALSE),""),"") | J8: =IF(DAY(DATE(($C$2+0),8,4))=4,TEXT(DATE(($C$2+0),8,4),"aaa"),"") | K8: =IF(DAY(DATE(($C$2+0),8,4))=4,IFERROR(VLOOKUP(DATE(($C$2+0),8,4),祝日!$A$2:$B$65,2,FALSE),""),"") | L8: =IF(DAY(DATE(($C$2+0),9,4))=4,TEXT(DATE(($C$2+0),9,4),"aaa"),"") | M8: =IF(DAY(DATE(($C$2+0),9,4))=4,IFERROR(VLOOKUP(DATE(($C$2+0),9,4),祝日!$A$2:$B$65,2,FALSE),""),"") | N8: =IF(DAY(DATE(($C$2+0),10,4))=4,TEXT(DATE(($C$2+0),10,4),"aaa"),"") | O8: =IF(DAY(DATE(($C$2+0),10,4))=4,IFERROR(VLOOKUP(DATE(($C$2+0),10,4),祝日!$A$2:$B$65,2,FALSE),""),"") | P8: =IF(DAY(DATE(($C$2+0),11,4))=4,TEXT(DATE(($C$2+0),11,4),"aaa"),"") | Q8: =IF(DAY(DATE(($C$2+0),11,4))=4,IFERROR(VLOOKUP(DATE(($C$2+0),11,4),祝日!$A$2:$B$65,2,FALSE),""),"") | R8: =IF(DAY(DATE(($C$2+0),12,4))=4,TEXT(DATE(($C$2+0),12,4),"aaa"),"") | S8: =IF(DAY(DATE(($C$2+0),12,4))=4,IFERROR(VLOOKUP(DATE(($C$2+0),12,4),祝日!$A$2:$B$65,2,FALSE),""),"") | T8: =IF(DAY(DATE(($C$2+1),1,4))=4,TEXT(DATE(($C$2+1),1,4),"aaa"),"") | U8: =IF(DAY(DATE(($C$2+1),1,4))=4,IFERROR(VLOOKUP(DATE(($C$2+1),1,4),祝日!$A$2:$B$65,2,FALSE),""),"") | V8: =IF(DAY(DATE(($C$2+1),2,4))=4,TEXT(DATE(($C$2+1),2,4),"aaa"),"") | W8: =IF(DAY(DATE(($C$2+1),2,4))=4,IFERROR(VLOOKUP(DATE(($C$2+1),2,4),祝日!$A$2:$B$65,2,FALSE),""),"") | X8: =IF(DAY(DATE(($C$2+1),3,4))=4,TEXT(DATE(($C$2+1),3,4),"aaa"),"") | Y8: =IF(DAY(DATE(($C$2+1),3,4))=4,IFERROR(VLOOKUP(DATE(($C$2+1),3,4),祝日!$A$2:$B$65,2,FALSE),""),"")
A9: 5 | B9: =IF(DAY(DATE(($C$2+0),4,5))=5,TEXT(DATE(($C$2+0),4,5),"aaa"),"") | C9: =IF(DAY(DATE(($C$2+0),4,5))=5,IFERROR(VLOOKUP(DATE(($C$2+0),4,5),祝日!$A$2:$B$65,2,FALSE),""),"") | D9: =IF(DAY(DATE(($C$2+0),5,5))=5,TEXT(DATE(($C$2+0),5,5),"aaa"),"") | E9: =IF(DAY(DATE(($C$2+0),5,5))=5,IFERROR(VLOOKUP(DATE(($C$2+0),5,5),祝日!$A$2:$B$65,2,FALSE),""),"") | F9: =IF(DAY(DATE(($C$2+0),6,5))=5,TEXT(DATE(($C$2+0),6,5),"aaa"),"") | G9: =IF(DAY(DATE(($C$2+0),6,5))=5,IFERROR(VLOOKUP(DATE(($C$2+0),6,5),祝日!$A$2:$B$65,2,FALSE),""),"") | H9: =IF(DAY(DATE(($C$2+0),7,5))=5,TEXT(DATE(($C$2+0),7,5),"aaa"),"") | I9: =IF(DAY(DATE(($C$2+0),7,5))=5,IFERROR(VLOOKUP(DATE(($C$2+0),7,5),祝日!$A$2:$B$65,2,FALSE),""),"") | J9: =IF(DAY(DATE(($C$2+0),8,5))=5,TEXT(DATE(($C$2+0),8,5),"aaa"),"") | K9: =IF(DAY(DATE(($C$2+0),8,5))=5,IFERROR(VLOOKUP(DATE(($C$2+0),8,5),祝日!$A$2:$B$65,2,FALSE),""),"") | L9: =IF(DAY(DATE(($C$2+0),9,5))=5,TEXT(DATE(($C$2+0),9,5),"aaa"),"") | M9: =IF(DAY(DATE(($C$2+0),9,5))=5,IFERROR(VLOOKUP(DATE(($C$2+0),9,5),祝日!$A$2:$B$65,2,FALSE),""),"") | N9: =IF(DAY(DATE(($C$2+0),10,5))=5,TEXT(DATE(($C$2+0),10,5),"aaa"),"") | O9: =IF(DAY(DATE(($C$2+0),10,5))=5,IFERROR(VLOOKUP(DATE(($C$2+0),10,5),祝日!$A$2:$B$65,2,FALSE),""),"") | P9: =IF(DAY(DATE(($C$2+0),11,5))=5,TEXT(DATE(($C$2+0),11,5),"aaa"),"") | Q9: =IF(DAY(DATE(($C$2+0),11,5))=5,IFERROR(VLOOKUP(DATE(($C$2+0),11,5),祝日!$A$2:$B$65,2,FALSE),""),"") | R9: =IF(DAY(DATE(($C$2+0),12,5))=5,TEXT(DATE(($C$2+0),12,5),"aaa"),"") | S9: =IF(DAY(DATE(($C$2+0),12,5))=5,IFERROR(VLOOKUP(DATE(($C$2+0),12,5),祝日!$A$2:$B$65,2,FALSE),""),"") | T9: =IF(DAY(DATE(($C$2+1),1,5))=5,TEXT(DATE(($C$2+1),1,5),"aaa"),"") | U9: =IF(DAY(DATE(($C$2+1),1,5))=5,IFERROR(VLOOKUP(DATE(($C$2+1),1,5),祝日!$A$2:$B$65,2,FALSE),""),"") | V9: =IF(DAY(DATE(($C$2+1),2,5))=5,TEXT(DATE(($C$2+1),2,5),"aaa"),"") | W9: 参観日 | X9: =IF(DAY(DATE(($C$2+1),3,5))=5,TEXT(DATE(($C$2+1),3,5),"aaa"),"") | Y9: =IF(DAY(DATE(($C$2+1),3,5))=5,IFERROR(VLOOKUP(DATE(($C$2+1),3,5),祝日!$A$2:$B$65,2,FALSE),""),"")
A10: 6 | B10: =IF(DAY(DATE(($C$2+0),4,6))=6,TEXT(DATE(($C$2+0),4,6),"aaa"),"") | C10: 始業式 | D10: =IF(DAY(DATE(($C$2+0),5,6))=6,TEXT(DATE(($C$2+0),5,6),"aaa"),"") | E10: =IF(DAY(DATE(($C$2+0),5,6))=6,IFERROR(VLOOKUP(DATE(($C$2+0),5,6),祝日!$A$2:$B$65,2,FALSE),""),"") | F10: =IF(DAY(DATE(($C$2+0),6,6))=6,TEXT(DATE(($C$2+0),6,6),"aaa"),"") | G10: =IF(DAY(DATE(($C$2+0),6,6))=6,IFERROR(VLOOKUP(DATE(($C$2+0),6,6),祝日!$A$2:$B$65,2,FALSE),""),"") | H10: =IF(DAY(DATE(($C$2+0),7,6))=6,TEXT(DATE(($C$2+0),7,6),"aaa"),"") | I10: =IF(DAY(DATE(($C$2+0),7,6))=6,IFERROR(VLOOKUP(DATE(($C$2+0),7,6),祝日!$A$2:$B$65,2,FALSE),""),"") | J10: =IF(DAY(DATE(($C$2+0),8,6))=6,TEXT(DATE(($C$2+0),8,6),"aaa"),"") | K10: =IF(DAY(DATE(($C$2+0),8,6))=6,IFERROR(VLOOKUP(DATE(($C$2+0),8,6),祝日!$A$2:$B$65,2,FALSE),""),"") | L10: =IF(DAY(DATE(($C$2+0),9,6))=6,TEXT(DATE(($C$2+0),9,6),"aaa"),"") | M10: =IF(DAY(DATE(($C$2+0),9,6))=6,IFERROR(VLOOKUP(DATE(($C$2+0),9,6),祝日!$A$2:$B$65,2,FALSE),""),"") | N10: =IF(DAY(DATE(($C$2+0),10,6))=6,TEXT(DATE(($C$2+0),10,6),"aaa"),"") | O10: =IF(DAY(DATE(($C$2+0),10,6))=6,IFERROR(VLOOKUP(DATE(($C$2+0),10,6),祝日!$A$2:$B$65,2,FALSE),""),"") | P10: =IF(DAY(DATE(($C$2+0),11,6))=6,TEXT(DATE(($C$2+0),11,6),"aaa"),"") | Q10: 学習発表会 | R10: =IF(DAY(DATE(($C$2+0),12,6))=6,TEXT(DATE(($C$2+0),12,6),"aaa"),"") | S10: =IF(DAY(DATE(($C$2+0),12,6))=6,IFERROR(VLOOKUP(DATE(($C$2+0),12,6),祝日!$A$2:$B$65,2,FALSE),""),"") | T10: =IF(DAY(DATE(($C$2+1),1,6))=6,TEXT(DATE(($C$2+1),1,6),"aaa"),"") | U10: =IF(DAY(DATE(($C$2+1),1,6))=6,IFERROR(VLOOKUP(DATE(($C$2+1),1,6),祝日!$A$2:$B$65,2,FALSE),""),"") | V10: =IF(DAY(DATE(($C$2+1),2,6))=6,TEXT(DATE(($C$2+1),2,6),"aaa"),"") | W10: =IF(DAY(DATE(($C$2+1),2,6))=6,IFERROR(VLOOKUP(DATE(($C$2+1),2,6),祝日!$A$2:$B$65,2,FALSE),""),"") | X10: =IF(DAY(DATE(($C$2+1),3,6))=6,TEXT(DATE(($C$2+1),3,6),"aaa"),"") | Y10: =IF(DAY(DATE(($C$2+1),3,6))=6,IFERROR(VLOOKUP(DATE(($C$2+1),3,6),祝日!$A$2:$B$65,2,FALSE),""),"")
A11: 7 | B11: =IF(DAY(DATE(($C$2+0),4,7))=7,TEXT(DATE(($C$2+0),4,7),"aaa"),"") | C11: 入学式 | D11: =IF(DAY(DATE(($C$2+0),5,7))=7,TEXT(DATE(($C$2+0),5,7),"aaa"),"") | E11: =IF(DAY(DATE(($C$2+0),5,7))=7,IFERROR(VLOOKUP(DATE(($C$2+0),5,7),祝日!$A$2:$B$65,2,FALSE),""),"") | F11: =IF(DAY(DATE(($C$2+0),6,7))=7,TEXT(DATE(($C$2+0),6,7),"aaa"),"") | G11: =IF(DAY(DATE(($C$2+0),6,7))=7,IFERROR(VLOOKUP(DATE(($C$2+0),6,7),祝日!$A$2:$B$65,2,FALSE),""),"") | H11: =IF(DAY(DATE(($C$2+0),7,7))=7,TEXT(DATE(($C$2+0),7,7),"aaa"),"") | I11: =IF(DAY(DATE(($C$2+0),7,7))=7,IFERROR(VLOOKUP(DATE(($C$2+0),7,7),祝日!$A$2:$B$65,2,FALSE),""),"") | J11: =IF(DAY(DATE(($C$2+0),8,7))=7,TEXT(DATE(($C$2+0),8,7),"aaa"),"") | K11: =IF(DAY(DATE(($C$2+0),8,7))=7,IFERROR(VLOOKUP(DATE(($C$2+0),8,7),祝日!$A$2:$B$65,2,FALSE),""),"") | L11: =IF(DAY(DATE(($C$2+0),9,7))=7,TEXT(DATE(($C$2+0),9,7),"aaa"),"") | M11: =IF(DAY(DATE(($C$2+0),9,7))=7,IFERROR(VLOOKUP(DATE(($C$2+0),9,7),祝日!$A$2:$B$65,2,FALSE),""),"") | N11: =IF(DAY(DATE(($C$2+0),10,7))=7,TEXT(DATE(($C$2+0),10,7),"aaa"),"") | O11: =IF(DAY(DATE(($C$2+0),10,7))=7,IFERROR(VLOOKUP(DATE(($C$2+0),10,7),祝日!$A$2:$B$65,2,FALSE),""),"") | P11: =IF(DAY(DATE(($C$2+0),11,7))=7,TEXT(DATE(($C$2+0),11,7),"aaa"),"") | Q11: =IF(DAY(DATE(($C$2+0),11,7))=7,IFERROR(VLOOKUP(DATE(($C$2+0),11,7),祝日!$A$2:$B$65,2,FALSE),""),"") | R11: =IF(DAY(DATE(($C$2+0),12,7))=7,TEXT(DATE(($C$2+0),12,7),"aaa"),"") | S11: =IF(DAY(DATE(($C$2+0),12,7))=7,IFERROR(VLOOKUP(DATE(($C$2+0),12,7),祝日!$A$2:$B$65,2,FALSE),""),"") | T11: =IF(DAY(DATE(($C$2+1),1,7))=7,TEXT(DATE(($C$2+1),1,7),"aaa"),"") | U11: 始業式 | V11: =IF(DAY(DATE(($C$2+1),2,7))=7,TEXT(DATE(($C$2+1),2,7),"aaa"),"") | W11: =IF(DAY(DATE(($C$2+1),2,7))=7,IFERROR(VLOOKUP(DATE(($C$2+1),2,7),祝日!$A$2:$B$65,2,FALSE),""),"") | X11: =IF(DAY(DATE(($C$2+1),3,7))=7,TEXT(DATE(($C$2+1),3,7),"aaa"),"") | Y11: =IF(DAY(DATE(($C$2+1),3,7))=7,IFERROR(VLOOKUP(DATE(($C$2+1),3,7),祝日!$A$2:$B$65,2,FALSE),""),"")
A12: 8 | B12: =IF(DAY(DATE(($C$2+0),4,8))=8,TEXT(DATE(($C$2+0),4,8),"aaa"),"") | C12: =IF(DAY(DATE(($C$2+0),4,8))=8,IFERROR(VLOOKUP(DATE(($C$2+0),4,8),祝日!$A$2:$B$65,2,FALSE),""),"") | D12: =IF(DAY(DATE(($C$2+0),5,8))=8,TEXT(DATE(($C$2+0),5,8),"aaa"),"") | E12: =IF(DAY(DATE(($C$2+0),5,8))=8,IFERROR(VLOOKUP(DATE(($C$2+0),5,8),祝日!$A$2:$B$65,2,FALSE),""),"") | F12: =IF(DAY(DATE(($C$2+0),6,8))=8,TEXT(DATE(($C$2+0),6,8),"aaa"),"") | G12: =IF(DAY(DATE(($C$2+0),6,8))=8,IFERROR(VLOOKUP(DATE(($C$2+0),6,8),祝日!$A$2:$B$65,2,FALSE),""),"") | H12: =IF(DAY(DATE(($C$2+0),7,8))=8,TEXT(DATE(($C$2+0),7,8),"aaa"),"") | I12: =IF(DAY(DATE(($C$2+0),7,8))=8,IFERROR(VLOOKUP(DATE(($C$2+0),7,8),祝日!$A$2:$B$65,2,FALSE),""),"") | J12: =IF(DAY(DATE(($C$2+0),8,8))=8,TEXT(DATE(($C$2+0),8,8),"aaa"),"") | K12: =IF(DAY(DATE(($C$2+0),8,8))=8,IFERROR(VLOOKUP(DATE(($C$2+0),8,8),祝日!$A$2:$B$65,2,FALSE),""),"") | L12: =IF(DAY(DATE(($C$2+0),9,8))=8,TEXT(DATE(($C$2+0),9,8),"aaa"),"") | M12: =IF(DAY(DATE(($C$2+0),9,8))=8,IFERROR(VLOOKUP(DATE(($C$2+0),9,8),祝日!$A$2:$B$65,2,FALSE),""),"") | N12: =IF(DAY(DATE(($C$2+0),10,8))=8,TEXT(DATE(($C$2+0),10,8),"aaa"),"") | O12: =IF(DAY(DATE(($C$2+0),10,8))=8,IFERROR(VLOOKUP(DATE(($C$2+0),10,8),祝日!$A$2:$B$65,2,FALSE),""),"") | P12: =IF(DAY(DATE(($C$2+0),11,8))=8,TEXT(DATE(($C$2+0),11,8),"aaa"),"") | Q12: =IF(DAY(DATE(($C$2+0),11,8))=8,IFERROR(VLOOKUP(DATE(($C$2+0),11,8),祝日!$A$2:$B$65,2,FALSE),""),"") | R12: =IF(DAY(DATE(($C$2+0),12,8))=8,TEXT(DATE(($C$2+0),12,8),"aaa"),"") | S12: =IF(DAY(DATE(($C$2+0),12,8))=8,IFERROR(VLOOKUP(DATE(($C$2+0),12,8),祝日!$A$2:$B$65,2,FALSE),""),"") | T12: =IF(DAY(DATE(($C$2+1),1,8))=8,TEXT(DATE(($C$2+1),1,8),"aaa"),"") | U12: =IF(DAY(DATE(($C$2+1),1,8))=8,IFERROR(VLOOKUP(DATE(($C$2+1),1,8),祝日!$A$2:$B$65,2,FALSE),""),"") | V12: =IF(DAY(DATE(($C$2+1),2,8))=8,TEXT(DATE(($C$2+1),2,8),"aaa"),"") | W12: =IF(DAY(DATE(($C$2+1),2,8))=8,IFERROR(VLOOKUP(DATE(($C$2+1),2,8),祝日!$A$2:$B$65,2,FALSE),""),"") | X12: =IF(DAY(DATE(($C$2+1),3,8))=8,TEXT(DATE(($C$2+1),3,8),"aaa"),"") | Y12: =IF(DAY(DATE(($C$2+1),3,8))=8,IFERROR(VLOOKUP(DATE(($C$2+1),3,8),祝日!$A$2:$B$65,2,FALSE),""),"")
A13: 9 | B13: =IF(DAY(DATE(($C$2+0),4,9))=9,TEXT(DATE(($C$2+0),4,9),"aaa"),"") | C13: =IF(DAY(DATE(($C$2+0),4,9))=9,IFERROR(VLOOKUP(DATE(($C$2+0),4,9),祝日!$A$2:$B$65,2,FALSE),""),"") | D13: =IF(DAY(DATE(($C$2+0),5,9))=9,TEXT(DATE(($C$2+0),5,9),"aaa"),"") | E13: =IF(DAY(DATE(($C$2+0),5,9))=9,IFERROR(VLOOKUP(DATE(($C$2+0),5,9),祝日!$A$2:$B$65,2,FALSE),""),"") | F13: =IF(DAY(DATE(($C$2+0),6,9))=9,TEXT(DATE(($C$2+0),6,9),"aaa"),"") | G13: =IF(DAY(DATE(($C$2+0),6,9))=9,IFERROR(VLOOKUP(DATE(($C$2+0),6,9),祝日!$A$2:$B$65,2,FALSE),""),"") | H13: =IF(DAY(DATE(($C$2+0),7,9))=9,TEXT(DATE(($C$2+0),7,9),"aaa"),"") | I13: =IF(DAY(DATE(($C$2+0),7,9))=9,IFERROR(VLOOKUP(DATE(($C$2+0),7,9),祝日!$A$2:$B$65,2,FALSE),""),"") | J13: =IF(DAY(DATE(($C$2+0),8,9))=9,TEXT(DATE(($C$2+0),8,9),"aaa"),"") | K13: =IF(DAY(DATE(($C$2+0),8,9))=9,IFERROR(VLOOKUP(DATE(($C$2+0),8,9),祝日!$A$2:$B$65,2,FALSE),""),"") | L13: =IF(DAY(DATE(($C$2+0),9,9))=9,TEXT(DATE(($C$2+0),9,9),"aaa"),"") | M13: =IF(DAY(DATE(($C$2+0),9,9))=9,IFERROR(VLOOKUP(DATE(($C$2+0),9,9),祝日!$A$2:$B$65,2,FALSE),""),"") | N13: =IF(DAY(DATE(($C$2+0),10,9))=9,TEXT(DATE(($C$2+0),10,9),"aaa"),"") | O13: =IF(DAY(DATE(($C$2+0),10,9))=9,IFERROR(VLOOKUP(DATE(($C$2+0),10,9),祝日!$A$2:$B$65,2,FALSE),""),"") | P13: =IF(DAY(DATE(($C$2+0),11,9))=9,TEXT(DATE(($C$2+0),11,9),"aaa"),"") | Q13: =IF(DAY(DATE(($C$2+0),11,9))=9,IFERROR(VLOOKUP(DATE(($C$2+0),11,9),祝日!$A$2:$B$65,2,FALSE),""),"") | R13: =IF(DAY(DATE(($C$2+0),12,9))=9,TEXT(DATE(($C$2+0),12,9),"aaa"),"") | S13: =IF(DAY(DATE(($C$2+0),12,9))=9,IFERROR(VLOOKUP(DATE(($C$2+0),12,9),祝日!$A$2:$B$65,2,FALSE),""),"") | T13: =IF(DAY(DATE(($C$2+1),1,9))=9,TEXT(DATE(($C$2+1),1,9),"aaa"),"") | U13: =IF(DAY(DATE(($C$2+1),1,9))=9,IFERROR(VLOOKUP(DATE(($C$2+1),1,9),祝日!$A$2:$B$65,2,FALSE),""),"") | V13: =IF(DAY(DATE(($C$2+1),2,9))=9,TEXT(DATE(($C$2+1),2,9),"aaa"),"") | W13: =IF(DAY(DATE(($C$2+1),2,9))=9,IFERROR(VLOOKUP(DATE(($C$2+1),2,9),祝日!$A$2:$B$65,2,FALSE),""),"") | X13: =IF(DAY(DATE(($C$2+1),3,9))=9,TEXT(DATE(($C$2+1),3,9),"aaa"),"") | Y13: =IF(DAY(DATE(($C$2+1),3,9))=9,IFERROR(VLOOKUP(DATE(($C$2+1),3,9),祝日!$A$2:$B$65,2,FALSE),""),"")
A14: 10 | B14: =IF(DAY(DATE(($C$2+0),4,10))=10,TEXT(DATE(($C$2+0),4,10),"aaa"),"") | C14: =IF(DAY(DATE(($C$2+0),4,10))=10,IFERROR(VLOOKUP(DATE(($C$2+0),4,10),祝日!$A$2:$B$65,2,FALSE),""),"") | D14: =IF(DAY(DATE(($C$2+0),5,10))=10,TEXT(DATE(($C$2+0),5,10),"aaa"),"") | E14: =IF(DAY(DATE(($C$2+0),5,10))=10,IFERROR(VLOOKUP(DATE(($C$2+0),5,10),祝日!$A$2:$B$65,2,FALSE),""),"") | F14: =IF(DAY(DATE(($C$2+0),6,10))=10,TEXT(DATE(($C$2+0),6,10),"aaa"),"") | G14: プール開き | H14: =IF(DAY(DATE(($C$2+0),7,10))=10,TEXT(DATE(($C$2+0),7,10),"aaa"),"") | I14: =IF(DAY(DATE(($C$2+0),7,10))=10,IFERROR(VLOOKUP(DATE(($C$2+0),7,10),祝日!$A$2:$B$65,2,FALSE),""),"") | J14: =IF(DAY(DATE(($C$2+0),8,10))=10,TEXT(DATE(($C$2+0),8,10),"aaa"),"") | K14: =IF(DAY(DATE(($C$2+0),8,10))=10,IFERROR(VLOOKUP(DATE(($C$2+0),8,10),祝日!$A$2:$B$65,2,FALSE),""),"") | L14: =IF(DAY(DATE(($C$2+0),9,10))=10,TEXT(DATE(($C$2+0),9,10),"aaa"),"") | M14: =IF(DAY(DATE(($C$2+0),9,10))=10,IFERROR(VLOOKUP(DATE(($C$2+0),9,10),祝日!$A$2:$B$65,2,FALSE),""),"") | N14: =IF(DAY(DATE(($C$2+0),10,10))=10,TEXT(DATE(($C$2+0),10,10),"aaa"),"") | O14: =IF(DAY(DATE(($C$2+0),10,10))=10,IFERROR(VLOOKUP(DATE(($C$2+0),10,10),祝日!$A$2:$B$65,2,FALSE),""),"") | P14: =IF(DAY(DATE(($C$2+0),11,10))=10,TEXT(DATE(($C$2+0),11,10),"aaa"),"") | Q14: =IF(DAY(DATE(($C$2+0),11,10))=10,IFERROR(VLOOKUP(DATE(($C$2+0),11,10),祝日!$A$2:$B$65,2,FALSE),""),"") | R14: =IF(DAY(DATE(($C$2+0),12,10))=10,TEXT(DATE(($C$2+0),12,10),"aaa"),"") | S14: =IF(DAY(DATE(($C$2+0),12,10))=10,IFERROR(VLOOKUP(DATE(($C$2+0),12,10),祝日!$A$2:$B$65,2,FALSE),""),"") | T14: =IF(DAY(DATE(($C$2+1),1,10))=10,TEXT(DATE(($C$2+1),1,10),"aaa"),"") | U14: =IF(DAY(DATE(($C$2+1),1,10))=10,IFERROR(VLOOKUP(DATE(($C$2+1),1,10),祝日!$A$2:$B$65,2,FALSE),""),"") | V14: =IF(DAY(DATE(($C$2+1),2,10))=10,TEXT(DATE(($C$2+1),2,10),"aaa"),"") | W14: =IF(DAY(DATE(($C$2+1),2,10))=10,IFERROR(VLOOKUP(DATE(($C$2+1),2,10),祝日!$A$2:$B$65,2,FALSE),""),"") | X14: =IF(DAY(DATE(($C$2+1),3,10))=10,TEXT(DATE(($C$2+1),3,10),"aaa"),"") | Y14: =IF(DAY(DATE(($C$2+1),3,10))=10,IFERROR(VLOOKUP(DATE(($C$2+1),3,10),祝日!$A$2:$B$65,2,FALSE),""),"")
A15: 11 | B15: =IF(DAY(DATE(($C$2+0),4,11))=11,TEXT(DATE(($C$2+0),4,11),"aaa"),"") | C15: =IF(DAY(DATE(($C$2+0),4,11))=11,IFERROR(VLOOKUP(DATE(($C$2+0),4,11),祝日!$A$2:$B$65,2,FALSE),""),"") | D15: =IF(DAY(DATE(($C$2+0),5,11))=11,TEXT(DATE(($C$2+0),5,11),"aaa"),"") | E15: =IF(DAY(DATE(($C$2+0),5,11))=11,IFERROR(VLOOKUP(DATE(($C$2+0),5,11),祝日!$A$2:$B$65,2,FALSE),""),"") | F15: =IF(DAY(DATE(($C$2+0),6,11))=11,TEXT(DATE(($C$2+0),6,11),"aaa"),"") | G15: =IF(DAY(DATE(($C$2+0),6,11))=11,IFERROR(VLOOKUP(DATE(($C$2+0),6,11),祝日!$A$2:$B$65,2,FALSE),""),"") | H15: =IF(DAY(DATE(($C$2+0),7,11))=11,TEXT(DATE(($C$2+0),7,11),"aaa"),"") | I15: =IF(DAY(DATE(($C$2+0),7,11))=11,IFERROR(VLOOKUP(DATE(($C$2+0),7,11),祝日!$A$2:$B$65,2,FALSE),""),"") | J15: =IF(DAY(DATE(($C$2+0),8,11))=11,TEXT(DATE(($C$2+0),8,11),"aaa"),"") | K15: =IF(DAY(DATE(($C$2+0),8,11))=11,IFERROR(VLOOKUP(DATE(($C$2+0),8,11),祝日!$A$2:$B$65,2,FALSE),""),"") | L15: =IF(DAY(DATE(($C$2+0),9,11))=11,TEXT(DATE(($C$2+0),9,11),"aaa"),"") | M15: 避難訓練 | N15: =IF(DAY(DATE(($C$2+0),10,11))=11,TEXT(DATE(($C$2+0),10,11),"aaa"),"") | O15: =IF(DAY(DATE(($C$2+0),10,11))=11,IFERROR(VLOOKUP(DATE(($C$2+0),10,11),祝日!$A$2:$B$65,2,FALSE),""),"") | P15: =IF(DAY(DATE(($C$2+0),11,11))=11,TEXT(DATE(($C$2+0),11,11),"aaa"),"") | Q15: =IF(DAY(DATE(($C$2+0),11,11))=11,IFERROR(VLOOKUP(DATE(($C$2+0),11,11),祝日!$A$2:$B$65,2,FALSE),""),"") | R15: =IF(DAY(DATE(($C$2+0),12,11))=11,TEXT(DATE(($C$2+0),12,11),"aaa"),"") | S15: =IF(DAY(DATE(($C$2+0),12,11))=11,IFERROR(VLOOKUP(DATE(($C$2+0),12,11),祝日!$A$2:$B$65,2,FALSE),""),"") | T15: =IF(DAY(DATE(($C$2+1),1,11))=11,TEXT(DATE(($C$2+1),1,11),"aaa"),"") | U15: =IF(DAY(DATE(($C$2+1),1,11))=11,IFERROR(VLOOKUP(DATE(($C$2+1),1,11),祝日!$A$2:$B$65,2,FALSE),""),"") | V15: =IF(DAY(DATE(($C$2+1),2,11))=11,TEXT(DATE(($C$2+1),2,11),"aaa"),"") | W15: =IF(DAY(DATE(($C$2+1),2,11))=11,IFERROR(VLOOKUP(DATE(($C$2+1),2,11),祝日!$A$2:$B$65,2,FALSE),""),"") | X15: =IF(DAY(DATE(($C$2+1),3,11))=11,TEXT(DATE(($C$2+1),3,11),"aaa"),"") | Y15: =IF(DAY(DATE(($C$2+1),3,11))=11,IFERROR(VLOOKUP(DATE(($C$2+1),3,11),祝日!$A$2:$B$65,2,FALSE),""),"")
A16: 12 | B16: =IF(DAY(DATE(($C$2+0),4,12))=12,TEXT(DATE(($C$2+0),4,12),"aaa"),"") | C16: =IF(DAY(DATE(($C$2+0),4,12))=12,IFERROR(VLOOKUP(DATE(($C$2+0),4,12),祝日!$A$2:$B$65,2,FALSE),""),"") | D16: =IF(DAY(DATE(($C$2+0),5,12))=12,TEXT(DATE(($C$2+0),5,12),"aaa"),"") | E16: =IF(DAY(DATE(($C$2+0),5,12))=12,IFERROR(VLOOKUP(DATE(($C$2+0),5,12),祝日!$A$2:$B$65,2,FALSE),""),"") | F16: =IF(DAY(DATE(($C$2+0),6,12))=12,TEXT(DATE(($C$2+0),6,12),"aaa"),"") | G16: =IF(DAY(DATE(($C$2+0),6,12))=12,IFERROR(VLOOKUP(DATE(($C$2+0),6,12),祝日!$A$2:$B$65,2,FALSE),""),"") | H16: =IF(DAY(DATE(($C$2+0),7,12))=12,TEXT(DATE(($C$2+0),7,12),"aaa"),"") | I16: =IF(DAY(DATE(($C$2+0),7,12))=12,IFERROR(VLOOKUP(DATE(($C$2+0),7,12),祝日!$A$2:$B$65,2,FALSE),""),"") | J16: =IF(DAY(DATE(($C$2+0),8,12))=12,TEXT(DATE(($C$2+0),8,12),"aaa"),"") | K16: =IF(DAY(DATE(($C$2+0),8,12))=12,IFERROR(VLOOKUP(DATE(($C$2+0),8,12),祝日!$A$2:$B$65,2,FALSE),""),"") | L16: =IF(DAY(DATE(($C$2+0),9,12))=12,TEXT(DATE(($C$2+0),9,12),"aaa"),"") | M16: =IF(DAY(DATE(($C$2+0),9,12))=12,IFERROR(VLOOKUP(DATE(($C$2+0),9,12),祝日!$A$2:$B$65,2,FALSE),""),"") | N16: =IF(DAY(DATE(($C$2+0),10,12))=12,TEXT(DATE(($C$2+0),10,12),"aaa"),"") | O16: =IF(DAY(DATE(($C$2+0),10,12))=12,IFERROR(VLOOKUP(DATE(($C$2+0),10,12),祝日!$A$2:$B$65,2,FALSE),""),"") | P16: =IF(DAY(DATE(($C$2+0),11,12))=12,TEXT(DATE(($C$2+0),11,12),"aaa"),"") | Q16: =IF(DAY(DATE(($C$2+0),11,12))=12,IFERROR(VLOOKUP(DATE(($C$2+0),11,12),祝日!$A$2:$B$65,2,FALSE),""),"") | R16: =IF(DAY(DATE(($C$2+0),12,12))=12,TEXT(DATE(($C$2+0),12,12),"aaa"),"") | S16: =IF(DAY(DATE(($C$2+0),12,12))=12,IFERROR(VLOOKUP(DATE(($C$2+0),12,12),祝日!$A$2:$B$65,2,FALSE),""),"") | T16: =IF(DAY(DATE(($C$2+1),1,12))=12,TEXT(DATE(($C$2+1),1,12),"aaa"),"") | U16: =IF(DAY(DATE(($C$2+1),1,12))=12,IFERROR(VLOOKUP(DATE(($C$2+1),1,12),祝日!$A$2:$B$65,2,FALSE),""),"") | V16: =IF(DAY(DATE(($C$2+1),2,12))=12,TEXT(DATE(($C$2+1),2,12),"aaa"),"") | W16: =IF(DAY(DATE(($C$2+1),2,12))=12,IFERROR(VLOOKUP(DATE(($C$2+1),2,12),祝日!$A$2:$B$65,2,FALSE),""),"") | X16: =IF(DAY(DATE(($C$2+1),3,12))=12,TEXT(DATE(($C$2+1),3,12),"aaa"),"") | Y16: =IF(DAY(DATE(($C$2+1),3,12))=12,IFERROR(VLOOKUP(DATE(($C$2+1),3,12),祝日!$A$2:$B$65,2,FALSE),""),"")
A17: 13 | B17: =IF(DAY(DATE(($C$2+0),4,13))=13,TEXT(DATE(($C$2+0),4,13),"aaa"),"") | C17: =IF(DAY(DATE(($C$2+0),4,13))=13,IFERROR(VLOOKUP(DATE(($C$2+0),4,13),祝日!$A$2:$B$65,2,FALSE),""),"") | D17: =IF(DAY(DATE(($C$2+0),5,13))=13,TEXT(DATE(($C$2+0),5,13),"aaa"),"") | E17: =IF(DAY(DATE(($C$2+0),5,13))=13,IFERROR(VLOOKUP(DATE(($C$2+0),5,13),祝日!$A$2:$B$65,2,FALSE),""),"") | F17: =IF(DAY(DATE(($C$2+0),6,13))=13,TEXT(DATE(($C$2+0),6,13),"aaa"),"") | G17: =IF(DAY(DATE(($C$2+0),6,13))=13,IFERROR(VLOOKUP(DATE(($C$2+0),6,13),祝日!$A$2:$B$65,2,FALSE),""),"") | H17: =IF(DAY(DATE(($C$2+0),7,13))=13,TEXT(DATE(($C$2+0),7,13),"aaa"),"") | I17: =IF(DAY(DATE(($C$2+0),7,13))=13,IFERROR(VLOOKUP(DATE(($C$2+0),7,13),祝日!$A$2:$B$65,2,FALSE),""),"") | J17: =IF(DAY(DATE(($C$2+0),8,13))=13,TEXT(DATE(($C$2+0),8,13),"aaa"),"") | K17: =IF(DAY(DATE(($C$2+0),8,13))=13,IFERROR(VLOOKUP(DATE(($C$2+0),8,13),祝日!$A$2:$B$65,2,FALSE),""),"") | L17: =IF(DAY(DATE(($C$2+0),9,13))=13,TEXT(DATE(($C$2+0),9,13),"aaa"),"") | M17: =IF(DAY(DATE(($C$2+0),9,13))=13,IFERROR(VLOOKUP(DATE(($C$2+0),9,13),祝日!$A$2:$B$65,2,FALSE),""),"") | N17: =IF(DAY(DATE(($C$2+0),10,13))=13,TEXT(DATE(($C$2+0),10,13),"aaa"),"") | O17: =IF(DAY(DATE(($C$2+0),10,13))=13,IFERROR(VLOOKUP(DATE(($C$2+0),10,13),祝日!$A$2:$B$65,2,FALSE),""),"") | P17: =IF(DAY(DATE(($C$2+0),11,13))=13,TEXT(DATE(($C$2+0),11,13),"aaa"),"") | Q17: =IF(DAY(DATE(($C$2+0),11,13))=13,IFERROR(VLOOKUP(DATE(($C$2+0),11,13),祝日!$A$2:$B$65,2,FALSE),""),"") | R17: =IF(DAY(DATE(($C$2+0),12,13))=13,TEXT(DATE(($C$2+0),12,13),"aaa"),"") | S17: =IF(DAY(DATE(($C$2+0),12,13))=13,IFERROR(VLOOKUP(DATE(($C$2+0),12,13),祝日!$A$2:$B$65,2,FALSE),""),"") | T17: =IF(DAY(DATE(($C$2+1),1,13))=13,TEXT(DATE(($C$2+1),1,13),"aaa"),"") | U17: =IF(DAY(DATE(($C$2+1),1,13))=13,IFERROR(VLOOKUP(DATE(($C$2+1),1,13),祝日!$A$2:$B$65,2,FALSE),""),"") | V17: =IF(DAY(DATE(($C$2+1),2,13))=13,TEXT(DATE(($C$2+1),2,13),"aaa"),"") | W17: =IF(DAY(DATE(($C$2+1),2,13))=13,IFERROR(VLOOKUP(DATE(($C$2+1),2,13),祝日!$A$2:$B$65,2,FALSE),""),"") | X17: =IF(DAY(DATE(($C$2+1),3,13))=13,TEXT(DATE(($C$2+1),3,13),"aaa"),"") | Y17: =IF(DAY(DATE(($C$2+1),3,13))=13,IFERROR(VLOOKUP(DATE(($C$2+1),3,13),祝日!$A$2:$B$65,2,FALSE),""),"")
A18: 14 | B18: =IF(DAY(DATE(($C$2+0),4,14))=14,TEXT(DATE(($C$2+0),4,14),"aaa"),"") | C18: =IF(DAY(DATE(($C$2+0),4,14))=14,IFERROR(VLOOKUP(DATE(($C$2+0),4,14),祝日!$A$2:$B$65,2,FALSE),""),"") | D18: =IF(DAY(DATE(($C$2+0),5,14))=14,TEXT(DATE(($C$2+0),5,14),"aaa"),"") | E18: =IF(DAY(DATE(($C$2+0),5,14))=14,IFERROR(VLOOKUP(DATE(($C$2+0),5,14),祝日!$A$2:$B$65,2,FALSE),""),"") | F18: =IF(DAY(DATE(($C$2+0),6,14))=14,TEXT(DATE(($C$2+0),6,14),"aaa"),"") | G18: =IF(DAY(DATE(($C$2+0),6,14))=14,IFERROR(VLOOKUP(DATE(($C$2+0),6,14),祝日!$A$2:$B$65,2,FALSE),""),"") | H18: =IF(DAY(DATE(($C$2+0),7,14))=14,TEXT(DATE(($C$2+0),7,14),"aaa"),"") | I18: =IF(DAY(DATE(($C$2+0),7,14))=14,IFERROR(VLOOKUP(DATE(($C$2+0),7,14),祝日!$A$2:$B$65,2,FALSE),""),"") | J18: =IF(DAY(DATE(($C$2+0),8,14))=14,TEXT(DATE(($C$2+0),8,14),"aaa"),"") | K18: =IF(DAY(DATE(($C$2+0),8,14))=14,IFERROR(VLOOKUP(DATE(($C$2+0),8,14),祝日!$A$2:$B$65,2,FALSE),""),"") | L18: =IF(DAY(DATE(($C$2+0),9,14))=14,TEXT(DATE(($C$2+0),9,14),"aaa"),"") | M18: =IF(DAY(DATE(($C$2+0),9,14))=14,IFERROR(VLOOKUP(DATE(($C$2+0),9,14),祝日!$A$2:$B$65,2,FALSE),""),"") | N18: =IF(DAY(DATE(($C$2+0),10,14))=14,TEXT(DATE(($C$2+0),10,14),"aaa"),"") | O18: =IF(DAY(DATE(($C$2+0),10,14))=14,IFERROR(VLOOKUP(DATE(($C$2+0),10,14),祝日!$A$2:$B$65,2,FALSE),""),"") | P18: =IF(DAY(DATE(($C$2+0),11,14))=14,TEXT(DATE(($C$2+0),11,14),"aaa"),"") | Q18: =IF(DAY(DATE(($C$2+0),11,14))=14,IFERROR(VLOOKUP(DATE(($C$2+0),11,14),祝日!$A$2:$B$65,2,FALSE),""),"") | R18: =IF(DAY(DATE(($C$2+0),12,14))=14,TEXT(DATE(($C$2+0),12,14),"aaa"),"") | S18: =IF(DAY(DATE(($C$2+0),12,14))=14,IFERROR(VLOOKUP(DATE(($C$2+0),12,14),祝日!$A$2:$B$65,2,FALSE),""),"") | T18: =IF(DAY(DATE(($C$2+1),1,14))=14,TEXT(DATE(($C$2+1),1,14),"aaa"),"") | U18: =IF(DAY(DATE(($C$2+1),1,14))=14,IFERROR(VLOOKUP(DATE(($C$2+1),1,14),祝日!$A$2:$B$65,2,FALSE),""),"") | V18: =IF(DAY(DATE(($C$2+1),2,14))=14,TEXT(DATE(($C$2+1),2,14),"aaa"),"") | W18: =IF(DAY(DATE(($C$2+1),2,14))=14,IFERROR(VLOOKUP(DATE(($C$2+1),2,14),祝日!$A$2:$B$65,2,FALSE),""),"") | X18: =IF(DAY(DATE(($C$2+1),3,14))=14,TEXT(DATE(($C$2+1),3,14),"aaa"),"") | Y18: =IF(DAY(DATE(($C$2+1),3,14))=14,IFERROR(VLOOKUP(DATE(($C$2+1),3,14),祝日!$A$2:$B$65,2,FALSE),""),"")
A19: 15 | B19: =IF(DAY(DATE(($C$2+0),4,15))=15,TEXT(DATE(($C$2+0),4,15),"aaa"),"") | C19: =IF(DAY(DATE(($C$2+0),4,15))=15,IFERROR(VLOOKUP(DATE(($C$2+0),4,15),祝日!$A$2:$B$65,2,FALSE),""),"") | D19: =IF(DAY(DATE(($C$2+0),5,15))=15,TEXT(DATE(($C$2+0),5,15),"aaa"),"") | E19: 遠足 | F19: =IF(DAY(DATE(($C$2+0),6,15))=15,TEXT(DATE(($C$2+0),6,15),"aaa"),"") | G19: =IF(DAY(DATE(($C$2+0),6,15))=15,IFERROR(VLOOKUP(DATE(($C$2+0),6,15),祝日!$A$2:$B$65,2,FALSE),""),"") | H19: =IF(DAY(DATE(($C$2+0),7,15))=15,TEXT(DATE(($C$2+0),7,15),"aaa"),"") | I19: =IF(DAY(DATE(($C$2+0),7,15))=15,IFERROR(VLOOKUP(DATE(($C$2+0),7,15),祝日!$A$2:$B$65,2,FALSE),""),"") | J19: =IF(DAY(DATE(($C$2+0),8,15))=15,TEXT(DATE(($C$2+0),8,15),"aaa"),"") | K19: =IF(DAY(DATE(($C$2+0),8,15))=15,IFERROR(VLOOKUP(DATE(($C$2+0),8,15),祝日!$A$2:$B$65,2,FALSE),""),"") | L19: =IF(DAY(DATE(($C$2+0),9,15))=15,TEXT(DATE(($C$2+0),9,15),"aaa"),"") | M19: =IF(DAY(DATE(($C$2+0),9,15))=15,IFERROR(VLOOKUP(DATE(($C$2+0),9,15),祝日!$A$2:$B$65,2,FALSE),""),"") | N19: =IF(DAY(DATE(($C$2+0),10,15))=15,TEXT(DATE(($C$2+0),10,15),"aaa"),"") | O19: =IF(DAY(DATE(($C$2+0),10,15))=15,IFERROR(VLOOKUP(DATE(($C$2+0),10,15),祝日!$A$2:$B$65,2,FALSE),""),"") | P19: =IF(DAY(DATE(($C$2+0),11,15))=15,TEXT(DATE(($C$2+0),11,15),"aaa"),"") | Q19: =IF(DAY(DATE(($C$2+0),11,15))=15,IFERROR(VLOOKUP(DATE(($C$2+0),11,15),祝日!$A$2:$B$65,2,FALSE),""),"") | R19: =IF(DAY(DATE(($C$2+0),12,15))=15,TEXT(DATE(($C$2+0),12,15),"aaa"),"") | S19: =IF(DAY(DATE(($C$2+0),12,15))=15,IFERROR(VLOOKUP(DATE(($C$2+0),12,15),祝日!$A$2:$B$65,2,FALSE),""),"") | T19: =IF(DAY(DATE(($C$2+1),1,15))=15,TEXT(DATE(($C$2+1),1,15),"aaa"),"") | U19: =IF(DAY(DATE(($C$2+1),1,15))=15,IFERROR(VLOOKUP(DATE(($C$2+1),1,15),祝日!$A$2:$B$65,2,FALSE),""),"") | V19: =IF(DAY(DATE(($C$2+1),2,15))=15,TEXT(DATE(($C$2+1),2,15),"aaa"),"") | W19: =IF(DAY(DATE(($C$2+1),2,15))=15,IFERROR(VLOOKUP(DATE(($C$2+1),2,15),祝日!$A$2:$B$65,2,FALSE),""),"") | X19: =IF(DAY(DATE(($C$2+1),3,15))=15,TEXT(DATE(($C$2+1),3,15),"aaa"),"") | Y19: =IF(DAY(DATE(($C$2+1),3,15))=15,IFERROR(VLOOKUP(DATE(($C$2+1),3,15),祝日!$A$2:$B$65,2,FALSE),""),"")
A20: 16 | B20: =IF(DAY(DATE(($C$2+0),4,16))=16,TEXT(DATE(($C$2+0),4,16),"aaa"),"") | C20: =IF(DAY(DATE(($C$2+0),4,16))=16,IFERROR(VLOOKUP(DATE(($C$2+0),4,16),祝日!$A$2:$B$65,2,FALSE),""),"") | D20: =IF(DAY(DATE(($C$2+0),5,16))=16,TEXT(DATE(($C$2+0),5,16),"aaa"),"") | E20: =IF(DAY(DATE(($C$2+0),5,16))=16,IFERROR(VLOOKUP(DATE(($C$2+0),5,16),祝日!$A$2:$B$65,2,FALSE),""),"") | F20: =IF(DAY(DATE(($C$2+0),6,16))=16,TEXT(DATE(($C$2+0),6,16),"aaa"),"") | G20: =IF(DAY(DATE(($C$2+0),6,16))=16,IFERROR(VLOOKUP(DATE(($C$2+0),6,16),祝日!$A$2:$B$65,2,FALSE),""),"") | H20: =IF(DAY(DATE(($C$2+0),7,16))=16,TEXT(DATE(($C$2+0),7,16),"aaa"),"") | I20: =IF(DAY(DATE(($C$2+0),7,16))=16,IFERROR(VLOOKUP(DATE(($C$2+0),7,16),祝日!$A$2:$B$65,2,FALSE),""),"") | J20: =IF(DAY(DATE(($C$2+0),8,16))=16,TEXT(DATE(($C$2+0),8,16),"aaa"),"") | K20: =IF(DAY(DATE(($C$2+0),8,16))=16,IFERROR(VLOOKUP(DATE(($C$2+0),8,16),祝日!$A$2:$B$65,2,FALSE),""),"") | L20: =IF(DAY(DATE(($C$2+0),9,16))=16,TEXT(DATE(($C$2+0),9,16),"aaa"),"") | M20: =IF(DAY(DATE(($C$2+0),9,16))=16,IFERROR(VLOOKUP(DATE(($C$2+0),9,16),祝日!$A$2:$B$65,2,FALSE),""),"") | N20: =IF(DAY(DATE(($C$2+0),10,16))=16,TEXT(DATE(($C$2+0),10,16),"aaa"),"") | O20: 校外学習 | P20: =IF(DAY(DATE(($C$2+0),11,16))=16,TEXT(DATE(($C$2+0),11,16),"aaa"),"") | Q20: =IF(DAY(DATE(($C$2+0),11,16))=16,IFERROR(VLOOKUP(DATE(($C$2+0),11,16),祝日!$A$2:$B$65,2,FALSE),""),"") | R20: =IF(DAY(DATE(($C$2+0),12,16))=16,TEXT(DATE(($C$2+0),12,16),"aaa"),"") | S20: =IF(DAY(DATE(($C$2+0),12,16))=16,IFERROR(VLOOKUP(DATE(($C$2+0),12,16),祝日!$A$2:$B$65,2,FALSE),""),"") | T20: =IF(DAY(DATE(($C$2+1),1,16))=16,TEXT(DATE(($C$2+1),1,16),"aaa"),"") | U20: =IF(DAY(DATE(($C$2+1),1,16))=16,IFERROR(VLOOKUP(DATE(($C$2+1),1,16),祝日!$A$2:$B$65,2,FALSE),""),"") | V20: =IF(DAY(DATE(($C$2+1),2,16))=16,TEXT(DATE(($C$2+1),2,16),"aaa"),"") | W20: =IF(DAY(DATE(($C$2+1),2,16))=16,IFERROR(VLOOKUP(DATE(($C$2+1),2,16),祝日!$A$2:$B$65,2,FALSE),""),"") | X20: =IF(DAY(DATE(($C$2+1),3,16))=16,TEXT(DATE(($C$2+1),3,16),"aaa"),"") | Y20: =IF(DAY(DATE(($C$2+1),3,16))=16,IFERROR(VLOOKUP(DATE(($C$2+1),3,16),祝日!$A$2:$B$65,2,FALSE),""),"")
A21: 17 | B21: =IF(DAY(DATE(($C$2+0),4,17))=17,TEXT(DATE(($C$2+0),4,17),"aaa"),"") | C21: 授業参観・懇談会 | D21: =IF(DAY(DATE(($C$2+0),5,17))=17,TEXT(DATE(($C$2+0),5,17),"aaa"),"") | E21: =IF(DAY(DATE(($C$2+0),5,17))=17,IFERROR(VLOOKUP(DATE(($C$2+0),5,17),祝日!$A$2:$B$65,2,FALSE),""),"") | F21: =IF(DAY(DATE(($C$2+0),6,17))=17,TEXT(DATE(($C$2+0),6,17),"aaa"),"") | G21: =IF(DAY(DATE(($C$2+0),6,17))=17,IFERROR(VLOOKUP(DATE(($C$2+0),6,17),祝日!$A$2:$B$65,2,FALSE),""),"") | H21: =IF(DAY(DATE(($C$2+0),7,17))=17,TEXT(DATE(($C$2+0),7,17),"aaa"),"") | I21: 終業式 | J21: =IF(DAY(DATE(($C$2+0),8,17))=17,TEXT(DATE(($C$2+0),8,17),"aaa"),"") | K21: =IF(DAY(DATE(($C$2+0),8,17))=17,IFERROR(VLOOKUP(DATE(($C$2+0),8,17),祝日!$A$2:$B$65,2,FALSE),""),"") | L21: =IF(DAY(DATE(($C$2+0),9,17))=17,TEXT(DATE(($C$2+0),9,17),"aaa"),"") | M21: =IF(DAY(DATE(($C$2+0),9,17))=17,IFERROR(VLOOKUP(DATE(($C$2+0),9,17),祝日!$A$2:$B$65,2,FALSE),""),"") | N21: =IF(DAY(DATE(($C$2+0),10,17))=17,TEXT(DATE(($C$2+0),10,17),"aaa"),"") | O21: =IF(DAY(DATE(($C$2+0),10,17))=17,IFERROR(VLOOKUP(DATE(($C$2+0),10,17),祝日!$A$2:$B$65,2,FALSE),""),"") | P21: =IF(DAY(DATE(($C$2+0),11,17))=17,TEXT(DATE(($C$2+0),11,17),"aaa"),"") | Q21: =IF(DAY(DATE(($C$2+0),11,17))=17,IFERROR(VLOOKUP(DATE(($C$2+0),11,17),祝日!$A$2:$B$65,2,FALSE),""),"") | R21: =IF(DAY(DATE(($C$2+0),12,17))=17,TEXT(DATE(($C$2+0),12,17),"aaa"),"") | S21: =IF(DAY(DATE(($C$2+0),12,17))=17,IFERROR(VLOOKUP(DATE(($C$2+0),12,17),祝日!$A$2:$B$65,2,FALSE),""),"") | T21: =IF(DAY(DATE(($C$2+1),1,17))=17,TEXT(DATE(($C$2+1),1,17),"aaa"),"") | U21: =IF(DAY(DATE(($C$2+1),1,17))=17,IFERROR(VLOOKUP(DATE(($C$2+1),1,17),祝日!$A$2:$B$65,2,FALSE),""),"") | V21: =IF(DAY(DATE(($C$2+1),2,17))=17,TEXT(DATE(($C$2+1),2,17),"aaa"),"") | W21: =IF(DAY(DATE(($C$2+1),2,17))=17,IFERROR(VLOOKUP(DATE(($C$2+1),2,17),祝日!$A$2:$B$65,2,FALSE),""),"") | X21: =IF(DAY(DATE(($C$2+1),3,17))=17,TEXT(DATE(($C$2+1),3,17),"aaa"),"") | Y21: =IF(DAY(DATE(($C$2+1),3,17))=17,IFERROR(VLOOKUP(DATE(($C$2+1),3,17),祝日!$A$2:$B$65,2,FALSE),""),"")
A22: 18 | B22: =IF(DAY(DATE(($C$2+0),4,18))=18,TEXT(DATE(($C$2+0),4,18),"aaa"),"") | C22: =IF(DAY(DATE(($C$2+0),4,18))=18,IFERROR(VLOOKUP(DATE(($C$2+0),4,18),祝日!$A$2:$B$65,2,FALSE),""),"") | D22: =IF(DAY(DATE(($C$2+0),5,18))=18,TEXT(DATE(($C$2+0),5,18),"aaa"),"") | E22: =IF(DAY(DATE(($C$2+0),5,18))=18,IFERROR(VLOOKUP(DATE(($C$2+0),5,18),祝日!$A$2:$B$65,2,FALSE),""),"") | F22: =IF(DAY(DATE(($C$2+0),6,18))=18,TEXT(DATE(($C$2+0),6,18),"aaa"),"") | G22: =IF(DAY(DATE(($C$2+0),6,18))=18,IFERROR(VLOOKUP(DATE(($C$2+0),6,18),祝日!$A$2:$B$65,2,FALSE),""),"") | H22: =IF(DAY(DATE(($C$2+0),7,18))=18,TEXT(DATE(($C$2+0),7,18),"aaa"),"") | I22: =IF(DAY(DATE(($C$2+0),7,18))=18,IFERROR(VLOOKUP(DATE(($C$2+0),7,18),祝日!$A$2:$B$65,2,FALSE),""),"") | J22: =IF(DAY(DATE(($C$2+0),8,18))=18,TEXT(DATE(($C$2+0),8,18),"aaa"),"") | K22: =IF(DAY(DATE(($C$2+0),8,18))=18,IFERROR(VLOOKUP(DATE(($C$2+0),8,18),祝日!$A$2:$B$65,2,FALSE),""),"") | L22: =IF(DAY(DATE(($C$2+0),9,18))=18,TEXT(DATE(($C$2+0),9,18),"aaa"),"") | M22: =IF(DAY(DATE(($C$2+0),9,18))=18,IFERROR(VLOOKUP(DATE(($C$2+0),9,18),祝日!$A$2:$B$65,2,FALSE),""),"") | N22: =IF(DAY(DATE(($C$2+0),10,18))=18,TEXT(DATE(($C$2+0),10,18),"aaa"),"") | O22: =IF(DAY(DATE(($C$2+0),10,18))=18,IFERROR(VLOOKUP(DATE(($C$2+0),10,18),祝日!$A$2:$B$65,2,FALSE),""),"") | P22: =IF(DAY(DATE(($C$2+0),11,18))=18,TEXT(DATE(($C$2+0),11,18),"aaa"),"") | Q22: =IF(DAY(DATE(($C$2+0),11,18))=18,IFERROR(VLOOKUP(DATE(($C$2+0),11,18),祝日!$A$2:$B$65,2,FALSE),""),"") | R22: =IF(DAY(DATE(($C$2+0),12,18))=18,TEXT(DATE(($C$2+0),12,18),"aaa"),"") | S22: =IF(DAY(DATE(($C$2+0),12,18))=18,IFERROR(VLOOKUP(DATE(($C$2+0),12,18),祝日!$A$2:$B$65,2,FALSE),""),"") | T22: =IF(DAY(DATE(($C$2+1),1,18))=18,TEXT(DATE(($C$2+1),1,18),"aaa"),"") | U22: =IF(DAY(DATE(($C$2+1),1,18))=18,IFERROR(VLOOKUP(DATE(($C$2+1),1,18),祝日!$A$2:$B$65,2,FALSE),""),"") | V22: =IF(DAY(DATE(($C$2+1),2,18))=18,TEXT(DATE(($C$2+1),2,18),"aaa"),"") | W22: =IF(DAY(DATE(($C$2+1),2,18))=18,IFERROR(VLOOKUP(DATE(($C$2+1),2,18),祝日!$A$2:$B$65,2,FALSE),""),"") | X22: =IF(DAY(DATE(($C$2+1),3,18))=18,TEXT(DATE(($C$2+1),3,18),"aaa"),"") | Y22: 卒業式
A23: 19 | B23: =IF(DAY(DATE(($C$2+0),4,19))=19,TEXT(DATE(($C$2+0),4,19),"aaa"),"") | C23: =IF(DAY(DATE(($C$2+0),4,19))=19,IFERROR(VLOOKUP(DATE(($C$2+0),4,19),祝日!$A$2:$B$65,2,FALSE),""),"") | D23: =IF(DAY(DATE(($C$2+0),5,19))=19,TEXT(DATE(($C$2+0),5,19),"aaa"),"") | E23: =IF(DAY(DATE(($C$2+0),5,19))=19,IFERROR(VLOOKUP(DATE(($C$2+0),5,19),祝日!$A$2:$B$65,2,FALSE),""),"") | F23: =IF(DAY(DATE(($C$2+0),6,19))=19,TEXT(DATE(($C$2+0),6,19),"aaa"),"") | G23: =IF(DAY(DATE(($C$2+0),6,19))=19,IFERROR(VLOOKUP(DATE(($C$2+0),6,19),祝日!$A$2:$B$65,2,FALSE),""),"") | H23: =IF(DAY(DATE(($C$2+0),7,19))=19,TEXT(DATE(($C$2+0),7,19),"aaa"),"") | I23: =IF(DAY(DATE(($C$2+0),7,19))=19,IFERROR(VLOOKUP(DATE(($C$2+0),7,19),祝日!$A$2:$B$65,2,FALSE),""),"") | J23: =IF(DAY(DATE(($C$2+0),8,19))=19,TEXT(DATE(($C$2+0),8,19),"aaa"),"") | K23: =IF(DAY(DATE(($C$2+0),8,19))=19,IFERROR(VLOOKUP(DATE(($C$2+0),8,19),祝日!$A$2:$B$65,2,FALSE),""),"") | L23: =IF(DAY(DATE(($C$2+0),9,19))=19,TEXT(DATE(($C$2+0),9,19),"aaa"),"") | M23: =IF(DAY(DATE(($C$2+0),9,19))=19,IFERROR(VLOOKUP(DATE(($C$2+0),9,19),祝日!$A$2:$B$65,2,FALSE),""),"") | N23: =IF(DAY(DATE(($C$2+0),10,19))=19,TEXT(DATE(($C$2+0),10,19),"aaa"),"") | O23: =IF(DAY(DATE(($C$2+0),10,19))=19,IFERROR(VLOOKUP(DATE(($C$2+0),10,19),祝日!$A$2:$B$65,2,FALSE),""),"") | P23: =IF(DAY(DATE(($C$2+0),11,19))=19,TEXT(DATE(($C$2+0),11,19),"aaa"),"") | Q23: =IF(DAY(DATE(($C$2+0),11,19))=19,IFERROR(VLOOKUP(DATE(($C$2+0),11,19),祝日!$A$2:$B$65,2,FALSE),""),"") | R23: =IF(DAY(DATE(($C$2+0),12,19))=19,TEXT(DATE(($C$2+0),12,19),"aaa"),"") | S23: =IF(DAY(DATE(($C$2+0),12,19))=19,IFERROR(VLOOKUP(DATE(($C$2+0),12,19),祝日!$A$2:$B$65,2,FALSE),""),"") | T23: =IF(DAY(DATE(($C$2+1),1,19))=19,TEXT(DATE(($C$2+1),1,19),"aaa"),"") | U23: =IF(DAY(DATE(($C$2+1),1,19))=19,IFERROR(VLOOKUP(DATE(($C$2+1),1,19),祝日!$A$2:$B$65,2,FALSE),""),"") | V23: =IF(DAY(DATE(($C$2+1),2,19))=19,TEXT(DATE(($C$2+1),2,19),"aaa"),"") | W23: 6年生を送る会 | X23: =IF(DAY(DATE(($C$2+1),3,19))=19,TEXT(DATE(($C$2+1),3,19),"aaa"),"") | Y23: =IF(DAY(DATE(($C$2+1),3,19))=19,IFERROR(VLOOKUP(DATE(($C$2+1),3,19),祝日!$A$2:$B$65,2,FALSE),""),"")
A24: 20 | B24: =IF(DAY(DATE(($C$2+0),4,20))=20,TEXT(DATE(($C$2+0),4,20),"aaa"),"") | C24: =IF(DAY(DATE(($C$2+0),4,20))=20,IFERROR(VLOOKUP(DATE(($C$2+0),4,20),祝日!$A$2:$B$65,2,FALSE),""),"") | D24: =IF(DAY(DATE(($C$2+0),5,20))=20,TEXT(DATE(($C$2+0),5,20),"aaa"),"") | E24: =IF(DAY(DATE(($C$2+0),5,20))=20,IFERROR(VLOOKUP(DATE(($C$2+0),5,20),祝日!$A$2:$B$65,2,FALSE),""),"") | F24: =IF(DAY(DATE(($C$2+0),6,20))=20,TEXT(DATE(($C$2+0),6,20),"aaa"),"") | G24: =IF(DAY(DATE(($C$2+0),6,20))=20,IFERROR(VLOOKUP(DATE(($C$2+0),6,20),祝日!$A$2:$B$65,2,FALSE),""),"") | H24: =IF(DAY(DATE(($C$2+0),7,20))=20,TEXT(DATE(($C$2+0),7,20),"aaa"),"") | I24: =IF(DAY(DATE(($C$2+0),7,20))=20,IFERROR(VLOOKUP(DATE(($C$2+0),7,20),祝日!$A$2:$B$65,2,FALSE),""),"") | J24: =IF(DAY(DATE(($C$2+0),8,20))=20,TEXT(DATE(($C$2+0),8,20),"aaa"),"") | K24: =IF(DAY(DATE(($C$2+0),8,20))=20,IFERROR(VLOOKUP(DATE(($C$2+0),8,20),祝日!$A$2:$B$65,2,FALSE),""),"") | L24: =IF(DAY(DATE(($C$2+0),9,20))=20,TEXT(DATE(($C$2+0),9,20),"aaa"),"") | M24: =IF(DAY(DATE(($C$2+0),9,20))=20,IFERROR(VLOOKUP(DATE(($C$2+0),9,20),祝日!$A$2:$B$65,2,FALSE),""),"") | N24: =IF(DAY(DATE(($C$2+0),10,20))=20,TEXT(DATE(($C$2+0),10,20),"aaa"),"") | O24: =IF(DAY(DATE(($C$2+0),10,20))=20,IFERROR(VLOOKUP(DATE(($C$2+0),10,20),祝日!$A$2:$B$65,2,FALSE),""),"") | P24: =IF(DAY(DATE(($C$2+0),11,20))=20,TEXT(DATE(($C$2+0),11,20),"aaa"),"") | Q24: =IF(DAY(DATE(($C$2+0),11,20))=20,IFERROR(VLOOKUP(DATE(($C$2+0),11,20),祝日!$A$2:$B$65,2,FALSE),""),"") | R24: =IF(DAY(DATE(($C$2+0),12,20))=20,TEXT(DATE(($C$2+0),12,20),"aaa"),"") | S24: =IF(DAY(DATE(($C$2+0),12,20))=20,IFERROR(VLOOKUP(DATE(($C$2+0),12,20),祝日!$A$2:$B$65,2,FALSE),""),"") | T24: =IF(DAY(DATE(($C$2+1),1,20))=20,TEXT(DATE(($C$2+1),1,20),"aaa"),"") | U24: =IF(DAY(DATE(($C$2+1),1,20))=20,IFERROR(VLOOKUP(DATE(($C$2+1),1,20),祝日!$A$2:$B$65,2,FALSE),""),"") | V24: =IF(DAY(DATE(($C$2+1),2,20))=20,TEXT(DATE(($C$2+1),2,20),"aaa"),"") | W24: =IF(DAY(DATE(($C$2+1),2,20))=20,IFERROR(VLOOKUP(DATE(($C$2+1),2,20),祝日!$A$2:$B$65,2,FALSE),""),"") | X24: =IF(DAY(DATE(($C$2+1),3,20))=20,TEXT(DATE(($C$2+1),3,20),"aaa"),"") | Y24: =IF(DAY(DATE(($C$2+1),3,20))=20,IFERROR(VLOOKUP(DATE(($C$2+1),3,20),祝日!$A$2:$B$65,2,FALSE),""),"")
A25: 21 | B25: =IF(DAY(DATE(($C$2+0),4,21))=21,TEXT(DATE(($C$2+0),4,21),"aaa"),"") | C25: =IF(DAY(DATE(($C$2+0),4,21))=21,IFERROR(VLOOKUP(DATE(($C$2+0),4,21),祝日!$A$2:$B$65,2,FALSE),""),"") | D25: =IF(DAY(DATE(($C$2+0),5,21))=21,TEXT(DATE(($C$2+0),5,21),"aaa"),"") | E25: =IF(DAY(DATE(($C$2+0),5,21))=21,IFERROR(VLOOKUP(DATE(($C$2+0),5,21),祝日!$A$2:$B$65,2,FALSE),""),"") | F25: =IF(DAY(DATE(($C$2+0),6,21))=21,TEXT(DATE(($C$2+0),6,21),"aaa"),"") | G25: =IF(DAY(DATE(($C$2+0),6,21))=21,IFERROR(VLOOKUP(DATE(($C$2+0),6,21),祝日!$A$2:$B$65,2,FALSE),""),"") | H25: =IF(DAY(DATE(($C$2+0),7,21))=21,TEXT(DATE(($C$2+0),7,21),"aaa"),"") | I25: =IF(DAY(DATE(($C$2+0),7,21))=21,IFERROR(VLOOKUP(DATE(($C$2+0),7,21),祝日!$A$2:$B$65,2,FALSE),""),"") | J25: =IF(DAY(DATE(($C$2+0),8,21))=21,TEXT(DATE(($C$2+0),8,21),"aaa"),"") | K25: =IF(DAY(DATE(($C$2+0),8,21))=21,IFERROR(VLOOKUP(DATE(($C$2+0),8,21),祝日!$A$2:$B$65,2,FALSE),""),"") | L25: =IF(DAY(DATE(($C$2+0),9,21))=21,TEXT(DATE(($C$2+0),9,21),"aaa"),"") | M25: =IF(DAY(DATE(($C$2+0),9,21))=21,IFERROR(VLOOKUP(DATE(($C$2+0),9,21),祝日!$A$2:$B$65,2,FALSE),""),"") | N25: =IF(DAY(DATE(($C$2+0),10,21))=21,TEXT(DATE(($C$2+0),10,21),"aaa"),"") | O25: =IF(DAY(DATE(($C$2+0),10,21))=21,IFERROR(VLOOKUP(DATE(($C$2+0),10,21),祝日!$A$2:$B$65,2,FALSE),""),"") | P25: =IF(DAY(DATE(($C$2+0),11,21))=21,TEXT(DATE(($C$2+0),11,21),"aaa"),"") | Q25: =IF(DAY(DATE(($C$2+0),11,21))=21,IFERROR(VLOOKUP(DATE(($C$2+0),11,21),祝日!$A$2:$B$65,2,FALSE),""),"") | R25: =IF(DAY(DATE(($C$2+0),12,21))=21,TEXT(DATE(($C$2+0),12,21),"aaa"),"") | S25: =IF(DAY(DATE(($C$2+0),12,21))=21,IFERROR(VLOOKUP(DATE(($C$2+0),12,21),祝日!$A$2:$B$65,2,FALSE),""),"") | T25: =IF(DAY(DATE(($C$2+1),1,21))=21,TEXT(DATE(($C$2+1),1,21),"aaa"),"") | U25: =IF(DAY(DATE(($C$2+1),1,21))=21,IFERROR(VLOOKUP(DATE(($C$2+1),1,21),祝日!$A$2:$B$65,2,FALSE),""),"") | V25: =IF(DAY(DATE(($C$2+1),2,21))=21,TEXT(DATE(($C$2+1),2,21),"aaa"),"") | W25: =IF(DAY(DATE(($C$2+1),2,21))=21,IFERROR(VLOOKUP(DATE(($C$2+1),2,21),祝日!$A$2:$B$65,2,FALSE),""),"") | X25: =IF(DAY(DATE(($C$2+1),3,21))=21,TEXT(DATE(($C$2+1),3,21),"aaa"),"") | Y25: =IF(DAY(DATE(($C$2+1),3,21))=21,IFERROR(VLOOKUP(DATE(($C$2+1),3,21),祝日!$A$2:$B$65,2,FALSE),""),"")
A26: 22 | B26: =IF(DAY(DATE(($C$2+0),4,22))=22,TEXT(DATE(($C$2+0),4,22),"aaa"),"") | C26: =IF(DAY(DATE(($C$2+0),4,22))=22,IFERROR(VLOOKUP(DATE(($C$2+0),4,22),祝日!$A$2:$B$65,2,FALSE),""),"") | D26: =IF(DAY(DATE(($C$2+0),5,22))=22,TEXT(DATE(($C$2+0),5,22),"aaa"),"") | E26: =IF(DAY(DATE(($C$2+0),5,22))=22,IFERROR(VLOOKUP(DATE(($C$2+0),5,22),祝日!$A$2:$B$65,2,FALSE),""),"") | F26: =IF(DAY(DATE(($C$2+0),6,22))=22,TEXT(DATE(($C$2+0),6,22),"aaa"),"") | G26: =IF(DAY(DATE(($C$2+0),6,22))=22,IFERROR(VLOOKUP(DATE(($C$2+0),6,22),祝日!$A$2:$B$65,2,FALSE),""),"") | H26: =IF(DAY(DATE(($C$2+0),7,22))=22,TEXT(DATE(($C$2+0),7,22),"aaa"),"") | I26: =IF(DAY(DATE(($C$2+0),7,22))=22,IFERROR(VLOOKUP(DATE(($C$2+0),7,22),祝日!$A$2:$B$65,2,FALSE),""),"") | J26: =IF(DAY(DATE(($C$2+0),8,22))=22,TEXT(DATE(($C$2+0),8,22),"aaa"),"") | K26: =IF(DAY(DATE(($C$2+0),8,22))=22,IFERROR(VLOOKUP(DATE(($C$2+0),8,22),祝日!$A$2:$B$65,2,FALSE),""),"") | L26: =IF(DAY(DATE(($C$2+0),9,22))=22,TEXT(DATE(($C$2+0),9,22),"aaa"),"") | M26: =IF(DAY(DATE(($C$2+0),9,22))=22,IFERROR(VLOOKUP(DATE(($C$2+0),9,22),祝日!$A$2:$B$65,2,FALSE),""),"") | N26: =IF(DAY(DATE(($C$2+0),10,22))=22,TEXT(DATE(($C$2+0),10,22),"aaa"),"") | O26: =IF(DAY(DATE(($C$2+0),10,22))=22,IFERROR(VLOOKUP(DATE(($C$2+0),10,22),祝日!$A$2:$B$65,2,FALSE),""),"") | P26: =IF(DAY(DATE(($C$2+0),11,22))=22,TEXT(DATE(($C$2+0),11,22),"aaa"),"") | Q26: =IF(DAY(DATE(($C$2+0),11,22))=22,IFERROR(VLOOKUP(DATE(($C$2+0),11,22),祝日!$A$2:$B$65,2,FALSE),""),"") | R26: =IF(DAY(DATE(($C$2+0),12,22))=22,TEXT(DATE(($C$2+0),12,22),"aaa"),"") | S26: =IF(DAY(DATE(($C$2+0),12,22))=22,IFERROR(VLOOKUP(DATE(($C$2+0),12,22),祝日!$A$2:$B$65,2,FALSE),""),"") | T26: =IF(DAY(DATE(($C$2+1),1,22))=22,TEXT(DATE(($C$2+1),1,22),"aaa"),"") | U26: =IF(DAY(DATE(($C$2+1),1,22))=22,IFERROR(VLOOKUP(DATE(($C$2+1),1,22),祝日!$A$2:$B$65,2,FALSE),""),"") | V26: =IF(DAY(DATE(($C$2+1),2,22))=22,TEXT(DATE(($C$2+1),2,22),"aaa"),"") | W26: =IF(DAY(DATE(($C$2+1),2,22))=22,IFERROR(VLOOKUP(DATE(($C$2+1),2,22),祝日!$A$2:$B$65,2,FALSE),""),"") | X26: =IF(DAY(DATE(($C$2+1),3,22))=22,TEXT(DATE(($C$2+1),3,22),"aaa"),"") | Y26: =IF(DAY(DATE(($C$2+1),3,22))=22,IFERROR(VLOOKUP(DATE(($C$2+1),3,22),祝日!$A$2:$B$65,2,FALSE),""),"")
A27: 23 | B27: =IF(DAY(DATE(($C$2+0),4,23))=23,TEXT(DATE(($C$2+0),4,23),"aaa"),"") | C27: =IF(DAY(DATE(($C$2+0),4,23))=23,IFERROR(VLOOKUP(DATE(($C$2+0),4,23),祝日!$A$2:$B$65,2,FALSE),""),"") | D27: =IF(DAY(DATE(($C$2+0),5,23))=23,TEXT(DATE(($C$2+0),5,23),"aaa"),"") | E27: =IF(DAY(DATE(($C$2+0),5,23))=23,IFERROR(VLOOKUP(DATE(($C$2+0),5,23),祝日!$A$2:$B$65,2,FALSE),""),"") | F27: =IF(DAY(DATE(($C$2+0),6,23))=23,TEXT(DATE(($C$2+0),6,23),"aaa"),"") | G27: =IF(DAY(DATE(($C$2+0),6,23))=23,IFERROR(VLOOKUP(DATE(($C$2+0),6,23),祝日!$A$2:$B$65,2,FALSE),""),"") | H27: =IF(DAY(DATE(($C$2+0),7,23))=23,TEXT(DATE(($C$2+0),7,23),"aaa"),"") | I27: =IF(DAY(DATE(($C$2+0),7,23))=23,IFERROR(VLOOKUP(DATE(($C$2+0),7,23),祝日!$A$2:$B$65,2,FALSE),""),"") | J27: =IF(DAY(DATE(($C$2+0),8,23))=23,TEXT(DATE(($C$2+0),8,23),"aaa"),"") | K27: =IF(DAY(DATE(($C$2+0),8,23))=23,IFERROR(VLOOKUP(DATE(($C$2+0),8,23),祝日!$A$2:$B$65,2,FALSE),""),"") | L27: =IF(DAY(DATE(($C$2+0),9,23))=23,TEXT(DATE(($C$2+0),9,23),"aaa"),"") | M27: =IF(DAY(DATE(($C$2+0),9,23))=23,IFERROR(VLOOKUP(DATE(($C$2+0),9,23),祝日!$A$2:$B$65,2,FALSE),""),"") | N27: =IF(DAY(DATE(($C$2+0),10,23))=23,TEXT(DATE(($C$2+0),10,23),"aaa"),"") | O27: =IF(DAY(DATE(($C$2+0),10,23))=23,IFERROR(VLOOKUP(DATE(($C$2+0),10,23),祝日!$A$2:$B$65,2,FALSE),""),"") | P27: =IF(DAY(DATE(($C$2+0),11,23))=23,TEXT(DATE(($C$2+0),11,23),"aaa"),"") | Q27: =IF(DAY(DATE(($C$2+0),11,23))=23,IFERROR(VLOOKUP(DATE(($C$2+0),11,23),祝日!$A$2:$B$65,2,FALSE),""),"") | R27: =IF(DAY(DATE(($C$2+0),12,23))=23,TEXT(DATE(($C$2+0),12,23),"aaa"),"") | S27: 終業式 | T27: =IF(DAY(DATE(($C$2+1),1,23))=23,TEXT(DATE(($C$2+1),1,23),"aaa"),"") | U27: =IF(DAY(DATE(($C$2+1),1,23))=23,IFERROR(VLOOKUP(DATE(($C$2+1),1,23),祝日!$A$2:$B$65,2,FALSE),""),"") | V27: =IF(DAY(DATE(($C$2+1),2,23))=23,TEXT(DATE(($C$2+1),2,23),"aaa"),"") | W27: =IF(DAY(DATE(($C$2+1),2,23))=23,IFERROR(VLOOKUP(DATE(($C$2+1),2,23),祝日!$A$2:$B$65,2,FALSE),""),"") | X27: =IF(DAY(DATE(($C$2+1),3,23))=23,TEXT(DATE(($C$2+1),3,23),"aaa"),"") | Y27: =IF(DAY(DATE(($C$2+1),3,23))=23,IFERROR(VLOOKUP(DATE(($C$2+1),3,23),祝日!$A$2:$B$65,2,FALSE),""),"")
A28: 24 | B28: =IF(DAY(DATE(($C$2+0),4,24))=24,TEXT(DATE(($C$2+0),4,24),"aaa"),"") | C28: =IF(DAY(DATE(($C$2+0),4,24))=24,IFERROR(VLOOKUP(DATE(($C$2+0),4,24),祝日!$A$2:$B$65,2,FALSE),""),"") | D28: =IF(DAY(DATE(($C$2+0),5,24))=24,TEXT(DATE(($C$2+0),5,24),"aaa"),"") | E28: =IF(DAY(DATE(($C$2+0),5,24))=24,IFERROR(VLOOKUP(DATE(($C$2+0),5,24),祝日!$A$2:$B$65,2,FALSE),""),"") | F28: =IF(DAY(DATE(($C$2+0),6,24))=24,TEXT(DATE(($C$2+0),6,24),"aaa"),"") | G28: 個人面談 | H28: =IF(DAY(DATE(($C$2+0),7,24))=24,TEXT(DATE(($C$2+0),7,24),"aaa"),"") | I28: =IF(DAY(DATE(($C$2+0),7,24))=24,IFERROR(VLOOKUP(DATE(($C$2+0),7,24),祝日!$A$2:$B$65,2,FALSE),""),"") | J28: =IF(DAY(DATE(($C$2+0),8,24))=24,TEXT(DATE(($C$2+0),8,24),"aaa"),"") | K28: =IF(DAY(DATE(($C$2+0),8,24))=24,IFERROR(VLOOKUP(DATE(($C$2+0),8,24),祝日!$A$2:$B$65,2,FALSE),""),"") | L28: =IF(DAY(DATE(($C$2+0),9,24))=24,TEXT(DATE(($C$2+0),9,24),"aaa"),"") | M28: =IF(DAY(DATE(($C$2+0),9,24))=24,IFERROR(VLOOKUP(DATE(($C$2+0),9,24),祝日!$A$2:$B$65,2,FALSE),""),"") | N28: =IF(DAY(DATE(($C$2+0),10,24))=24,TEXT(DATE(($C$2+0),10,24),"aaa"),"") | O28: =IF(DAY(DATE(($C$2+0),10,24))=24,IFERROR(VLOOKUP(DATE(($C$2+0),10,24),祝日!$A$2:$B$65,2,FALSE),""),"") | P28: =IF(DAY(DATE(($C$2+0),11,24))=24,TEXT(DATE(($C$2+0),11,24),"aaa"),"") | Q28: =IF(DAY(DATE(($C$2+0),11,24))=24,IFERROR(VLOOKUP(DATE(($C$2+0),11,24),祝日!$A$2:$B$65,2,FALSE),""),"") | R28: =IF(DAY(DATE(($C$2+0),12,24))=24,TEXT(DATE(($C$2+0),12,24),"aaa"),"") | S28: =IF(DAY(DATE(($C$2+0),12,24))=24,IFERROR(VLOOKUP(DATE(($C$2+0),12,24),祝日!$A$2:$B$65,2,FALSE),""),"") | T28: =IF(DAY(DATE(($C$2+1),1,24))=24,TEXT(DATE(($C$2+1),1,24),"aaa"),"") | U28: =IF(DAY(DATE(($C$2+1),1,24))=24,IFERROR(VLOOKUP(DATE(($C$2+1),1,24),祝日!$A$2:$B$65,2,FALSE),""),"") | V28: =IF(DAY(DATE(($C$2+1),2,24))=24,TEXT(DATE(($C$2+1),2,24),"aaa"),"") | W28: =IF(DAY(DATE(($C$2+1),2,24))=24,IFERROR(VLOOKUP(DATE(($C$2+1),2,24),祝日!$A$2:$B$65,2,FALSE),""),"") | X28: =IF(DAY(DATE(($C$2+1),3,24))=24,TEXT(DATE(($C$2+1),3,24),"aaa"),"") | Y28: 修了式
A29: 25 | B29: =IF(DAY(DATE(($C$2+0),4,25))=25,TEXT(DATE(($C$2+0),4,25),"aaa"),"") | C29: =IF(DAY(DATE(($C$2+0),4,25))=25,IFERROR(VLOOKUP(DATE(($C$2+0),4,25),祝日!$A$2:$B$65,2,FALSE),""),"") | D29: =IF(DAY(DATE(($C$2+0),5,25))=25,TEXT(DATE(($C$2+0),5,25),"aaa"),"") | E29: =IF(DAY(DATE(($C$2+0),5,25))=25,IFERROR(VLOOKUP(DATE(($C$2+0),5,25),祝日!$A$2:$B$65,2,FALSE),""),"") | F29: =IF(DAY(DATE(($C$2+0),6,25))=25,TEXT(DATE(($C$2+0),6,25),"aaa"),"") | G29: =IF(DAY(DATE(($C$2+0),6,25))=25,IFERROR(VLOOKUP(DATE(($C$2+0),6,25),祝日!$A$2:$B$65,2,FALSE),""),"") | H29: =IF(DAY(DATE(($C$2+0),7,25))=25,TEXT(DATE(($C$2+0),7,25),"aaa"),"") | I29: =IF(DAY(DATE(($C$2+0),7,25))=25,IFERROR(VLOOKUP(DATE(($C$2+0),7,25),祝日!$A$2:$B$65,2,FALSE),""),"") | J29: =IF(DAY(DATE(($C$2+0),8,25))=25,TEXT(DATE(($C$2+0),8,25),"aaa"),"") | K29: 始業式 | L29: =IF(DAY(DATE(($C$2+0),9,25))=25,TEXT(DATE(($C$2+0),9,25),"aaa"),"") | M29: =IF(DAY(DATE(($C$2+0),9,25))=25,IFERROR(VLOOKUP(DATE(($C$2+0),9,25),祝日!$A$2:$B$65,2,FALSE),""),"") | N29: =IF(DAY(DATE(($C$2+0),10,25))=25,TEXT(DATE(($C$2+0),10,25),"aaa"),"") | O29: =IF(DAY(DATE(($C$2+0),10,25))=25,IFERROR(VLOOKUP(DATE(($C$2+0),10,25),祝日!$A$2:$B$65,2,FALSE),""),"") | P29: =IF(DAY(DATE(($C$2+0),11,25))=25,TEXT(DATE(($C$2+0),11,25),"aaa"),"") | Q29: =IF(DAY(DATE(($C$2+0),11,25))=25,IFERROR(VLOOKUP(DATE(($C$2+0),11,25),祝日!$A$2:$B$65,2,FALSE),""),"") | R29: =IF(DAY(DATE(($C$2+0),12,25))=25,TEXT(DATE(($C$2+0),12,25),"aaa"),"") | S29: =IF(DAY(DATE(($C$2+0),12,25))=25,IFERROR(VLOOKUP(DATE(($C$2+0),12,25),祝日!$A$2:$B$65,2,FALSE),""),"") | T29: =IF(DAY(DATE(($C$2+1),1,25))=25,TEXT(DATE(($C$2+1),1,25),"aaa"),"") | U29: =IF(DAY(DATE(($C$2+1),1,25))=25,IFERROR(VLOOKUP(DATE(($C$2+1),1,25),祝日!$A$2:$B$65,2,FALSE),""),"") | V29: =IF(DAY(DATE(($C$2+1),2,25))=25,TEXT(DATE(($C$2+1),2,25),"aaa"),"") | W29: =IF(DAY(DATE(($C$2+1),2,25))=25,IFERROR(VLOOKUP(DATE(($C$2+1),2,25),祝日!$A$2:$B$65,2,FALSE),""),"") | X29: =IF(DAY(DATE(($C$2+1),3,25))=25,TEXT(DATE(($C$2+1),3,25),"aaa"),"") | Y29: =IF(DAY(DATE(($C$2+1),3,25))=25,IFERROR(VLOOKUP(DATE(($C$2+1),3,25),祝日!$A$2:$B$65,2,FALSE),""),"")
A30: 26 | B30: =IF(DAY(DATE(($C$2+0),4,26))=26,TEXT(DATE(($C$2+0),4,26),"aaa"),"") | C30: =IF(DAY(DATE(($C$2+0),4,26))=26,IFERROR(VLOOKUP(DATE(($C$2+0),4,26),祝日!$A$2:$B$65,2,FALSE),""),"") | D30: =IF(DAY(DATE(($C$2+0),5,26))=26,TEXT(DATE(($C$2+0),5,26),"aaa"),"") | E30: =IF(DAY(DATE(($C$2+0),5,26))=26,IFERROR(VLOOKUP(DATE(($C$2+0),5,26),祝日!$A$2:$B$65,2,FALSE),""),"") | F30: =IF(DAY(DATE(($C$2+0),6,26))=26,TEXT(DATE(($C$2+0),6,26),"aaa"),"") | G30: =IF(DAY(DATE(($C$2+0),6,26))=26,IFERROR(VLOOKUP(DATE(($C$2+0),6,26),祝日!$A$2:$B$65,2,FALSE),""),"") | H30: =IF(DAY(DATE(($C$2+0),7,26))=26,TEXT(DATE(($C$2+0),7,26),"aaa"),"") | I30: =IF(DAY(DATE(($C$2+0),7,26))=26,IFERROR(VLOOKUP(DATE(($C$2+0),7,26),祝日!$A$2:$B$65,2,FALSE),""),"") | J30: =IF(DAY(DATE(($C$2+0),8,26))=26,TEXT(DATE(($C$2+0),8,26),"aaa"),"") | K30: =IF(DAY(DATE(($C$2+0),8,26))=26,IFERROR(VLOOKUP(DATE(($C$2+0),8,26),祝日!$A$2:$B$65,2,FALSE),""),"") | L30: =IF(DAY(DATE(($C$2+0),9,26))=26,TEXT(DATE(($C$2+0),9,26),"aaa"),"") | M30: =IF(DAY(DATE(($C$2+0),9,26))=26,IFERROR(VLOOKUP(DATE(($C$2+0),9,26),祝日!$A$2:$B$65,2,FALSE),""),"") | N30: =IF(DAY(DATE(($C$2+0),10,26))=26,TEXT(DATE(($C$2+0),10,26),"aaa"),"") | O30: =IF(DAY(DATE(($C$2+0),10,26))=26,IFERROR(VLOOKUP(DATE(($C$2+0),10,26),祝日!$A$2:$B$65,2,FALSE),""),"") | P30: =IF(DAY(DATE(($C$2+0),11,26))=26,TEXT(DATE(($C$2+0),11,26),"aaa"),"") | Q30: =IF(DAY(DATE(($C$2+0),11,26))=26,IFERROR(VLOOKUP(DATE(($C$2+0),11,26),祝日!$A$2:$B$65,2,FALSE),""),"") | R30: =IF(DAY(DATE(($C$2+0),12,26))=26,TEXT(DATE(($C$2+0),12,26),"aaa"),"") | S30: =IF(DAY(DATE(($C$2+0),12,26))=26,IFERROR(VLOOKUP(DATE(($C$2+0),12,26),祝日!$A$2:$B$65,2,FALSE),""),"") | T30: =IF(DAY(DATE(($C$2+1),1,26))=26,TEXT(DATE(($C$2+1),1,26),"aaa"),"") | U30: =IF(DAY(DATE(($C$2+1),1,26))=26,IFERROR(VLOOKUP(DATE(($C$2+1),1,26),祝日!$A$2:$B$65,2,FALSE),""),"") | V30: =IF(DAY(DATE(($C$2+1),2,26))=26,TEXT(DATE(($C$2+1),2,26),"aaa"),"") | W30: =IF(DAY(DATE(($C$2+1),2,26))=26,IFERROR(VLOOKUP(DATE(($C$2+1),2,26),祝日!$A$2:$B$65,2,FALSE),""),"") | X30: =IF(DAY(DATE(($C$2+1),3,26))=26,TEXT(DATE(($C$2+1),3,26),"aaa"),"") | Y30: =IF(DAY(DATE(($C$2+1),3,26))=26,IFERROR(VLOOKUP(DATE(($C$2+1),3,26),祝日!$A$2:$B$65,2,FALSE),""),"")
A31: 27 | B31: =IF(DAY(DATE(($C$2+0),4,27))=27,TEXT(DATE(($C$2+0),4,27),"aaa"),"") | C31: =IF(DAY(DATE(($C$2+0),4,27))=27,IFERROR(VLOOKUP(DATE(($C$2+0),4,27),祝日!$A$2:$B$65,2,FALSE),""),"") | D31: =IF(DAY(DATE(($C$2+0),5,27))=27,TEXT(DATE(($C$2+0),5,27),"aaa"),"") | E31: =IF(DAY(DATE(($C$2+0),5,27))=27,IFERROR(VLOOKUP(DATE(($C$2+0),5,27),祝日!$A$2:$B$65,2,FALSE),""),"") | F31: =IF(DAY(DATE(($C$2+0),6,27))=27,TEXT(DATE(($C$2+0),6,27),"aaa"),"") | G31: =IF(DAY(DATE(($C$2+0),6,27))=27,IFERROR(VLOOKUP(DATE(($C$2+0),6,27),祝日!$A$2:$B$65,2,FALSE),""),"") | H31: =IF(DAY(DATE(($C$2+0),7,27))=27,TEXT(DATE(($C$2+0),7,27),"aaa"),"") | I31: =IF(DAY(DATE(($C$2+0),7,27))=27,IFERROR(VLOOKUP(DATE(($C$2+0),7,27),祝日!$A$2:$B$65,2,FALSE),""),"") | J31: =IF(DAY(DATE(($C$2+0),8,27))=27,TEXT(DATE(($C$2+0),8,27),"aaa"),"") | K31: =IF(DAY(DATE(($C$2+0),8,27))=27,IFERROR(VLOOKUP(DATE(($C$2+0),8,27),祝日!$A$2:$B$65,2,FALSE),""),"") | L31: =IF(DAY(DATE(($C$2+0),9,27))=27,TEXT(DATE(($C$2+0),9,27),"aaa"),"") | M31: =IF(DAY(DATE(($C$2+0),9,27))=27,IFERROR(VLOOKUP(DATE(($C$2+0),9,27),祝日!$A$2:$B$65,2,FALSE),""),"") | N31: =IF(DAY(DATE(($C$2+0),10,27))=27,TEXT(DATE(($C$2+0),10,27),"aaa"),"") | O31: =IF(DAY(DATE(($C$2+0),10,27))=27,IFERROR(VLOOKUP(DATE(($C$2+0),10,27),祝日!$A$2:$B$65,2,FALSE),""),"") | P31: =IF(DAY(DATE(($C$2+0),11,27))=27,TEXT(DATE(($C$2+0),11,27),"aaa"),"") | Q31: 持久走大会 | R31: =IF(DAY(DATE(($C$2+0),12,27))=27,TEXT(DATE(($C$2+0),12,27),"aaa"),"") | S31: =IF(DAY(DATE(($C$2+0),12,27))=27,IFERROR(VLOOKUP(DATE(($C$2+0),12,27),祝日!$A$2:$B$65,2,FALSE),""),"") | T31: =IF(DAY(DATE(($C$2+1),1,27))=27,TEXT(DATE(($C$2+1),1,27),"aaa"),"") | U31: =IF(DAY(DATE(($C$2+1),1,27))=27,IFERROR(VLOOKUP(DATE(($C$2+1),1,27),祝日!$A$2:$B$65,2,FALSE),""),"") | V31: =IF(DAY(DATE(($C$2+1),2,27))=27,TEXT(DATE(($C$2+1),2,27),"aaa"),"") | W31: =IF(DAY(DATE(($C$2+1),2,27))=27,IFERROR(VLOOKUP(DATE(($C$2+1),2,27),祝日!$A$2:$B$65,2,FALSE),""),"") | X31: =IF(DAY(DATE(($C$2+1),3,27))=27,TEXT(DATE(($C$2+1),3,27),"aaa"),"") | Y31: =IF(DAY(DATE(($C$2+1),3,27))=27,IFERROR(VLOOKUP(DATE(($C$2+1),3,27),祝日!$A$2:$B$65,2,FALSE),""),"")
A32: 28 | B32: =IF(DAY(DATE(($C$2+0),4,28))=28,TEXT(DATE(($C$2+0),4,28),"aaa"),"") | C32: =IF(DAY(DATE(($C$2+0),4,28))=28,IFERROR(VLOOKUP(DATE(($C$2+0),4,28),祝日!$A$2:$B$65,2,FALSE),""),"") | D32: =IF(DAY(DATE(($C$2+0),5,28))=28,TEXT(DATE(($C$2+0),5,28),"aaa"),"") | E32: =IF(DAY(DATE(($C$2+0),5,28))=28,IFERROR(VLOOKUP(DATE(($C$2+0),5,28),祝日!$A$2:$B$65,2,FALSE),""),"") | F32: =IF(DAY(DATE(($C$2+0),6,28))=28,TEXT(DATE(($C$2+0),6,28),"aaa"),"") | G32: =IF(DAY(DATE(($C$2+0),6,28))=28,IFERROR(VLOOKUP(DATE(($C$2+0),6,28),祝日!$A$2:$B$65,2,FALSE),""),"") | H32: =IF(DAY(DATE(($C$2+0),7,28))=28,TEXT(DATE(($C$2+0),7,28),"aaa"),"") | I32: =IF(DAY(DATE(($C$2+0),7,28))=28,IFERROR(VLOOKUP(DATE(($C$2+0),7,28),祝日!$A$2:$B$65,2,FALSE),""),"") | J32: =IF(DAY(DATE(($C$2+0),8,28))=28,TEXT(DATE(($C$2+0),8,28),"aaa"),"") | K32: =IF(DAY(DATE(($C$2+0),8,28))=28,IFERROR(VLOOKUP(DATE(($C$2+0),8,28),祝日!$A$2:$B$65,2,FALSE),""),"") | L32: =IF(DAY(DATE(($C$2+0),9,28))=28,TEXT(DATE(($C$2+0),9,28),"aaa"),"") | M32: =IF(DAY(DATE(($C$2+0),9,28))=28,IFERROR(VLOOKUP(DATE(($C$2+0),9,28),祝日!$A$2:$B$65,2,FALSE),""),"") | N32: =IF(DAY(DATE(($C$2+0),10,28))=28,TEXT(DATE(($C$2+0),10,28),"aaa"),"") | O32: =IF(DAY(DATE(($C$2+0),10,28))=28,IFERROR(VLOOKUP(DATE(($C$2+0),10,28),祝日!$A$2:$B$65,2,FALSE),""),"") | P32: =IF(DAY(DATE(($C$2+0),11,28))=28,TEXT(DATE(($C$2+0),11,28),"aaa"),"") | Q32: =IF(DAY(DATE(($C$2+0),11,28))=28,IFERROR(VLOOKUP(DATE(($C$2+0),11,28),祝日!$A$2:$B$65,2,FALSE),""),"") | R32: =IF(DAY(DATE(($C$2+0),12,28))=28,TEXT(DATE(($C$2+0),12,28),"aaa"),"") | S32: =IF(DAY(DATE(($C$2+0),12,28))=28,IFERROR(VLOOKUP(DATE(($C$2+0),12,28),祝日!$A$2:$B$65,2,FALSE),""),"") | T32: =IF(DAY(DATE(($C$2+1),1,28))=28,TEXT(DATE(($C$2+1),1,28),"aaa"),"") | U32: =IF(DAY(DATE(($C$2+1),1,28))=28,IFERROR(VLOOKUP(DATE(($C$2+1),1,28),祝日!$A$2:$B$65,2,FALSE),""),"") | V32: =IF(DAY(DATE(($C$2+1),2,28))=28,TEXT(DATE(($C$2+1),2,28),"aaa"),"") | W32: =IF(DAY(DATE(($C$2+1),2,28))=28,IFERROR(VLOOKUP(DATE(($C$2+1),2,28),祝日!$A$2:$B$65,2,FALSE),""),"") | X32: =IF(DAY(DATE(($C$2+1),3,28))=28,TEXT(DATE(($C$2+1),3,28),"aaa"),"") | Y32: =IF(DAY(DATE(($C$2+1),3,28))=28,IFERROR(VLOOKUP(DATE(($C$2+1),3,28),祝日!$A$2:$B$65,2,FALSE),""),"")
