Workbook

Sheet 請求書管理表
A1: 請求書管理表
B3: 請求金額の合計 | E3: 入金済みの合計 | H3: 未入金の合計 | K3: うち期限を過ぎた額
B4: =SUM($F$7:$F$106) | E4: =SUM($I$7:$I$106) | H4: =SUM($J$7:$J$106) | K4: =SUMIF($K$7:$K$106,"期限超過",$J$7:$J$106)+SUMIFS($J$7:$J$106,$K$7:$K$106,"一部入金",$G$7:$G$106,"<"&TODAY())
A6: No. | B6: 請求日 | C6: 請求書番号 | D6: 取引先 | E6: 件名 | F6: 請求金額(税込) | G6: 支払期限 | H6: 入金日 | I6: 入金額 | J6: 差額(未入金) | K6: 状況 | L6: メモ
A7: 1 | B7: 46265 | C7: 0001 | D7: 株式会社○○商事 | E7: 事務机・いす 一式 | F7: 528000 | G7: 46295 | H7: 46295 | I7: 528000 | J7: =IF(F7="","",F7-N(I7)) | K7: =IF(F7="","",IF(J7<=0,"入金済み",IF(N(I7)>0,"一部入金",IF(AND(G7<>"",G7<TODAY()),"期限超過","未入金"))))
A8: 2 | B8: 46295 | C8: 0002 | D8: △△工業株式会社 | E8: 工具セット | F8: 94600 | G8: 46326 | J8: =IF(F8="","",F8-N(I8)) | K8: =IF(F8="","",IF(J8<=0,"入金済み",IF(N(I8)>0,"一部入金",IF(AND(G8<>"",G8<TODAY()),"期限超過","未入金"))))
A9: 3 | B9: 46295 | C9: 0003 | D9: 株式会社◇◇ | E9: 倉庫の棚 増設工事 | F9: 1320000 | G9: 46310 | H9: 46310 | I9: 660000 | J9: =IF(F9="","",F9-N(I9)) | K9: =IF(F9="","",IF(J9<=0,"入金済み",IF(N(I9)>0,"一部入金",IF(AND(G9<>"",G9<TODAY()),"期限超過","未入金")))) | L9: 残りは11月に入金予定
A10: 4 | B10: 46265 | C10: 0004 | D10: □□デザイン | E10: 事務用品 | F10: 38500 | G10: 46295 | J10: =IF(F10="","",F10-N(I10)) | K10: =IF(F10="","",IF(J10<=0,"入金済み",IF(N(I10)>0,"一部入金",IF(AND(G10<>"",G10<TODAY()),"期限超過","未入金")))) | L10: 督促の連絡済み
A11: 5 | B11: 46310 | C11: 0005 | D11: 株式会社○○商事 | E11: 複合機の消耗品 | F11: 38500 | G11: 46356 | J11: =IF(F11="","",F11-N(I11)) | K11: =IF(F11="","",IF(J11<=0,"入金済み",IF(N(I11)>0,"一部入金",IF(AND(G11<>"",G11<TODAY()),"期限超過","未入金"))))
A12: 6 | J12: =IF(F12="","",F12-N(I12)) | K12: =IF(F12="","",IF(J12<=0,"入金済み",IF(N(I12)>0,"一部入金",IF(AND(G12<>"",G12<TODAY()),"期限超過","未入金"))))
A13: 7 | J13: =IF(F13="","",F13-N(I13)) | K13: =IF(F13="","",IF(J13<=0,"入金済み",IF(N(I13)>0,"一部入金",IF(AND(G13<>"",G13<TODAY()),"期限超過","未入金"))))
A14: 8 | J14: =IF(F14="","",F14-N(I14)) | K14: =IF(F14="","",IF(J14<=0,"入金済み",IF(N(I14)>0,"一部入金",IF(AND(G14<>"",G14<TODAY()),"期限超過","未入金"))))
A15: 9 | J15: =IF(F15="","",F15-N(I15)) | K15: =IF(F15="","",IF(J15<=0,"入金済み",IF(N(I15)>0,"一部入金",IF(AND(G15<>"",G15<TODAY()),"期限超過","未入金"))))
A16: 10 | J16: =IF(F16="","",F16-N(I16)) | K16: =IF(F16="","",IF(J16<=0,"入金済み",IF(N(I16)>0,"一部入金",IF(AND(G16<>"",G16<TODAY()),"期限超過","未入金"))))
A17: 11 | J17: =IF(F17="","",F17-N(I17)) | K17: =IF(F17="","",IF(J17<=0,"入金済み",IF(N(I17)>0,"一部入金",IF(AND(G17<>"",G17<TODAY()),"期限超過","未入金"))))
A18: 12 | J18: =IF(F18="","",F18-N(I18)) | K18: =IF(F18="","",IF(J18<=0,"入金済み",IF(N(I18)>0,"一部入金",IF(AND(G18<>"",G18<TODAY()),"期限超過","未入金"))))
A19: 13 | J19: =IF(F19="","",F19-N(I19)) | K19: =IF(F19="","",IF(J19<=0,"入金済み",IF(N(I19)>0,"一部入金",IF(AND(G19<>"",G19<TODAY()),"期限超過","未入金"))))
A20: 14 | J20: =IF(F20="","",F20-N(I20)) | K20: =IF(F20="","",IF(J20<=0,"入金済み",IF(N(I20)>0,"一部入金",IF(AND(G20<>"",G20<TODAY()),"期限超過","未入金"))))
A21: 15 | J21: =IF(F21="","",F21-N(I21)) | K21: =IF(F21="","",IF(J21<=0,"入金済み",IF(N(I21)>0,"一部入金",IF(AND(G21<>"",G21<TODAY()),"期限超過","未入金"))))
A22: 16 | J22: =IF(F22="","",F22-N(I22)) | K22: =IF(F22="","",IF(J22<=0,"入金済み",IF(N(I22)>0,"一部入金",IF(AND(G22<>"",G22<TODAY()),"期限超過","未入金"))))
A23: 17 | J23: =IF(F23="","",F23-N(I23)) | K23: =IF(F23="","",IF(J23<=0,"入金済み",IF(N(I23)>0,"一部入金",IF(AND(G23<>"",G23<TODAY()),"期限超過","未入金"))))
... A106: 100 | J106: =IF(F106="","",F106-N(I106)) | K106: =IF(F106="","",IF(J106<=0,"入金済み",IF(N(I106)>0,"一部入金",IF(AND(G106<>"",G106<TODAY()),"期限超過","未入金"))))
A108: ※差額と状況は自動で出ます。状況:入金済み/一部入金/未入金/期限超過(支払期限を過ぎて入金がない)。振込手数料を差し引いて入金された場合は、メモに書いておきます。

Sheet 取引先別の未入金
A1: 取引先別の未入金
A2: 取引先名を入れると、請求書管理表から未入金の額と件数を集計します。
A4: 取引先 | B4: 未入金の額 | C4: うち期限超過 | D4: 件数
A5: 株式会社○○商事 | B5: =IF(A5="","",SUMIF(請求書管理表!$D$7:$D$106,A5,請求書管理表!$J$7:$J$106)) | C5: =IF(A5="","",SUMIFS(請求書管理表!$J$7:$J$106,請求書管理表!$D$7:$D$106,A5,請求書管理表!$K$7:$K$106,"期限超過")+SUMIFS(請求書管理表!$J$7:$J$106,請求書管理表!$D$7:$D$106,A5,請求書管理表!$K$7:$K$106,"一部入金",請求書管理表!$G$7:$G$106,"<"&TODAY())) | D5: =IF(A5="","",COUNTIFS(請求書管理表!$D$7:$D$106,A5,請求書管理表!$K$7:$K$106,"<>入金済み"))
A6: △△工業株式会社 | B6: =IF(A6="","",SUMIF(請求書管理表!$D$7:$D$106,A6,請求書管理表!$J$7:$J$106)) | C6: =IF(A6="","",SUMIFS(請求書管理表!$J$7:$J$106,請求書管理表!$D$7:$D$106,A6,請求書管理表!$K$7:$K$106,"期限超過")+SUMIFS(請求書管理表!$J$7:$J$106,請求書管理表!$D$7:$D$106,A6,請求書管理表!$K$7:$K$106,"一部入金",請求書管理表!$G$7:$G$106,"<"&TODAY())) | D6: =IF(A6="","",COUNTIFS(請求書管理表!$D$7:$D$106,A6,請求書管理表!$K$7:$K$106,"<>入金済み"))
A7: 株式会社◇◇ | B7: =IF(A7="","",SUMIF(請求書管理表!$D$7:$D$106,A7,請求書管理表!$J$7:$J$106)) | C7: =IF(A7="","",SUMIFS(請求書管理表!$J$7:$J$106,請求書管理表!$D$7:$D$106,A7,請求書管理表!$K$7:$K$106,"期限超過")+SUMIFS(請求書管理表!$J$7:$J$106,請求書管理表!$D$7:$D$106,A7,請求書管理表!$K$7:$K$106,"一部入金",請求書管理表!$G$7:$G$106,"<"&TODAY())) | D7: =IF(A7="","",COUNTIFS(請求書管理表!$D$7:$D$106,A7,請求書管理表!$K$7:$K$106,"<>入金済み"))
A8: □□デザイン | B8: =IF(A8="","",SUMIF(請求書管理表!$D$7:$D$106,A8,請求書管理表!$J$7:$J$106)) | C8: =IF(A8="","",SUMIFS(請求書管理表!$J$7:$J$106,請求書管理表!$D$7:$D$106,A8,請求書管理表!$K$7:$K$106,"期限超過")+SUMIFS(請求書管理表!$J$7:$J$106,請求書管理表!$D$7:$D$106,A8,請求書管理表!$K$7:$K$106,"一部入金",請求書管理表!$G$7:$G$106,"<"&TODAY())) | D8: =IF(A8="","",COUNTIFS(請求書管理表!$D$7:$D$106,A8,請求書管理表!$K$7:$K$106,"<>入金済み"))
B9: =IF(A9="","",SUMIF(請求書管理表!$D$7:$D$106,A9,請求書管理表!$J$7:$J$106)) | C9: =IF(A9="","",SUMIFS(請求書管理表!$J$7:$J$106,請求書管理表!$D$7:$D$106,A9,請求書管理表!$K$7:$K$106,"期限超過")+SUMIFS(請求書管理表!$J$7:$J$106,請求書管理表!$D$7:$D$106,A9,請求書管理表!$K$7:$K$106,"一部入金",請求書管理表!$G$7:$G$106,"<"&TODAY())) | D9: =IF(A9="","",COUNTIFS(請求書管理表!$D$7:$D$106,A9,請求書管理表!$K$7:$K$106,"<>入金済み"))
B10: =IF(A10="","",SUMIF(請求書管理表!$D$7:$D$106,A10,請求書管理表!$J$7:$J$106)) | C10: =IF(A10="","",SUMIFS(請求書管理表!$J$7:$J$106,請求書管理表!$D$7:$D$106,A10,請求書管理表!$K$7:$K$106,"期限超過")+SUMIFS(請求書管理表!$J$7:$J$106,請求書管理表!$D$7:$D$106,A10,請求書管理表!$K$7:$K$106,"一部入金",請求書管理表!$G$7:$G$106,"<"&TODAY())) | D10: =IF(A10="","",COUNTIFS(請求書管理表!$D$7:$D$106,A10,請求書管理表!$K$7:$K$106,"<>入金済み"))
B11: =IF(A11="","",SUMIF(請求書管理表!$D$7:$D$106,A11,請求書管理表!$J$7:$J$106)) | C11: =IF(A11="","",SUMIFS(請求書管理表!$J$7:$J$106,請求書管理表!$D$7:$D$106,A11,請求書管理表!$K$7:$K$106,"期限超過")+SUMIFS(請求書管理表!$J$7:$J$106,請求書管理表!$D$7:$D$106,A11,請求書管理表!$K$7:$K$106,"一部入金",請求書管理表!$G$7:$G$106,"<"&TODAY())) | D11: =IF(A11="","",COUNTIFS(請求書管理表!$D$7:$D$106,A11,請求書管理表!$K$7:$K$106,"<>入金済み"))
B12: =IF(A12="","",SUMIF(請求書管理表!$D$7:$D$106,A12,請求書管理表!$J$7:$J$106)) | C12: =IF(A12="","",SUMIFS(請求書管理表!$J$7:$J$106,請求書管理表!$D$7:$D$106,A12,請求書管理表!$K$7:$K$106,"期限超過")+SUMIFS(請求書管理表!$J$7:$J$106,請求書管理表!$D$7:$D$106,A12,請求書管理表!$K$7:$K$106,"一部入金",請求書管理表!$G$7:$G$106,"<"&TODAY())) | D12: =IF(A12="","",COUNTIFS(請求書管理表!$D$7:$D$106,A12,請求書管理表!$K$7:$K$106,"<>入金済み"))
B13: =IF(A13="","",SUMIF(請求書管理表!$D$7:$D$106,A13,請求書管理表!$J$7:$J$106)) | C13: =IF(A13="","",SUMIFS(請求書管理表!$J$7:$J$106,請求書管理表!$D$7:$D$106,A13,請求書管理表!$K$7:$K$106,"期限超過")+SUMIFS(請求書管理表!$J$7:$J$106,請求書管理表!$D$7:$D$106,A13,請求書管理表!$K$7:$K$106,"一部入金",請求書管理表!$G$7:$G$106,"<"&TODAY())) | D13: =IF(A13="","",COUNTIFS(請求書管理表!$D$7:$D$106,A13,請求書管理表!$K$7:$K$106,"<>入金済み"))
B14: =IF(A14="","",SUMIF(請求書管理表!$D$7:$D$106,A14,請求書管理表!$J$7:$J$106)) | C14: =IF(A14="","",SUMIFS(請求書管理表!$J$7:$J$106,請求書管理表!$D$7:$D$106,A14,請求書管理表!$K$7:$K$106,"期限超過")+SUMIFS(請求書管理表!$J$7:$J$106,請求書管理表!$D$7:$D$106,A14,請求書管理表!$K$7:$K$106,"一部入金",請求書管理表!$G$7:$G$106,"<"&TODAY())) | D14: =IF(A14="","",COUNTIFS(請求書管理表!$D$7:$D$106,A14,請求書管理表!$K$7:$K$106,"<>入金済み"))
B15: =IF(A15="","",SUMIF(請求書管理表!$D$7:$D$106,A15,請求書管理表!$J$7:$J$106)) | C15: =IF(A15="","",SUMIFS(請求書管理表!$J$7:$J$106,請求書管理表!$D$7:$D$106,A15,請求書管理表!$K$7:$K$106,"期限超過")+SUMIFS(請求書管理表!$J$7:$J$106,請求書管理表!$D$7:$D$106,A15,請求書管理表!$K$7:$K$106,"一部入金",請求書管理表!$G$7:$G$106,"<"&TODAY())) | D15: =IF(A15="","",COUNTIFS(請求書管理表!$D$7:$D$106,A15,請求書管理表!$K$7:$K$106,"<>入金済み"))
B16: =IF(A16="","",SUMIF(請求書管理表!$D$7:$D$106,A16,請求書管理表!$J$7:$J$106)) | C16: =IF(A16="","",SUMIFS(請求書管理表!$J$7:$J$106,請求書管理表!$D$7:$D$106,A16,請求書管理表!$K$7:$K$106,"期限超過")+SUMIFS(請求書管理表!$J$7:$J$106,請求書管理表!$D$7:$D$106,A16,請求書管理表!$K$7:$K$106,"一部入金",請求書管理表!$G$7:$G$106,"<"&TODAY())) | D16: =IF(A16="","",COUNTIFS(請求書管理表!$D$7:$D$106,A16,請求書管理表!$K$7:$K$106,"<>入金済み"))
B17: =IF(A17="","",SUMIF(請求書管理表!$D$7:$D$106,A17,請求書管理表!$J$7:$J$106)) | C17: =IF(A17="","",SUMIFS(請求書管理表!$J$7:$J$106,請求書管理表!$D$7:$D$106,A17,請求書管理表!$K$7:$K$106,"期限超過")+SUMIFS(請求書管理表!$J$7:$J$106,請求書管理表!$D$7:$D$106,A17,請求書管理表!$K$7:$K$106,"一部入金",請求書管理表!$G$7:$G$106,"<"&TODAY())) | D17: =IF(A17="","",COUNTIFS(請求書管理表!$D$7:$D$106,A17,請求書管理表!$K$7:$K$106,"<>入金済み"))
B18: =IF(A18="","",SUMIF(請求書管理表!$D$7:$D$106,A18,請求書管理表!$J$7:$J$106)) | C18: =IF(A18="","",SUMIFS(請求書管理表!$J$7:$J$106,請求書管理表!$D$7:$D$106,A18,請求書管理表!$K$7:$K$106,"期限超過")+SUMIFS(請求書管理表!$J$7:$J$106,請求書管理表!$D$7:$D$106,A18,請求書管理表!$K$7:$K$106,"一部入金",請求書管理表!$G$7:$G$106,"<"&TODAY())) | D18: =IF(A18="","",COUNTIFS(請求書管理表!$D$7:$D$106,A18,請求書管理表!$K$7:$K$106,"<>入金済み"))
B19: =IF(A19="","",SUMIF(請求書管理表!$D$7:$D$106,A19,請求書管理表!$J$7:$J$106)) | C19: =IF(A19="","",SUMIFS(請求書管理表!$J$7:$J$106,請求書管理表!$D$7:$D$106,A19,請求書管理表!$K$7:$K$106,"期限超過")+SUMIFS(請求書管理表!$J$7:$J$106,請求書管理表!$D$7:$D$106,A19,請求書管理表!$K$7:$K$106,"一部入金",請求書管理表!$G$7:$G$106,"<"&TODAY())) | D19: =IF(A19="","",COUNTIFS(請求書管理表!$D$7:$D$106,A19,請求書管理表!$K$7:$K$106,"<>入金済み"))
B20: =IF(A20="","",SUMIF(請求書管理表!$D$7:$D$106,A20,請求書管理表!$J$7:$J$106)) | C20: =IF(A20="","",SUMIFS(請求書管理表!$J$7:$J$106,請求書管理表!$D$7:$D$106,A20,請求書管理表!$K$7:$K$106,"期限超過")+SUMIFS(請求書管理表!$J$7:$J$106,請求書管理表!$D$7:$D$106,A20,請求書管理表!$K$7:$K$106,"一部入金",請求書管理表!$G$7:$G$106,"<"&TODAY())) | D20: =IF(A20="","",COUNTIFS(請求書管理表!$D$7:$D$106,A20,請求書管理表!$K$7:$K$106,"<>入金済み"))
... B24: =IF(A24="","",SUMIF(請求書管理表!$D$7:$D$106,A24,請求書管理表!$J$7:$J$106)) | C24: =IF(A24="","",SUMIFS(請求書管理表!$J$7:$J$106,請求書管理表!$D$7:$D$106,A24,請求書管理表!$K$7:$K$106,"期限超過")+SUMIFS(請求書管理表!$J$7:$J$106,請求書管理表!$D$7:$D$106,A24,請求書管理表!$K$7:$K$106,"一部入金",請求書管理表!$G$7:$G$106,"<"&TODAY())) | D24: =IF(A24="","",COUNTIFS(請求書管理表!$D$7:$D$106,A24,請求書管理表!$K$7:$K$106,"<>入金済み"))
