Workbook

Sheet 席次表
B1: 席 次 表
B2: ○○家・○○家 結婚披露宴 令和○年○月○日(○) 於 ○○ホテル
I4: 新郎 ○○ ○○ 高砂 新婦 ○○ ○○
B6: A卓 | G6: B卓 | L6: C卓 | Q6: D卓
B7: =IFERROR(LOOKUP(2,1/((名簿!$A$2:$A$101="A")*(名簿!$B$2:$B$101=1)),名簿!$C$2:$C$101)&"","") | C7: =IFERROR(LOOKUP(2,1/((名簿!$A$2:$A$101="A")*(名簿!$B$2:$B$101=1)),名簿!$D$2:$D$101)&" 様","") | D7: =IFERROR(LOOKUP(2,1/((名簿!$A$2:$A$101="A")*(名簿!$B$2:$B$101=5)),名簿!$C$2:$C$101)&"","") | E7: =IFERROR(LOOKUP(2,1/((名簿!$A$2:$A$101="A")*(名簿!$B$2:$B$101=5)),名簿!$D$2:$D$101)&" 様","") | G7: =IFERROR(LOOKUP(2,1/((名簿!$A$2:$A$101="B")*(名簿!$B$2:$B$101=1)),名簿!$C$2:$C$101)&"","") | H7: =IFERROR(LOOKUP(2,1/((名簿!$A$2:$A$101="B")*(名簿!$B$2:$B$101=1)),名簿!$D$2:$D$101)&" 様","") | I7: =IFERROR(LOOKUP(2,1/((名簿!$A$2:$A$101="B")*(名簿!$B$2:$B$101=5)),名簿!$C$2:$C$101)&"","") | J7: =IFERROR(LOOKUP(2,1/((名簿!$A$2:$A$101="B")*(名簿!$B$2:$B$101=5)),名簿!$D$2:$D$101)&" 様","") | L7: =IFERROR(LOOKUP(2,1/((名簿!$A$2:$A$101="C")*(名簿!$B$2:$B$101=1)),名簿!$C$2:$C$101)&"","") | M7: =IFERROR(LOOKUP(2,1/((名簿!$A$2:$A$101="C")*(名簿!$B$2:$B$101=1)),名簿!$D$2:$D$101)&" 様","") | N7: =IFERROR(LOOKUP(2,1/((名簿!$A$2:$A$101="C")*(名簿!$B$2:$B$101=5)),名簿!$C$2:$C$101)&"","") | O7: =IFERROR(LOOKUP(2,1/((名簿!$A$2:$A$101="C")*(名簿!$B$2:$B$101=5)),名簿!$D$2:$D$101)&" 様","") | Q7: =IFERROR(LOOKUP(2,1/((名簿!$A$2:$A$101="D")*(名簿!$B$2:$B$101=1)),名簿!$C$2:$C$101)&"","") | R7: =IFERROR(LOOKUP(2,1/((名簿!$A$2:$A$101="D")*(名簿!$B$2:$B$101=1)),名簿!$D$2:$D$101)&" 様","") | S7: =IFERROR(LOOKUP(2,1/((名簿!$A$2:$A$101="D")*(名簿!$B$2:$B$101=5)),名簿!$C$2:$C$101)&"","") | T7: =IFERROR(LOOKUP(2,1/((名簿!$A$2:$A$101="D")*(名簿!$B$2:$B$101=5)),名簿!$D$2:$D$101)&" 様","")
B8: =IFERROR(LOOKUP(2,1/((名簿!$A$2:$A$101="A")*(名簿!$B$2:$B$101=2)),名簿!$C$2:$C$101)&"","") | C8: =IFERROR(LOOKUP(2,1/((名簿!$A$2:$A$101="A")*(名簿!$B$2:$B$101=2)),名簿!$D$2:$D$101)&" 様","") | D8: =IFERROR(LOOKUP(2,1/((名簿!$A$2:$A$101="A")*(名簿!$B$2:$B$101=6)),名簿!$C$2:$C$101)&"","") | E8: =IFERROR(LOOKUP(2,1/((名簿!$A$2:$A$101="A")*(名簿!$B$2:$B$101=6)),名簿!$D$2:$D$101)&" 様","") | G8: =IFERROR(LOOKUP(2,1/((名簿!$A$2:$A$101="B")*(名簿!$B$2:$B$101=2)),名簿!$C$2:$C$101)&"","") | H8: =IFERROR(LOOKUP(2,1/((名簿!$A$2:$A$101="B")*(名簿!$B$2:$B$101=2)),名簿!$D$2:$D$101)&" 様","") | I8: =IFERROR(LOOKUP(2,1/((名簿!$A$2:$A$101="B")*(名簿!$B$2:$B$101=6)),名簿!$C$2:$C$101)&"","") | J8: =IFERROR(LOOKUP(2,1/((名簿!$A$2:$A$101="B")*(名簿!$B$2:$B$101=6)),名簿!$D$2:$D$101)&" 様","") | L8: =IFERROR(LOOKUP(2,1/((名簿!$A$2:$A$101="C")*(名簿!$B$2:$B$101=2)),名簿!$C$2:$C$101)&"","") | M8: =IFERROR(LOOKUP(2,1/((名簿!$A$2:$A$101="C")*(名簿!$B$2:$B$101=2)),名簿!$D$2:$D$101)&" 様","") | N8: =IFERROR(LOOKUP(2,1/((名簿!$A$2:$A$101="C")*(名簿!$B$2:$B$101=6)),名簿!$C$2:$C$101)&"","") | O8: =IFERROR(LOOKUP(2,1/((名簿!$A$2:$A$101="C")*(名簿!$B$2:$B$101=6)),名簿!$D$2:$D$101)&" 様","") | Q8: =IFERROR(LOOKUP(2,1/((名簿!$A$2:$A$101="D")*(名簿!$B$2:$B$101=2)),名簿!$C$2:$C$101)&"","") | R8: =IFERROR(LOOKUP(2,1/((名簿!$A$2:$A$101="D")*(名簿!$B$2:$B$101=2)),名簿!$D$2:$D$101)&" 様","") | S8: =IFERROR(LOOKUP(2,1/((名簿!$A$2:$A$101="D")*(名簿!$B$2:$B$101=6)),名簿!$C$2:$C$101)&"","") | T8: =IFERROR(LOOKUP(2,1/((名簿!$A$2:$A$101="D")*(名簿!$B$2:$B$101=6)),名簿!$D$2:$D$101)&" 様","")
B9: =IFERROR(LOOKUP(2,1/((名簿!$A$2:$A$101="A")*(名簿!$B$2:$B$101=3)),名簿!$C$2:$C$101)&"","") | C9: =IFERROR(LOOKUP(2,1/((名簿!$A$2:$A$101="A")*(名簿!$B$2:$B$101=3)),名簿!$D$2:$D$101)&" 様","") | D9: =IFERROR(LOOKUP(2,1/((名簿!$A$2:$A$101="A")*(名簿!$B$2:$B$101=7)),名簿!$C$2:$C$101)&"","") | E9: =IFERROR(LOOKUP(2,1/((名簿!$A$2:$A$101="A")*(名簿!$B$2:$B$101=7)),名簿!$D$2:$D$101)&" 様","") | G9: =IFERROR(LOOKUP(2,1/((名簿!$A$2:$A$101="B")*(名簿!$B$2:$B$101=3)),名簿!$C$2:$C$101)&"","") | H9: =IFERROR(LOOKUP(2,1/((名簿!$A$2:$A$101="B")*(名簿!$B$2:$B$101=3)),名簿!$D$2:$D$101)&" 様","") | I9: =IFERROR(LOOKUP(2,1/((名簿!$A$2:$A$101="B")*(名簿!$B$2:$B$101=7)),名簿!$C$2:$C$101)&"","") | J9: =IFERROR(LOOKUP(2,1/((名簿!$A$2:$A$101="B")*(名簿!$B$2:$B$101=7)),名簿!$D$2:$D$101)&" 様","") | L9: =IFERROR(LOOKUP(2,1/((名簿!$A$2:$A$101="C")*(名簿!$B$2:$B$101=3)),名簿!$C$2:$C$101)&"","") | M9: =IFERROR(LOOKUP(2,1/((名簿!$A$2:$A$101="C")*(名簿!$B$2:$B$101=3)),名簿!$D$2:$D$101)&" 様","") | N9: =IFERROR(LOOKUP(2,1/((名簿!$A$2:$A$101="C")*(名簿!$B$2:$B$101=7)),名簿!$C$2:$C$101)&"","") | O9: =IFERROR(LOOKUP(2,1/((名簿!$A$2:$A$101="C")*(名簿!$B$2:$B$101=7)),名簿!$D$2:$D$101)&" 様","") | Q9: =IFERROR(LOOKUP(2,1/((名簿!$A$2:$A$101="D")*(名簿!$B$2:$B$101=3)),名簿!$C$2:$C$101)&"","") | R9: =IFERROR(LOOKUP(2,1/((名簿!$A$2:$A$101="D")*(名簿!$B$2:$B$101=3)),名簿!$D$2:$D$101)&" 様","") | S9: =IFERROR(LOOKUP(2,1/((名簿!$A$2:$A$101="D")*(名簿!$B$2:$B$101=7)),名簿!$C$2:$C$101)&"","") | T9: =IFERROR(LOOKUP(2,1/((名簿!$A$2:$A$101="D")*(名簿!$B$2:$B$101=7)),名簿!$D$2:$D$101)&" 様","")
B10: =IFERROR(LOOKUP(2,1/((名簿!$A$2:$A$101="A")*(名簿!$B$2:$B$101=4)),名簿!$C$2:$C$101)&"","") | C10: =IFERROR(LOOKUP(2,1/((名簿!$A$2:$A$101="A")*(名簿!$B$2:$B$101=4)),名簿!$D$2:$D$101)&" 様","") | D10: =IFERROR(LOOKUP(2,1/((名簿!$A$2:$A$101="A")*(名簿!$B$2:$B$101=8)),名簿!$C$2:$C$101)&"","") | E10: =IFERROR(LOOKUP(2,1/((名簿!$A$2:$A$101="A")*(名簿!$B$2:$B$101=8)),名簿!$D$2:$D$101)&" 様","") | G10: =IFERROR(LOOKUP(2,1/((名簿!$A$2:$A$101="B")*(名簿!$B$2:$B$101=4)),名簿!$C$2:$C$101)&"","") | H10: =IFERROR(LOOKUP(2,1/((名簿!$A$2:$A$101="B")*(名簿!$B$2:$B$101=4)),名簿!$D$2:$D$101)&" 様","") | I10: =IFERROR(LOOKUP(2,1/((名簿!$A$2:$A$101="B")*(名簿!$B$2:$B$101=8)),名簿!$C$2:$C$101)&"","") | J10: =IFERROR(LOOKUP(2,1/((名簿!$A$2:$A$101="B")*(名簿!$B$2:$B$101=8)),名簿!$D$2:$D$101)&" 様","") | L10: =IFERROR(LOOKUP(2,1/((名簿!$A$2:$A$101="C")*(名簿!$B$2:$B$101=4)),名簿!$C$2:$C$101)&"","") | M10: =IFERROR(LOOKUP(2,1/((名簿!$A$2:$A$101="C")*(名簿!$B$2:$B$101=4)),名簿!$D$2:$D$101)&" 様","") | N10: =IFERROR(LOOKUP(2,1/((名簿!$A$2:$A$101="C")*(名簿!$B$2:$B$101=8)),名簿!$C$2:$C$101)&"","") | O10: =IFERROR(LOOKUP(2,1/((名簿!$A$2:$A$101="C")*(名簿!$B$2:$B$101=8)),名簿!$D$2:$D$101)&" 様","") | Q10: =IFERROR(LOOKUP(2,1/((名簿!$A$2:$A$101="D")*(名簿!$B$2:$B$101=4)),名簿!$C$2:$C$101)&"","") | R10: =IFERROR(LOOKUP(2,1/((名簿!$A$2:$A$101="D")*(名簿!$B$2:$B$101=4)),名簿!$D$2:$D$101)&" 様","") | S10: =IFERROR(LOOKUP(2,1/((名簿!$A$2:$A$101="D")*(名簿!$B$2:$B$101=8)),名簿!$C$2:$C$101)&"","") | T10: =IFERROR(LOOKUP(2,1/((名簿!$A$2:$A$101="D")*(名簿!$B$2:$B$101=8)),名簿!$D$2:$D$101)&" 様","")
B13: E卓 | G13: F卓 | L13: G卓 | Q13: H卓
B14: =IFERROR(LOOKUP(2,1/((名簿!$A$2:$A$101="E")*(名簿!$B$2:$B$101=1)),名簿!$C$2:$C$101)&"","") | C14: =IFERROR(LOOKUP(2,1/((名簿!$A$2:$A$101="E")*(名簿!$B$2:$B$101=1)),名簿!$D$2:$D$101)&" 様","") | D14: =IFERROR(LOOKUP(2,1/((名簿!$A$2:$A$101="E")*(名簿!$B$2:$B$101=5)),名簿!$C$2:$C$101)&"","") | E14: =IFERROR(LOOKUP(2,1/((名簿!$A$2:$A$101="E")*(名簿!$B$2:$B$101=5)),名簿!$D$2:$D$101)&" 様","") | G14: =IFERROR(LOOKUP(2,1/((名簿!$A$2:$A$101="F")*(名簿!$B$2:$B$101=1)),名簿!$C$2:$C$101)&"","") | H14: =IFERROR(LOOKUP(2,1/((名簿!$A$2:$A$101="F")*(名簿!$B$2:$B$101=1)),名簿!$D$2:$D$101)&" 様","") | I14: =IFERROR(LOOKUP(2,1/((名簿!$A$2:$A$101="F")*(名簿!$B$2:$B$101=5)),名簿!$C$2:$C$101)&"","") | J14: =IFERROR(LOOKUP(2,1/((名簿!$A$2:$A$101="F")*(名簿!$B$2:$B$101=5)),名簿!$D$2:$D$101)&" 様","") | L14: =IFERROR(LOOKUP(2,1/((名簿!$A$2:$A$101="G")*(名簿!$B$2:$B$101=1)),名簿!$C$2:$C$101)&"","") | M14: =IFERROR(LOOKUP(2,1/((名簿!$A$2:$A$101="G")*(名簿!$B$2:$B$101=1)),名簿!$D$2:$D$101)&" 様","") | N14: =IFERROR(LOOKUP(2,1/((名簿!$A$2:$A$101="G")*(名簿!$B$2:$B$101=5)),名簿!$C$2:$C$101)&"","") | O14: =IFERROR(LOOKUP(2,1/((名簿!$A$2:$A$101="G")*(名簿!$B$2:$B$101=5)),名簿!$D$2:$D$101)&" 様","") | Q14: =IFERROR(LOOKUP(2,1/((名簿!$A$2:$A$101="H")*(名簿!$B$2:$B$101=1)),名簿!$C$2:$C$101)&"","") | R14: =IFERROR(LOOKUP(2,1/((名簿!$A$2:$A$101="H")*(名簿!$B$2:$B$101=1)),名簿!$D$2:$D$101)&" 様","") | S14: =IFERROR(LOOKUP(2,1/((名簿!$A$2:$A$101="H")*(名簿!$B$2:$B$101=5)),名簿!$C$2:$C$101)&"","") | T14: =IFERROR(LOOKUP(2,1/((名簿!$A$2:$A$101="H")*(名簿!$B$2:$B$101=5)),名簿!$D$2:$D$101)&" 様","")
B15: =IFERROR(LOOKUP(2,1/((名簿!$A$2:$A$101="E")*(名簿!$B$2:$B$101=2)),名簿!$C$2:$C$101)&"","") | C15: =IFERROR(LOOKUP(2,1/((名簿!$A$2:$A$101="E")*(名簿!$B$2:$B$101=2)),名簿!$D$2:$D$101)&" 様","") | D15: =IFERROR(LOOKUP(2,1/((名簿!$A$2:$A$101="E")*(名簿!$B$2:$B$101=6)),名簿!$C$2:$C$101)&"","") | E15: =IFERROR(LOOKUP(2,1/((名簿!$A$2:$A$101="E")*(名簿!$B$2:$B$101=6)),名簿!$D$2:$D$101)&" 様","") | G15: =IFERROR(LOOKUP(2,1/((名簿!$A$2:$A$101="F")*(名簿!$B$2:$B$101=2)),名簿!$C$2:$C$101)&"","") | H15: =IFERROR(LOOKUP(2,1/((名簿!$A$2:$A$101="F")*(名簿!$B$2:$B$101=2)),名簿!$D$2:$D$101)&" 様","") | I15: =IFERROR(LOOKUP(2,1/((名簿!$A$2:$A$101="F")*(名簿!$B$2:$B$101=6)),名簿!$C$2:$C$101)&"","") | J15: =IFERROR(LOOKUP(2,1/((名簿!$A$2:$A$101="F")*(名簿!$B$2:$B$101=6)),名簿!$D$2:$D$101)&" 様","") | L15: =IFERROR(LOOKUP(2,1/((名簿!$A$2:$A$101="G")*(名簿!$B$2:$B$101=2)),名簿!$C$2:$C$101)&"","") | M15: =IFERROR(LOOKUP(2,1/((名簿!$A$2:$A$101="G")*(名簿!$B$2:$B$101=2)),名簿!$D$2:$D$101)&" 様","") | N15: =IFERROR(LOOKUP(2,1/((名簿!$A$2:$A$101="G")*(名簿!$B$2:$B$101=6)),名簿!$C$2:$C$101)&"","") | O15: =IFERROR(LOOKUP(2,1/((名簿!$A$2:$A$101="G")*(名簿!$B$2:$B$101=6)),名簿!$D$2:$D$101)&" 様","") | Q15: =IFERROR(LOOKUP(2,1/((名簿!$A$2:$A$101="H")*(名簿!$B$2:$B$101=2)),名簿!$C$2:$C$101)&"","") | R15: =IFERROR(LOOKUP(2,1/((名簿!$A$2:$A$101="H")*(名簿!$B$2:$B$101=2)),名簿!$D$2:$D$101)&" 様","") | S15: =IFERROR(LOOKUP(2,1/((名簿!$A$2:$A$101="H")*(名簿!$B$2:$B$101=6)),名簿!$C$2:$C$101)&"","") | T15: =IFERROR(LOOKUP(2,1/((名簿!$A$2:$A$101="H")*(名簿!$B$2:$B$101=6)),名簿!$D$2:$D$101)&" 様","")
B16: =IFERROR(LOOKUP(2,1/((名簿!$A$2:$A$101="E")*(名簿!$B$2:$B$101=3)),名簿!$C$2:$C$101)&"","") | C16: =IFERROR(LOOKUP(2,1/((名簿!$A$2:$A$101="E")*(名簿!$B$2:$B$101=3)),名簿!$D$2:$D$101)&" 様","") | D16: =IFERROR(LOOKUP(2,1/((名簿!$A$2:$A$101="E")*(名簿!$B$2:$B$101=7)),名簿!$C$2:$C$101)&"","") | E16: =IFERROR(LOOKUP(2,1/((名簿!$A$2:$A$101="E")*(名簿!$B$2:$B$101=7)),名簿!$D$2:$D$101)&" 様","") | G16: =IFERROR(LOOKUP(2,1/((名簿!$A$2:$A$101="F")*(名簿!$B$2:$B$101=3)),名簿!$C$2:$C$101)&"","") | H16: =IFERROR(LOOKUP(2,1/((名簿!$A$2:$A$101="F")*(名簿!$B$2:$B$101=3)),名簿!$D$2:$D$101)&" 様","") | I16: =IFERROR(LOOKUP(2,1/((名簿!$A$2:$A$101="F")*(名簿!$B$2:$B$101=7)),名簿!$C$2:$C$101)&"","") | J16: =IFERROR(LOOKUP(2,1/((名簿!$A$2:$A$101="F")*(名簿!$B$2:$B$101=7)),名簿!$D$2:$D$101)&" 様","") | L16: =IFERROR(LOOKUP(2,1/((名簿!$A$2:$A$101="G")*(名簿!$B$2:$B$101=3)),名簿!$C$2:$C$101)&"","") | M16: =IFERROR(LOOKUP(2,1/((名簿!$A$2:$A$101="G")*(名簿!$B$2:$B$101=3)),名簿!$D$2:$D$101)&" 様","") | N16: =IFERROR(LOOKUP(2,1/((名簿!$A$2:$A$101="G")*(名簿!$B$2:$B$101=7)),名簿!$C$2:$C$101)&"","") | O16: =IFERROR(LOOKUP(2,1/((名簿!$A$2:$A$101="G")*(名簿!$B$2:$B$101=7)),名簿!$D$2:$D$101)&" 様","") | Q16: =IFERROR(LOOKUP(2,1/((名簿!$A$2:$A$101="H")*(名簿!$B$2:$B$101=3)),名簿!$C$2:$C$101)&"","") | R16: =IFERROR(LOOKUP(2,1/((名簿!$A$2:$A$101="H")*(名簿!$B$2:$B$101=3)),名簿!$D$2:$D$101)&" 様","") | S16: =IFERROR(LOOKUP(2,1/((名簿!$A$2:$A$101="H")*(名簿!$B$2:$B$101=7)),名簿!$C$2:$C$101)&"","") | T16: =IFERROR(LOOKUP(2,1/((名簿!$A$2:$A$101="H")*(名簿!$B$2:$B$101=7)),名簿!$D$2:$D$101)&" 様","")
B17: =IFERROR(LOOKUP(2,1/((名簿!$A$2:$A$101="E")*(名簿!$B$2:$B$101=4)),名簿!$C$2:$C$101)&"","") | C17: =IFERROR(LOOKUP(2,1/((名簿!$A$2:$A$101="E")*(名簿!$B$2:$B$101=4)),名簿!$D$2:$D$101)&" 様","") | D17: =IFERROR(LOOKUP(2,1/((名簿!$A$2:$A$101="E")*(名簿!$B$2:$B$101=8)),名簿!$C$2:$C$101)&"","") | E17: =IFERROR(LOOKUP(2,1/((名簿!$A$2:$A$101="E")*(名簿!$B$2:$B$101=8)),名簿!$D$2:$D$101)&" 様","") | G17: =IFERROR(LOOKUP(2,1/((名簿!$A$2:$A$101="F")*(名簿!$B$2:$B$101=4)),名簿!$C$2:$C$101)&"","") | H17: =IFERROR(LOOKUP(2,1/((名簿!$A$2:$A$101="F")*(名簿!$B$2:$B$101=4)),名簿!$D$2:$D$101)&" 様","") | I17: =IFERROR(LOOKUP(2,1/((名簿!$A$2:$A$101="F")*(名簿!$B$2:$B$101=8)),名簿!$C$2:$C$101)&"","") | J17: =IFERROR(LOOKUP(2,1/((名簿!$A$2:$A$101="F")*(名簿!$B$2:$B$101=8)),名簿!$D$2:$D$101)&" 様","") | L17: =IFERROR(LOOKUP(2,1/((名簿!$A$2:$A$101="G")*(名簿!$B$2:$B$101=4)),名簿!$C$2:$C$101)&"","") | M17: =IFERROR(LOOKUP(2,1/((名簿!$A$2:$A$101="G")*(名簿!$B$2:$B$101=4)),名簿!$D$2:$D$101)&" 様","") | N17: =IFERROR(LOOKUP(2,1/((名簿!$A$2:$A$101="G")*(名簿!$B$2:$B$101=8)),名簿!$C$2:$C$101)&"","") | O17: =IFERROR(LOOKUP(2,1/((名簿!$A$2:$A$101="G")*(名簿!$B$2:$B$101=8)),名簿!$D$2:$D$101)&" 様","") | Q17: =IFERROR(LOOKUP(2,1/((名簿!$A$2:$A$101="H")*(名簿!$B$2:$B$101=4)),名簿!$C$2:$C$101)&"","") | R17: =IFERROR(LOOKUP(2,1/((名簿!$A$2:$A$101="H")*(名簿!$B$2:$B$101=4)),名簿!$D$2:$D$101)&" 様","") | S17: =IFERROR(LOOKUP(2,1/((名簿!$A$2:$A$101="H")*(名簿!$B$2:$B$101=8)),名簿!$C$2:$C$101)&"","") | T17: =IFERROR(LOOKUP(2,1/((名簿!$A$2:$A$101="H")*(名簿!$B$2:$B$101=8)),名簿!$D$2:$D$101)&" 様","")
B21: 本日はご多用のところ 私どもの結婚披露宴にお越しいただき 誠にありがとうございます 未熟なふたりではございますが 今後とも末永くご指導くださいますよう よろしくお願い申し上げます 新郎 ○○ ○○ 新婦 ○○ ○○

Sheet 名簿
A1: 卓 | B1: 席 | C1: 肩書(関係) | D1: 氏名 | F1: ※卓(A〜H)と席(1〜8)を入れると、席次表シートに自動で入ります。同じ卓・席を2回入れないでください。
A2: A | B2: 1 | C2: 新郎上司 | D2: 山田 太郎
A3: A | B3: 2 | C3: 新郎上司 | D3: 佐藤 次郎
A4: A | B4: 3 | C4: 新郎同僚 | D4: 鈴木 花子
A5: B | B5: 1 | C5: 新婦友人 | D5: 高橋 美咲
A6: B | B6: 2 | C6: 新婦友人 | D6: 田中 さくら
A7: E | B7: 1 | C7: 新郎親族 | D7: 伊藤 健一
