Workbook

Sheet 仕訳帳
A1: 仕訳帳 20XX年
A2: 1行に1つの仕訳を入れます。借方・貸方の科目は「勘定科目」シートの一覧から選べます。
A4: 日付 | B4: 借方科目 | C4: 借方金額 | D4: 貸方科目 | E4: 貸方金額 | F4: 摘要 | G4: チェック | H4: 作業用
A5: 46296 | B5: 現金 | C5: 100000 | D5: 元入金 | E5: 100000 | F5: 開業資金を事業用に入れる | G5: =IF(AND(C5="",E5=""),"",IF(N(C5)=N(E5),"○","×")) | H5: =IF(AND(総勘定元帳!$E$1<>"",OR(B5=総勘定元帳!$E$1,D5=総勘定元帳!$E$1)),0+1,"")
A6: 46298 | B6: 仕入高 | C6: 55000 | D6: 買掛金 | E6: 55000 | F6: 商品の仕入れ ○○商店 | G6: =IF(AND(C6="",E6=""),"",IF(N(C6)=N(E6),"○","×")) | H6: =IF(AND(総勘定元帳!$E$1<>"",OR(B6=総勘定元帳!$E$1,D6=総勘定元帳!$E$1)),MAX($H$5:H5)+1,"")
A7: 46300 | B7: 消耗品費 | C7: 3300 | D7: 現金 | E7: 3300 | F7: コピー用紙・文具 ○○文具 | G7: =IF(AND(C7="",E7=""),"",IF(N(C7)=N(E7),"○","×")) | H7: =IF(AND(総勘定元帳!$E$1<>"",OR(B7=総勘定元帳!$E$1,D7=総勘定元帳!$E$1)),MAX($H$5:H6)+1,"")
A8: 46305 | B8: 売掛金 | C8: 88000 | D8: 売上高 | E8: 88000 | F8: ○○株式会社 10月納品分 | G8: =IF(AND(C8="",E8=""),"",IF(N(C8)=N(E8),"○","×")) | H8: =IF(AND(総勘定元帳!$E$1<>"",OR(B8=総勘定元帳!$E$1,D8=総勘定元帳!$E$1)),MAX($H$5:H7)+1,"")
A9: 46310 | B9: 地代家賃 | C9: 60000 | D9: 普通預金 | E9: 60000 | F9: 事務所家賃 10月分 | G9: =IF(AND(C9="",E9=""),"",IF(N(C9)=N(E9),"○","×")) | H9: =IF(AND(総勘定元帳!$E$1<>"",OR(B9=総勘定元帳!$E$1,D9=総勘定元帳!$E$1)),MAX($H$5:H8)+1,"")
A10: 46315 | B10: 現金 | C10: 22000 | D10: 売上高 | E10: 22000 | F10: 店頭販売 | G10: =IF(AND(C10="",E10=""),"",IF(N(C10)=N(E10),"○","×")) | H10: =IF(AND(総勘定元帳!$E$1<>"",OR(B10=総勘定元帳!$E$1,D10=総勘定元帳!$E$1)),MAX($H$5:H9)+1,"")
A11: 46320 | B11: 通信費 | C11: 5500 | D11: 普通預金 | E11: 5500 | F11: インターネット利用料 | G11: =IF(AND(C11="",E11=""),"",IF(N(C11)=N(E11),"○","×")) | H11: =IF(AND(総勘定元帳!$E$1<>"",OR(B11=総勘定元帳!$E$1,D11=総勘定元帳!$E$1)),MAX($H$5:H10)+1,"")
A12: 46326 | B12: 普通預金 | C12: 88000 | D12: 売掛金 | E12: 88000 | F12: ○○株式会社 入金 | G12: =IF(AND(C12="",E12=""),"",IF(N(C12)=N(E12),"○","×")) | H12: =IF(AND(総勘定元帳!$E$1<>"",OR(B12=総勘定元帳!$E$1,D12=総勘定元帳!$E$1)),MAX($H$5:H11)+1,"")
G13: =IF(AND(C13="",E13=""),"",IF(N(C13)=N(E13),"○","×")) | H13: =IF(AND(総勘定元帳!$E$1<>"",OR(B13=総勘定元帳!$E$1,D13=総勘定元帳!$E$1)),MAX($H$5:H12)+1,"")
G14: =IF(AND(C14="",E14=""),"",IF(N(C14)=N(E14),"○","×")) | H14: =IF(AND(総勘定元帳!$E$1<>"",OR(B14=総勘定元帳!$E$1,D14=総勘定元帳!$E$1)),MAX($H$5:H13)+1,"")
G15: =IF(AND(C15="",E15=""),"",IF(N(C15)=N(E15),"○","×")) | H15: =IF(AND(総勘定元帳!$E$1<>"",OR(B15=総勘定元帳!$E$1,D15=総勘定元帳!$E$1)),MAX($H$5:H14)+1,"")
G16: =IF(AND(C16="",E16=""),"",IF(N(C16)=N(E16),"○","×")) | H16: =IF(AND(総勘定元帳!$E$1<>"",OR(B16=総勘定元帳!$E$1,D16=総勘定元帳!$E$1)),MAX($H$5:H15)+1,"")
G17: =IF(AND(C17="",E17=""),"",IF(N(C17)=N(E17),"○","×")) | H17: =IF(AND(総勘定元帳!$E$1<>"",OR(B17=総勘定元帳!$E$1,D17=総勘定元帳!$E$1)),MAX($H$5:H16)+1,"")
G18: =IF(AND(C18="",E18=""),"",IF(N(C18)=N(E18),"○","×")) | H18: =IF(AND(総勘定元帳!$E$1<>"",OR(B18=総勘定元帳!$E$1,D18=総勘定元帳!$E$1)),MAX($H$5:H17)+1,"")
G19: =IF(AND(C19="",E19=""),"",IF(N(C19)=N(E19),"○","×")) | H19: =IF(AND(総勘定元帳!$E$1<>"",OR(B19=総勘定元帳!$E$1,D19=総勘定元帳!$E$1)),MAX($H$5:H18)+1,"")
G20: =IF(AND(C20="",E20=""),"",IF(N(C20)=N(E20),"○","×")) | H20: =IF(AND(総勘定元帳!$E$1<>"",OR(B20=総勘定元帳!$E$1,D20=総勘定元帳!$E$1)),MAX($H$5:H19)+1,"")
G21: =IF(AND(C21="",E21=""),"",IF(N(C21)=N(E21),"○","×")) | H21: =IF(AND(総勘定元帳!$E$1<>"",OR(B21=総勘定元帳!$E$1,D21=総勘定元帳!$E$1)),MAX($H$5:H20)+1,"")
G22: =IF(AND(C22="",E22=""),"",IF(N(C22)=N(E22),"○","×")) | H22: =IF(AND(総勘定元帳!$E$1<>"",OR(B22=総勘定元帳!$E$1,D22=総勘定元帳!$E$1)),MAX($H$5:H21)+1,"")
G23: =IF(AND(C23="",E23=""),"",IF(N(C23)=N(E23),"○","×")) | H23: =IF(AND(総勘定元帳!$E$1<>"",OR(B23=総勘定元帳!$E$1,D23=総勘定元帳!$E$1)),MAX($H$5:H22)+1,"")
G24: =IF(AND(C24="",E24=""),"",IF(N(C24)=N(E24),"○","×")) | H24: =IF(AND(総勘定元帳!$E$1<>"",OR(B24=総勘定元帳!$E$1,D24=総勘定元帳!$E$1)),MAX($H$5:H23)+1,"")
... G104: =IF(AND(C104="",E104=""),"",IF(N(C104)=N(E104),"○","×")) | H104: =IF(AND(総勘定元帳!$E$1<>"",OR(B104=総勘定元帳!$E$1,D104=総勘定元帳!$E$1)),MAX($H$5:H103)+1,"")
A105: 合計 | C105: =SUM(C5:C104) | E105: =SUM(E5:E104) | F105: =IF(C105=E105,"借方と貸方の合計が一致しています","合計が一致していません")

Sheet 総勘定元帳
A1: 総勘定元帳 | D1: 勘定科目 | E1: 現金
A2: 右上で科目を選ぶと、仕訳帳からその科目の取引が自動で並びます。 | D2: 区分 | E2: =IFERROR(VLOOKUP(E1,勘定科目!$A$5:$B$44,2,FALSE),"")
A4: 日付 | B4: 相手科目 | C4: 摘要 | D4: 借方 | E4: 貸方 | F4: 残高
A5: =IF($H5="","",INDEX(仕訳帳!$A:$A,$H5)) | B5: =IF($H5="","",IF(INDEX(仕訳帳!$B:$B,$H5)=$E$1,INDEX(仕訳帳!$D:$D,$H5),INDEX(仕訳帳!$B:$B,$H5))) | C5: =IF($H5="","",INDEX(仕訳帳!$F:$F,$H5)) | D5: =IF($H5="","",IF(INDEX(仕訳帳!$B:$B,$H5)=$E$1,INDEX(仕訳帳!$C:$C,$H5),"")) | E5: =IF($H5="","",IF(INDEX(仕訳帳!$D:$D,$H5)=$E$1,INDEX(仕訳帳!$E:$E,$H5),"")) | F5: =IF($H5="","",0+IF(OR($E$2="資産",$E$2="費用"),N(D5)-N(E5),N(E5)-N(D5))) | H5: =IFERROR(MATCH(1,仕訳帳!$H$5:$H$104,0)+4,"")
A6: =IF($H6="","",INDEX(仕訳帳!$A:$A,$H6)) | B6: =IF($H6="","",IF(INDEX(仕訳帳!$B:$B,$H6)=$E$1,INDEX(仕訳帳!$D:$D,$H6),INDEX(仕訳帳!$B:$B,$H6))) | C6: =IF($H6="","",INDEX(仕訳帳!$F:$F,$H6)) | D6: =IF($H6="","",IF(INDEX(仕訳帳!$B:$B,$H6)=$E$1,INDEX(仕訳帳!$C:$C,$H6),"")) | E6: =IF($H6="","",IF(INDEX(仕訳帳!$D:$D,$H6)=$E$1,INDEX(仕訳帳!$E:$E,$H6),"")) | F6: =IF($H6="","",N(F5)+IF(OR($E$2="資産",$E$2="費用"),N(D6)-N(E6),N(E6)-N(D6))) | H6: =IFERROR(MATCH(2,仕訳帳!$H$5:$H$104,0)+4,"")
A7: =IF($H7="","",INDEX(仕訳帳!$A:$A,$H7)) | B7: =IF($H7="","",IF(INDEX(仕訳帳!$B:$B,$H7)=$E$1,INDEX(仕訳帳!$D:$D,$H7),INDEX(仕訳帳!$B:$B,$H7))) | C7: =IF($H7="","",INDEX(仕訳帳!$F:$F,$H7)) | D7: =IF($H7="","",IF(INDEX(仕訳帳!$B:$B,$H7)=$E$1,INDEX(仕訳帳!$C:$C,$H7),"")) | E7: =IF($H7="","",IF(INDEX(仕訳帳!$D:$D,$H7)=$E$1,INDEX(仕訳帳!$E:$E,$H7),"")) | F7: =IF($H7="","",N(F6)+IF(OR($E$2="資産",$E$2="費用"),N(D7)-N(E7),N(E7)-N(D7))) | H7: =IFERROR(MATCH(3,仕訳帳!$H$5:$H$104,0)+4,"")
A8: =IF($H8="","",INDEX(仕訳帳!$A:$A,$H8)) | B8: =IF($H8="","",IF(INDEX(仕訳帳!$B:$B,$H8)=$E$1,INDEX(仕訳帳!$D:$D,$H8),INDEX(仕訳帳!$B:$B,$H8))) | C8: =IF($H8="","",INDEX(仕訳帳!$F:$F,$H8)) | D8: =IF($H8="","",IF(INDEX(仕訳帳!$B:$B,$H8)=$E$1,INDEX(仕訳帳!$C:$C,$H8),"")) | E8: =IF($H8="","",IF(INDEX(仕訳帳!$D:$D,$H8)=$E$1,INDEX(仕訳帳!$E:$E,$H8),"")) | F8: =IF($H8="","",N(F7)+IF(OR($E$2="資産",$E$2="費用"),N(D8)-N(E8),N(E8)-N(D8))) | H8: =IFERROR(MATCH(4,仕訳帳!$H$5:$H$104,0)+4,"")
A9: =IF($H9="","",INDEX(仕訳帳!$A:$A,$H9)) | B9: =IF($H9="","",IF(INDEX(仕訳帳!$B:$B,$H9)=$E$1,INDEX(仕訳帳!$D:$D,$H9),INDEX(仕訳帳!$B:$B,$H9))) | C9: =IF($H9="","",INDEX(仕訳帳!$F:$F,$H9)) | D9: =IF($H9="","",IF(INDEX(仕訳帳!$B:$B,$H9)=$E$1,INDEX(仕訳帳!$C:$C,$H9),"")) | E9: =IF($H9="","",IF(INDEX(仕訳帳!$D:$D,$H9)=$E$1,INDEX(仕訳帳!$E:$E,$H9),"")) | F9: =IF($H9="","",N(F8)+IF(OR($E$2="資産",$E$2="費用"),N(D9)-N(E9),N(E9)-N(D9))) | H9: =IFERROR(MATCH(5,仕訳帳!$H$5:$H$104,0)+4,"")
A10: =IF($H10="","",INDEX(仕訳帳!$A:$A,$H10)) | B10: =IF($H10="","",IF(INDEX(仕訳帳!$B:$B,$H10)=$E$1,INDEX(仕訳帳!$D:$D,$H10),INDEX(仕訳帳!$B:$B,$H10))) | C10: =IF($H10="","",INDEX(仕訳帳!$F:$F,$H10)) | D10: =IF($H10="","",IF(INDEX(仕訳帳!$B:$B,$H10)=$E$1,INDEX(仕訳帳!$C:$C,$H10),"")) | E10: =IF($H10="","",IF(INDEX(仕訳帳!$D:$D,$H10)=$E$1,INDEX(仕訳帳!$E:$E,$H10),"")) | F10: =IF($H10="","",N(F9)+IF(OR($E$2="資産",$E$2="費用"),N(D10)-N(E10),N(E10)-N(D10))) | H10: =IFERROR(MATCH(6,仕訳帳!$H$5:$H$104,0)+4,"")
A11: =IF($H11="","",INDEX(仕訳帳!$A:$A,$H11)) | B11: =IF($H11="","",IF(INDEX(仕訳帳!$B:$B,$H11)=$E$1,INDEX(仕訳帳!$D:$D,$H11),INDEX(仕訳帳!$B:$B,$H11))) | C11: =IF($H11="","",INDEX(仕訳帳!$F:$F,$H11)) | D11: =IF($H11="","",IF(INDEX(仕訳帳!$B:$B,$H11)=$E$1,INDEX(仕訳帳!$C:$C,$H11),"")) | E11: =IF($H11="","",IF(INDEX(仕訳帳!$D:$D,$H11)=$E$1,INDEX(仕訳帳!$E:$E,$H11),"")) | F11: =IF($H11="","",N(F10)+IF(OR($E$2="資産",$E$2="費用"),N(D11)-N(E11),N(E11)-N(D11))) | H11: =IFERROR(MATCH(7,仕訳帳!$H$5:$H$104,0)+4,"")
A12: =IF($H12="","",INDEX(仕訳帳!$A:$A,$H12)) | B12: =IF($H12="","",IF(INDEX(仕訳帳!$B:$B,$H12)=$E$1,INDEX(仕訳帳!$D:$D,$H12),INDEX(仕訳帳!$B:$B,$H12))) | C12: =IF($H12="","",INDEX(仕訳帳!$F:$F,$H12)) | D12: =IF($H12="","",IF(INDEX(仕訳帳!$B:$B,$H12)=$E$1,INDEX(仕訳帳!$C:$C,$H12),"")) | E12: =IF($H12="","",IF(INDEX(仕訳帳!$D:$D,$H12)=$E$1,INDEX(仕訳帳!$E:$E,$H12),"")) | F12: =IF($H12="","",N(F11)+IF(OR($E$2="資産",$E$2="費用"),N(D12)-N(E12),N(E12)-N(D12))) | H12: =IFERROR(MATCH(8,仕訳帳!$H$5:$H$104,0)+4,"")
A13: =IF($H13="","",INDEX(仕訳帳!$A:$A,$H13)) | B13: =IF($H13="","",IF(INDEX(仕訳帳!$B:$B,$H13)=$E$1,INDEX(仕訳帳!$D:$D,$H13),INDEX(仕訳帳!$B:$B,$H13))) | C13: =IF($H13="","",INDEX(仕訳帳!$F:$F,$H13)) | D13: =IF($H13="","",IF(INDEX(仕訳帳!$B:$B,$H13)=$E$1,INDEX(仕訳帳!$C:$C,$H13),"")) | E13: =IF($H13="","",IF(INDEX(仕訳帳!$D:$D,$H13)=$E$1,INDEX(仕訳帳!$E:$E,$H13),"")) | F13: =IF($H13="","",N(F12)+IF(OR($E$2="資産",$E$2="費用"),N(D13)-N(E13),N(E13)-N(D13))) | H13: =IFERROR(MATCH(9,仕訳帳!$H$5:$H$104,0)+4,"")
A14: =IF($H14="","",INDEX(仕訳帳!$A:$A,$H14)) | B14: =IF($H14="","",IF(INDEX(仕訳帳!$B:$B,$H14)=$E$1,INDEX(仕訳帳!$D:$D,$H14),INDEX(仕訳帳!$B:$B,$H14))) | C14: =IF($H14="","",INDEX(仕訳帳!$F:$F,$H14)) | D14: =IF($H14="","",IF(INDEX(仕訳帳!$B:$B,$H14)=$E$1,INDEX(仕訳帳!$C:$C,$H14),"")) | E14: =IF($H14="","",IF(INDEX(仕訳帳!$D:$D,$H14)=$E$1,INDEX(仕訳帳!$E:$E,$H14),"")) | F14: =IF($H14="","",N(F13)+IF(OR($E$2="資産",$E$2="費用"),N(D14)-N(E14),N(E14)-N(D14))) | H14: =IFERROR(MATCH(10,仕訳帳!$H$5:$H$104,0)+4,"")
A15: =IF($H15="","",INDEX(仕訳帳!$A:$A,$H15)) | B15: =IF($H15="","",IF(INDEX(仕訳帳!$B:$B,$H15)=$E$1,INDEX(仕訳帳!$D:$D,$H15),INDEX(仕訳帳!$B:$B,$H15))) | C15: =IF($H15="","",INDEX(仕訳帳!$F:$F,$H15)) | D15: =IF($H15="","",IF(INDEX(仕訳帳!$B:$B,$H15)=$E$1,INDEX(仕訳帳!$C:$C,$H15),"")) | E15: =IF($H15="","",IF(INDEX(仕訳帳!$D:$D,$H15)=$E$1,INDEX(仕訳帳!$E:$E,$H15),"")) | F15: =IF($H15="","",N(F14)+IF(OR($E$2="資産",$E$2="費用"),N(D15)-N(E15),N(E15)-N(D15))) | H15: =IFERROR(MATCH(11,仕訳帳!$H$5:$H$104,0)+4,"")
A16: =IF($H16="","",INDEX(仕訳帳!$A:$A,$H16)) | B16: =IF($H16="","",IF(INDEX(仕訳帳!$B:$B,$H16)=$E$1,INDEX(仕訳帳!$D:$D,$H16),INDEX(仕訳帳!$B:$B,$H16))) | C16: =IF($H16="","",INDEX(仕訳帳!$F:$F,$H16)) | D16: =IF($H16="","",IF(INDEX(仕訳帳!$B:$B,$H16)=$E$1,INDEX(仕訳帳!$C:$C,$H16),"")) | E16: =IF($H16="","",IF(INDEX(仕訳帳!$D:$D,$H16)=$E$1,INDEX(仕訳帳!$E:$E,$H16),"")) | F16: =IF($H16="","",N(F15)+IF(OR($E$2="資産",$E$2="費用"),N(D16)-N(E16),N(E16)-N(D16))) | H16: =IFERROR(MATCH(12,仕訳帳!$H$5:$H$104,0)+4,"")
A17: =IF($H17="","",INDEX(仕訳帳!$A:$A,$H17)) | B17: =IF($H17="","",IF(INDEX(仕訳帳!$B:$B,$H17)=$E$1,INDEX(仕訳帳!$D:$D,$H17),INDEX(仕訳帳!$B:$B,$H17))) | C17: =IF($H17="","",INDEX(仕訳帳!$F:$F,$H17)) | D17: =IF($H17="","",IF(INDEX(仕訳帳!$B:$B,$H17)=$E$1,INDEX(仕訳帳!$C:$C,$H17),"")) | E17: =IF($H17="","",IF(INDEX(仕訳帳!$D:$D,$H17)=$E$1,INDEX(仕訳帳!$E:$E,$H17),"")) | F17: =IF($H17="","",N(F16)+IF(OR($E$2="資産",$E$2="費用"),N(D17)-N(E17),N(E17)-N(D17))) | H17: =IFERROR(MATCH(13,仕訳帳!$H$5:$H$104,0)+4,"")
A18: =IF($H18="","",INDEX(仕訳帳!$A:$A,$H18)) | B18: =IF($H18="","",IF(INDEX(仕訳帳!$B:$B,$H18)=$E$1,INDEX(仕訳帳!$D:$D,$H18),INDEX(仕訳帳!$B:$B,$H18))) | C18: =IF($H18="","",INDEX(仕訳帳!$F:$F,$H18)) | D18: =IF($H18="","",IF(INDEX(仕訳帳!$B:$B,$H18)=$E$1,INDEX(仕訳帳!$C:$C,$H18),"")) | E18: =IF($H18="","",IF(INDEX(仕訳帳!$D:$D,$H18)=$E$1,INDEX(仕訳帳!$E:$E,$H18),"")) | F18: =IF($H18="","",N(F17)+IF(OR($E$2="資産",$E$2="費用"),N(D18)-N(E18),N(E18)-N(D18))) | H18: =IFERROR(MATCH(14,仕訳帳!$H$5:$H$104,0)+4,"")
A19: =IF($H19="","",INDEX(仕訳帳!$A:$A,$H19)) | B19: =IF($H19="","",IF(INDEX(仕訳帳!$B:$B,$H19)=$E$1,INDEX(仕訳帳!$D:$D,$H19),INDEX(仕訳帳!$B:$B,$H19))) | C19: =IF($H19="","",INDEX(仕訳帳!$F:$F,$H19)) | D19: =IF($H19="","",IF(INDEX(仕訳帳!$B:$B,$H19)=$E$1,INDEX(仕訳帳!$C:$C,$H19),"")) | E19: =IF($H19="","",IF(INDEX(仕訳帳!$D:$D,$H19)=$E$1,INDEX(仕訳帳!$E:$E,$H19),"")) | F19: =IF($H19="","",N(F18)+IF(OR($E$2="資産",$E$2="費用"),N(D19)-N(E19),N(E19)-N(D19))) | H19: =IFERROR(MATCH(15,仕訳帳!$H$5:$H$104,0)+4,"")
A20: =IF($H20="","",INDEX(仕訳帳!$A:$A,$H20)) | B20: =IF($H20="","",IF(INDEX(仕訳帳!$B:$B,$H20)=$E$1,INDEX(仕訳帳!$D:$D,$H20),INDEX(仕訳帳!$B:$B,$H20))) | C20: =IF($H20="","",INDEX(仕訳帳!$F:$F,$H20)) | D20: =IF($H20="","",IF(INDEX(仕訳帳!$B:$B,$H20)=$E$1,INDEX(仕訳帳!$C:$C,$H20),"")) | E20: =IF($H20="","",IF(INDEX(仕訳帳!$D:$D,$H20)=$E$1,INDEX(仕訳帳!$E:$E,$H20),"")) | F20: =IF($H20="","",N(F19)+IF(OR($E$2="資産",$E$2="費用"),N(D20)-N(E20),N(E20)-N(D20))) | H20: =IFERROR(MATCH(16,仕訳帳!$H$5:$H$104,0)+4,"")
A21: =IF($H21="","",INDEX(仕訳帳!$A:$A,$H21)) | B21: =IF($H21="","",IF(INDEX(仕訳帳!$B:$B,$H21)=$E$1,INDEX(仕訳帳!$D:$D,$H21),INDEX(仕訳帳!$B:$B,$H21))) | C21: =IF($H21="","",INDEX(仕訳帳!$F:$F,$H21)) | D21: =IF($H21="","",IF(INDEX(仕訳帳!$B:$B,$H21)=$E$1,INDEX(仕訳帳!$C:$C,$H21),"")) | E21: =IF($H21="","",IF(INDEX(仕訳帳!$D:$D,$H21)=$E$1,INDEX(仕訳帳!$E:$E,$H21),"")) | F21: =IF($H21="","",N(F20)+IF(OR($E$2="資産",$E$2="費用"),N(D21)-N(E21),N(E21)-N(D21))) | H21: =IFERROR(MATCH(17,仕訳帳!$H$5:$H$104,0)+4,"")
A22: =IF($H22="","",INDEX(仕訳帳!$A:$A,$H22)) | B22: =IF($H22="","",IF(INDEX(仕訳帳!$B:$B,$H22)=$E$1,INDEX(仕訳帳!$D:$D,$H22),INDEX(仕訳帳!$B:$B,$H22))) | C22: =IF($H22="","",INDEX(仕訳帳!$F:$F,$H22)) | D22: =IF($H22="","",IF(INDEX(仕訳帳!$B:$B,$H22)=$E$1,INDEX(仕訳帳!$C:$C,$H22),"")) | E22: =IF($H22="","",IF(INDEX(仕訳帳!$D:$D,$H22)=$E$1,INDEX(仕訳帳!$E:$E,$H22),"")) | F22: =IF($H22="","",N(F21)+IF(OR($E$2="資産",$E$2="費用"),N(D22)-N(E22),N(E22)-N(D22))) | H22: =IFERROR(MATCH(18,仕訳帳!$H$5:$H$104,0)+4,"")
A23: =IF($H23="","",INDEX(仕訳帳!$A:$A,$H23)) | B23: =IF($H23="","",IF(INDEX(仕訳帳!$B:$B,$H23)=$E$1,INDEX(仕訳帳!$D:$D,$H23),INDEX(仕訳帳!$B:$B,$H23))) | C23: =IF($H23="","",INDEX(仕訳帳!$F:$F,$H23)) | D23: =IF($H23="","",IF(INDEX(仕訳帳!$B:$B,$H23)=$E$1,INDEX(仕訳帳!$C:$C,$H23),"")) | E23: =IF($H23="","",IF(INDEX(仕訳帳!$D:$D,$H23)=$E$1,INDEX(仕訳帳!$E:$E,$H23),"")) | F23: =IF($H23="","",N(F22)+IF(OR($E$2="資産",$E$2="費用"),N(D23)-N(E23),N(E23)-N(D23))) | H23: =IFERROR(MATCH(19,仕訳帳!$H$5:$H$104,0)+4,"")
A24: =IF($H24="","",INDEX(仕訳帳!$A:$A,$H24)) | B24: =IF($H24="","",IF(INDEX(仕訳帳!$B:$B,$H24)=$E$1,INDEX(仕訳帳!$D:$D,$H24),INDEX(仕訳帳!$B:$B,$H24))) | C24: =IF($H24="","",INDEX(仕訳帳!$F:$F,$H24)) | D24: =IF($H24="","",IF(INDEX(仕訳帳!$B:$B,$H24)=$E$1,INDEX(仕訳帳!$C:$C,$H24),"")) | E24: =IF($H24="","",IF(INDEX(仕訳帳!$D:$D,$H24)=$E$1,INDEX(仕訳帳!$E:$E,$H24),"")) | F24: =IF($H24="","",N(F23)+IF(OR($E$2="資産",$E$2="費用"),N(D24)-N(E24),N(E24)-N(D24))) | H24: =IFERROR(MATCH(20,仕訳帳!$H$5:$H$104,0)+4,"")
A25: =IF($H25="","",INDEX(仕訳帳!$A:$A,$H25)) | B25: =IF($H25="","",IF(INDEX(仕訳帳!$B:$B,$H25)=$E$1,INDEX(仕訳帳!$D:$D,$H25),INDEX(仕訳帳!$B:$B,$H25))) | C25: =IF($H25="","",INDEX(仕訳帳!$F:$F,$H25)) | D25: =IF($H25="","",IF(INDEX(仕訳帳!$B:$B,$H25)=$E$1,INDEX(仕訳帳!$C:$C,$H25),"")) | E25: =IF($H25="","",IF(INDEX(仕訳帳!$D:$D,$H25)=$E$1,INDEX(仕訳帳!$E:$E,$H25),"")) | F25: =IF($H25="","",N(F24)+IF(OR($E$2="資産",$E$2="費用"),N(D25)-N(E25),N(E25)-N(D25))) | H25: =IFERROR(MATCH(21,仕訳帳!$H$5:$H$104,0)+4,"")
A26: =IF($H26="","",INDEX(仕訳帳!$A:$A,$H26)) | B26: =IF($H26="","",IF(INDEX(仕訳帳!$B:$B,$H26)=$E$1,INDEX(仕訳帳!$D:$D,$H26),INDEX(仕訳帳!$B:$B,$H26))) | C26: =IF($H26="","",INDEX(仕訳帳!$F:$F,$H26)) | D26: =IF($H26="","",IF(INDEX(仕訳帳!$B:$B,$H26)=$E$1,INDEX(仕訳帳!$C:$C,$H26),"")) | E26: =IF($H26="","",IF(INDEX(仕訳帳!$D:$D,$H26)=$E$1,INDEX(仕訳帳!$E:$E,$H26),"")) | F26: =IF($H26="","",N(F25)+IF(OR($E$2="資産",$E$2="費用"),N(D26)-N(E26),N(E26)-N(D26))) | H26: =IFERROR(MATCH(22,仕訳帳!$H$5:$H$104,0)+4,"")
A27: =IF($H27="","",INDEX(仕訳帳!$A:$A,$H27)) | B27: =IF($H27="","",IF(INDEX(仕訳帳!$B:$B,$H27)=$E$1,INDEX(仕訳帳!$D:$D,$H27),INDEX(仕訳帳!$B:$B,$H27))) | C27: =IF($H27="","",INDEX(仕訳帳!$F:$F,$H27)) | D27: =IF($H27="","",IF(INDEX(仕訳帳!$B:$B,$H27)=$E$1,INDEX(仕訳帳!$C:$C,$H27),"")) | E27: =IF($H27="","",IF(INDEX(仕訳帳!$D:$D,$H27)=$E$1,INDEX(仕訳帳!$E:$E,$H27),"")) | F27: =IF($H27="","",N(F26)+IF(OR($E$2="資産",$E$2="費用"),N(D27)-N(E27),N(E27)-N(D27))) | H27: =IFERROR(MATCH(23,仕訳帳!$H$5:$H$104,0)+4,"")
A28: =IF($H28="","",INDEX(仕訳帳!$A:$A,$H28)) | B28: =IF($H28="","",IF(INDEX(仕訳帳!$B:$B,$H28)=$E$1,INDEX(仕訳帳!$D:$D,$H28),INDEX(仕訳帳!$B:$B,$H28))) | C28: =IF($H28="","",INDEX(仕訳帳!$F:$F,$H28)) | D28: =IF($H28="","",IF(INDEX(仕訳帳!$B:$B,$H28)=$E$1,INDEX(仕訳帳!$C:$C,$H28),"")) | E28: =IF($H28="","",IF(INDEX(仕訳帳!$D:$D,$H28)=$E$1,INDEX(仕訳帳!$E:$E,$H28),"")) | F28: =IF($H28="","",N(F27)+IF(OR($E$2="資産",$E$2="費用"),N(D28)-N(E28),N(E28)-N(D28))) | H28: =IFERROR(MATCH(24,仕訳帳!$H$5:$H$104,0)+4,"")
A29: =IF($H29="","",INDEX(仕訳帳!$A:$A,$H29)) | B29: =IF($H29="","",IF(INDEX(仕訳帳!$B:$B,$H29)=$E$1,INDEX(仕訳帳!$D:$D,$H29),INDEX(仕訳帳!$B:$B,$H29))) | C29: =IF($H29="","",INDEX(仕訳帳!$F:$F,$H29)) | D29: =IF($H29="","",IF(INDEX(仕訳帳!$B:$B,$H29)=$E$1,INDEX(仕訳帳!$C:$C,$H29),"")) | E29: =IF($H29="","",IF(INDEX(仕訳帳!$D:$D,$H29)=$E$1,INDEX(仕訳帳!$E:$E,$H29),"")) | F29: =IF($H29="","",N(F28)+IF(OR($E$2="資産",$E$2="費用"),N(D29)-N(E29),N(E29)-N(D29))) | H29: =IFERROR(MATCH(25,仕訳帳!$H$5:$H$104,0)+4,"")
A30: =IF($H30="","",INDEX(仕訳帳!$A:$A,$H30)) | B30: =IF($H30="","",IF(INDEX(仕訳帳!$B:$B,$H30)=$E$1,INDEX(仕訳帳!$D:$D,$H30),INDEX(仕訳帳!$B:$B,$H30))) | C30: =IF($H30="","",INDEX(仕訳帳!$F:$F,$H30)) | D30: =IF($H30="","",IF(INDEX(仕訳帳!$B:$B,$H30)=$E$1,INDEX(仕訳帳!$C:$C,$H30),"")) | E30: =IF($H30="","",IF(INDEX(仕訳帳!$D:$D,$H30)=$E$1,INDEX(仕訳帳!$E:$E,$H30),"")) | F30: =IF($H30="","",N(F29)+IF(OR($E$2="資産",$E$2="費用"),N(D30)-N(E30),N(E30)-N(D30))) | H30: =IFERROR(MATCH(26,仕訳帳!$H$5:$H$104,0)+4,"")
A31: =IF($H31="","",INDEX(仕訳帳!$A:$A,$H31)) | B31: =IF($H31="","",IF(INDEX(仕訳帳!$B:$B,$H31)=$E$1,INDEX(仕訳帳!$D:$D,$H31),INDEX(仕訳帳!$B:$B,$H31))) | C31: =IF($H31="","",INDEX(仕訳帳!$F:$F,$H31)) | D31: =IF($H31="","",IF(INDEX(仕訳帳!$B:$B,$H31)=$E$1,INDEX(仕訳帳!$C:$C,$H31),"")) | E31: =IF($H31="","",IF(INDEX(仕訳帳!$D:$D,$H31)=$E$1,INDEX(仕訳帳!$E:$E,$H31),"")) | F31: =IF($H31="","",N(F30)+IF(OR($E$2="資産",$E$2="費用"),N(D31)-N(E31),N(E31)-N(D31))) | H31: =IFERROR(MATCH(27,仕訳帳!$H$5:$H$104,0)+4,"")
A32: =IF($H32="","",INDEX(仕訳帳!$A:$A,$H32)) | B32: =IF($H32="","",IF(INDEX(仕訳帳!$B:$B,$H32)=$E$1,INDEX(仕訳帳!$D:$D,$H32),INDEX(仕訳帳!$B:$B,$H32))) | C32: =IF($H32="","",INDEX(仕訳帳!$F:$F,$H32)) | D32: =IF($H32="","",IF(INDEX(仕訳帳!$B:$B,$H32)=$E$1,INDEX(仕訳帳!$C:$C,$H32),"")) | E32: =IF($H32="","",IF(INDEX(仕訳帳!$D:$D,$H32)=$E$1,INDEX(仕訳帳!$E:$E,$H32),"")) | F32: =IF($H32="","",N(F31)+IF(OR($E$2="資産",$E$2="費用"),N(D32)-N(E32),N(E32)-N(D32))) | H32: =IFERROR(MATCH(28,仕訳帳!$H$5:$H$104,0)+4,"")
A33: =IF($H33="","",INDEX(仕訳帳!$A:$A,$H33)) | B33: =IF($H33="","",IF(INDEX(仕訳帳!$B:$B,$H33)=$E$1,INDEX(仕訳帳!$D:$D,$H33),INDEX(仕訳帳!$B:$B,$H33))) | C33: =IF($H33="","",INDEX(仕訳帳!$F:$F,$H33)) | D33: =IF($H33="","",IF(INDEX(仕訳帳!$B:$B,$H33)=$E$1,INDEX(仕訳帳!$C:$C,$H33),"")) | E33: =IF($H33="","",IF(INDEX(仕訳帳!$D:$D,$H33)=$E$1,INDEX(仕訳帳!$E:$E,$H33),"")) | F33: =IF($H33="","",N(F32)+IF(OR($E$2="資産",$E$2="費用"),N(D33)-N(E33),N(E33)-N(D33))) | H33: =IFERROR(MATCH(29,仕訳帳!$H$5:$H$104,0)+4,"")
A34: =IF($H34="","",INDEX(仕訳帳!$A:$A,$H34)) | B34: =IF($H34="","",IF(INDEX(仕訳帳!$B:$B,$H34)=$E$1,INDEX(仕訳帳!$D:$D,$H34),INDEX(仕訳帳!$B:$B,$H34))) | C34: =IF($H34="","",INDEX(仕訳帳!$F:$F,$H34)) | D34: =IF($H34="","",IF(INDEX(仕訳帳!$B:$B,$H34)=$E$1,INDEX(仕訳帳!$C:$C,$H34),"")) | E34: =IF($H34="","",IF(INDEX(仕訳帳!$D:$D,$H34)=$E$1,INDEX(仕訳帳!$E:$E,$H34),"")) | F34: =IF($H34="","",N(F33)+IF(OR($E$2="資産",$E$2="費用"),N(D34)-N(E34),N(E34)-N(D34))) | H34: =IFERROR(MATCH(30,仕訳帳!$H$5:$H$104,0)+4,"")
A35: =IF($H35="","",INDEX(仕訳帳!$A:$A,$H35)) | B35: =IF($H35="","",IF(INDEX(仕訳帳!$B:$B,$H35)=$E$1,INDEX(仕訳帳!$D:$D,$H35),INDEX(仕訳帳!$B:$B,$H35))) | C35: =IF($H35="","",INDEX(仕訳帳!$F:$F,$H35)) | D35: =IF($H35="","",IF(INDEX(仕訳帳!$B:$B,$H35)=$E$1,INDEX(仕訳帳!$C:$C,$H35),"")) | E35: =IF($H35="","",IF(INDEX(仕訳帳!$D:$D,$H35)=$E$1,INDEX(仕訳帳!$E:$E,$H35),"")) | F35: =IF($H35="","",N(F34)+IF(OR($E$2="資産",$E$2="費用"),N(D35)-N(E35),N(E35)-N(D35))) | H35: =IFERROR(MATCH(31,仕訳帳!$H$5:$H$104,0)+4,"")
A36: =IF($H36="","",INDEX(仕訳帳!$A:$A,$H36)) | B36: =IF($H36="","",IF(INDEX(仕訳帳!$B:$B,$H36)=$E$1,INDEX(仕訳帳!$D:$D,$H36),INDEX(仕訳帳!$B:$B,$H36))) | C36: =IF($H36="","",INDEX(仕訳帳!$F:$F,$H36)) | D36: =IF($H36="","",IF(INDEX(仕訳帳!$B:$B,$H36)=$E$1,INDEX(仕訳帳!$C:$C,$H36),"")) | E36: =IF($H36="","",IF(INDEX(仕訳帳!$D:$D,$H36)=$E$1,INDEX(仕訳帳!$E:$E,$H36),"")) | F36: =IF($H36="","",N(F35)+IF(OR($E$2="資産",$E$2="費用"),N(D36)-N(E36),N(E36)-N(D36))) | H36: =IFERROR(MATCH(32,仕訳帳!$H$5:$H$104,0)+4,"")
A37: =IF($H37="","",INDEX(仕訳帳!$A:$A,$H37)) | B37: =IF($H37="","",IF(INDEX(仕訳帳!$B:$B,$H37)=$E$1,INDEX(仕訳帳!$D:$D,$H37),INDEX(仕訳帳!$B:$B,$H37))) | C37: =IF($H37="","",INDEX(仕訳帳!$F:$F,$H37)) | D37: =IF($H37="","",IF(INDEX(仕訳帳!$B:$B,$H37)=$E$1,INDEX(仕訳帳!$C:$C,$H37),"")) | E37: =IF($H37="","",IF(INDEX(仕訳帳!$D:$D,$H37)=$E$1,INDEX(仕訳帳!$E:$E,$H37),"")) | F37: =IF($H37="","",N(F36)+IF(OR($E$2="資産",$E$2="費用"),N(D37)-N(E37),N(E37)-N(D37))) | H37: =IFERROR(MATCH(33,仕訳帳!$H$5:$H$104,0)+4,"")
A38: =IF($H38="","",INDEX(仕訳帳!$A:$A,$H38)) | B38: =IF($H38="","",IF(INDEX(仕訳帳!$B:$B,$H38)=$E$1,INDEX(仕訳帳!$D:$D,$H38),INDEX(仕訳帳!$B:$B,$H38))) | C38: =IF($H38="","",INDEX(仕訳帳!$F:$F,$H38)) | D38: =IF($H38="","",IF(INDEX(仕訳帳!$B:$B,$H38)=$E$1,INDEX(仕訳帳!$C:$C,$H38),"")) | E38: =IF($H38="","",IF(INDEX(仕訳帳!$D:$D,$H38)=$E$1,INDEX(仕訳帳!$E:$E,$H38),"")) | F38: =IF($H38="","",N(F37)+IF(OR($E$2="資産",$E$2="費用"),N(D38)-N(E38),N(E38)-N(D38))) | H38: =IFERROR(MATCH(34,仕訳帳!$H$5:$H$104,0)+4,"")
A39: =IF($H39="","",INDEX(仕訳帳!$A:$A,$H39)) | B39: =IF($H39="","",IF(INDEX(仕訳帳!$B:$B,$H39)=$E$1,INDEX(仕訳帳!$D:$D,$H39),INDEX(仕訳帳!$B:$B,$H39))) | C39: =IF($H39="","",INDEX(仕訳帳!$F:$F,$H39)) | D39: =IF($H39="","",IF(INDEX(仕訳帳!$B:$B,$H39)=$E$1,INDEX(仕訳帳!$C:$C,$H39),"")) | E39: =IF($H39="","",IF(INDEX(仕訳帳!$D:$D,$H39)=$E$1,INDEX(仕訳帳!$E:$E,$H39),"")) | F39: =IF($H39="","",N(F38)+IF(OR($E$2="資産",$E$2="費用"),N(D39)-N(E39),N(E39)-N(D39))) | H39: =IFERROR(MATCH(35,仕訳帳!$H$5:$H$104,0)+4,"")
A40: =IF($H40="","",INDEX(仕訳帳!$A:$A,$H40)) | B40: =IF($H40="","",IF(INDEX(仕訳帳!$B:$B,$H40)=$E$1,INDEX(仕訳帳!$D:$D,$H40),INDEX(仕訳帳!$B:$B,$H40))) | C40: =IF($H40="","",INDEX(仕訳帳!$F:$F,$H40)) | D40: =IF($H40="","",IF(INDEX(仕訳帳!$B:$B,$H40)=$E$1,INDEX(仕訳帳!$C:$C,$H40),"")) | E40: =IF($H40="","",IF(INDEX(仕訳帳!$D:$D,$H40)=$E$1,INDEX(仕訳帳!$E:$E,$H40),"")) | F40: =IF($H40="","",N(F39)+IF(OR($E$2="資産",$E$2="費用"),N(D40)-N(E40),N(E40)-N(D40))) | H40: =IFERROR(MATCH(36,仕訳帳!$H$5:$H$104,0)+4,"")
A41: =IF($H41="","",INDEX(仕訳帳!$A:$A,$H41)) | B41: =IF($H41="","",IF(INDEX(仕訳帳!$B:$B,$H41)=$E$1,INDEX(仕訳帳!$D:$D,$H41),INDEX(仕訳帳!$B:$B,$H41))) | C41: =IF($H41="","",INDEX(仕訳帳!$F:$F,$H41)) | D41: =IF($H41="","",IF(INDEX(仕訳帳!$B:$B,$H41)=$E$1,INDEX(仕訳帳!$C:$C,$H41),"")) | E41: =IF($H41="","",IF(INDEX(仕訳帳!$D:$D,$H41)=$E$1,INDEX(仕訳帳!$E:$E,$H41),"")) | F41: =IF($H41="","",N(F40)+IF(OR($E$2="資産",$E$2="費用"),N(D41)-N(E41),N(E41)-N(D41))) | H41: =IFERROR(MATCH(37,仕訳帳!$H$5:$H$104,0)+4,"")
...

Sheet 試算表
A1: 合計残高試算表
A2: 仕訳帳の金額を、勘定科目ごとに自動で集計します。
A4: 勘定科目 | B4: 区分 | C4: 借方合計 | D4: 貸方合計 | E4: 残高
A5: =IF(勘定科目!A5="","",勘定科目!A5) | B5: =IF(勘定科目!B5="","",勘定科目!B5) | C5: =IF(A5="","",SUMIF(仕訳帳!$B$5:$B$104,A5,仕訳帳!$C$5:$C$104)) | D5: =IF(A5="","",SUMIF(仕訳帳!$D$5:$D$104,A5,仕訳帳!$E$5:$E$104)) | E5: =IF(A5="","",IF(OR(B5="資産",B5="費用"),C5-D5,D5-C5))
A6: =IF(勘定科目!A6="","",勘定科目!A6) | B6: =IF(勘定科目!B6="","",勘定科目!B6) | C6: =IF(A6="","",SUMIF(仕訳帳!$B$5:$B$104,A6,仕訳帳!$C$5:$C$104)) | D6: =IF(A6="","",SUMIF(仕訳帳!$D$5:$D$104,A6,仕訳帳!$E$5:$E$104)) | E6: =IF(A6="","",IF(OR(B6="資産",B6="費用"),C6-D6,D6-C6))
A7: =IF(勘定科目!A7="","",勘定科目!A7) | B7: =IF(勘定科目!B7="","",勘定科目!B7) | C7: =IF(A7="","",SUMIF(仕訳帳!$B$5:$B$104,A7,仕訳帳!$C$5:$C$104)) | D7: =IF(A7="","",SUMIF(仕訳帳!$D$5:$D$104,A7,仕訳帳!$E$5:$E$104)) | E7: =IF(A7="","",IF(OR(B7="資産",B7="費用"),C7-D7,D7-C7))
A8: =IF(勘定科目!A8="","",勘定科目!A8) | B8: =IF(勘定科目!B8="","",勘定科目!B8) | C8: =IF(A8="","",SUMIF(仕訳帳!$B$5:$B$104,A8,仕訳帳!$C$5:$C$104)) | D8: =IF(A8="","",SUMIF(仕訳帳!$D$5:$D$104,A8,仕訳帳!$E$5:$E$104)) | E8: =IF(A8="","",IF(OR(B8="資産",B8="費用"),C8-D8,D8-C8))
A9: =IF(勘定科目!A9="","",勘定科目!A9) | B9: =IF(勘定科目!B9="","",勘定科目!B9) | C9: =IF(A9="","",SUMIF(仕訳帳!$B$5:$B$104,A9,仕訳帳!$C$5:$C$104)) | D9: =IF(A9="","",SUMIF(仕訳帳!$D$5:$D$104,A9,仕訳帳!$E$5:$E$104)) | E9: =IF(A9="","",IF(OR(B9="資産",B9="費用"),C9-D9,D9-C9))
A10: =IF(勘定科目!A10="","",勘定科目!A10) | B10: =IF(勘定科目!B10="","",勘定科目!B10) | C10: =IF(A10="","",SUMIF(仕訳帳!$B$5:$B$104,A10,仕訳帳!$C$5:$C$104)) | D10: =IF(A10="","",SUMIF(仕訳帳!$D$5:$D$104,A10,仕訳帳!$E$5:$E$104)) | E10: =IF(A10="","",IF(OR(B10="資産",B10="費用"),C10-D10,D10-C10))
A11: =IF(勘定科目!A11="","",勘定科目!A11) | B11: =IF(勘定科目!B11="","",勘定科目!B11) | C11: =IF(A11="","",SUMIF(仕訳帳!$B$5:$B$104,A11,仕訳帳!$C$5:$C$104)) | D11: =IF(A11="","",SUMIF(仕訳帳!$D$5:$D$104,A11,仕訳帳!$E$5:$E$104)) | E11: =IF(A11="","",IF(OR(B11="資産",B11="費用"),C11-D11,D11-C11))
A12: =IF(勘定科目!A12="","",勘定科目!A12) | B12: =IF(勘定科目!B12="","",勘定科目!B12) | C12: =IF(A12="","",SUMIF(仕訳帳!$B$5:$B$104,A12,仕訳帳!$C$5:$C$104)) | D12: =IF(A12="","",SUMIF(仕訳帳!$D$5:$D$104,A12,仕訳帳!$E$5:$E$104)) | E12: =IF(A12="","",IF(OR(B12="資産",B12="費用"),C12-D12,D12-C12))
A13: =IF(勘定科目!A13="","",勘定科目!A13) | B13: =IF(勘定科目!B13="","",勘定科目!B13) | C13: =IF(A13="","",SUMIF(仕訳帳!$B$5:$B$104,A13,仕訳帳!$C$5:$C$104)) | D13: =IF(A13="","",SUMIF(仕訳帳!$D$5:$D$104,A13,仕訳帳!$E$5:$E$104)) | E13: =IF(A13="","",IF(OR(B13="資産",B13="費用"),C13-D13,D13-C13))
A14: =IF(勘定科目!A14="","",勘定科目!A14) | B14: =IF(勘定科目!B14="","",勘定科目!B14) | C14: =IF(A14="","",SUMIF(仕訳帳!$B$5:$B$104,A14,仕訳帳!$C$5:$C$104)) | D14: =IF(A14="","",SUMIF(仕訳帳!$D$5:$D$104,A14,仕訳帳!$E$5:$E$104)) | E14: =IF(A14="","",IF(OR(B14="資産",B14="費用"),C14-D14,D14-C14))
A15: =IF(勘定科目!A15="","",勘定科目!A15) | B15: =IF(勘定科目!B15="","",勘定科目!B15) | C15: =IF(A15="","",SUMIF(仕訳帳!$B$5:$B$104,A15,仕訳帳!$C$5:$C$104)) | D15: =IF(A15="","",SUMIF(仕訳帳!$D$5:$D$104,A15,仕訳帳!$E$5:$E$104)) | E15: =IF(A15="","",IF(OR(B15="資産",B15="費用"),C15-D15,D15-C15))
A16: =IF(勘定科目!A16="","",勘定科目!A16) | B16: =IF(勘定科目!B16="","",勘定科目!B16) | C16: =IF(A16="","",SUMIF(仕訳帳!$B$5:$B$104,A16,仕訳帳!$C$5:$C$104)) | D16: =IF(A16="","",SUMIF(仕訳帳!$D$5:$D$104,A16,仕訳帳!$E$5:$E$104)) | E16: =IF(A16="","",IF(OR(B16="資産",B16="費用"),C16-D16,D16-C16))
... A44: =IF(勘定科目!A44="","",勘定科目!A44) | B44: =IF(勘定科目!B44="","",勘定科目!B44) | C44: =IF(A44="","",SUMIF(仕訳帳!$B$5:$B$104,A44,仕訳帳!$C$5:$C$104)) | D44: =IF(A44="","",SUMIF(仕訳帳!$D$5:$D$104,A44,仕訳帳!$E$5:$E$104)) | E44: =IF(A44="","",IF(OR(B44="資産",B44="費用"),C44-D44,D44-C44))
A45: 合計 | C45: =SUM(C5:C44) | D45: =SUM(D5:D44)
A46: =IF(C45=D45,"○ 借方合計と貸方合計が一致しています","× 一致していません(差額 "&TEXT(C45-D45,"#,##0")&" 円)")

Sheet 勘定科目
A1: 勘定科目の一覧
A2: 科目を追加・変更するときはここを書き換えます(区分は 資産・負債・純資産・収益・費用)。
A4: 勘定科目 | B4: 区分
A5: 現金 | B5: 資産
A6: 普通預金 | B6: 資産
A7: 売掛金 | B7: 資産
A8: 商品 | B8: 資産
A9: 器具備品 | B9: 資産
A10: 買掛金 | B10: 負債
A11: 未払金 | B11: 負債
A12: 借入金 | B12: 負債
A13: 預り金 | B13: 負債
A14: 元入金 | B14: 純資産
A15: 資本金 | B15: 純資産
... A30: 雑費 | B30: 費用
