Workbook

Sheet 月間予定表
A1: 2026 | B1: 12 | C1: の予定表 | F1: ← 年と月を入れると日付が入ります
A3: 日 | B3: 月 | C3: 火 | D3: 水 | E3: 木 | F3: 金 | G3: 土
A4: =IF(MONTH(DATE($A$1,$B$1,1)-WEEKDAY(DATE($A$1,$B$1,1))+1+0)=$B$1,DATE($A$1,$B$1,1)-WEEKDAY(DATE($A$1,$B$1,1))+1+0,"") | B4: =IF(MONTH(DATE($A$1,$B$1,1)-WEEKDAY(DATE($A$1,$B$1,1))+1+1)=$B$1,DATE($A$1,$B$1,1)-WEEKDAY(DATE($A$1,$B$1,1))+1+1,"") | C4: =IF(MONTH(DATE($A$1,$B$1,1)-WEEKDAY(DATE($A$1,$B$1,1))+1+2)=$B$1,DATE($A$1,$B$1,1)-WEEKDAY(DATE($A$1,$B$1,1))+1+2,"") | D4: =IF(MONTH(DATE($A$1,$B$1,1)-WEEKDAY(DATE($A$1,$B$1,1))+1+3)=$B$1,DATE($A$1,$B$1,1)-WEEKDAY(DATE($A$1,$B$1,1))+1+3,"") | E4: =IF(MONTH(DATE($A$1,$B$1,1)-WEEKDAY(DATE($A$1,$B$1,1))+1+4)=$B$1,DATE($A$1,$B$1,1)-WEEKDAY(DATE($A$1,$B$1,1))+1+4,"") | F4: =IF(MONTH(DATE($A$1,$B$1,1)-WEEKDAY(DATE($A$1,$B$1,1))+1+5)=$B$1,DATE($A$1,$B$1,1)-WEEKDAY(DATE($A$1,$B$1,1))+1+5,"") | G4: =IF(MONTH(DATE($A$1,$B$1,1)-WEEKDAY(DATE($A$1,$B$1,1))+1+6)=$B$1,DATE($A$1,$B$1,1)-WEEKDAY(DATE($A$1,$B$1,1))+1+6,"")
A5: =IF(A4="","",IFERROR(VLOOKUP(A4,祝日!$A$2:$B$65,2,FALSE),"")) | B5: =IF(B4="","",IFERROR(VLOOKUP(B4,祝日!$A$2:$B$65,2,FALSE),"")) | C5: =IF(C4="","",IFERROR(VLOOKUP(C4,祝日!$A$2:$B$65,2,FALSE),"")) | D5: =IF(D4="","",IFERROR(VLOOKUP(D4,祝日!$A$2:$B$65,2,FALSE),"")) | E5: =IF(E4="","",IFERROR(VLOOKUP(E4,祝日!$A$2:$B$65,2,FALSE),"")) | F5: =IF(F4="","",IFERROR(VLOOKUP(F4,祝日!$A$2:$B$65,2,FALSE),"")) | G5: =IF(G4="","",IFERROR(VLOOKUP(G4,祝日!$A$2:$B$65,2,FALSE),""))
A8: =IF(MONTH(DATE($A$1,$B$1,1)-WEEKDAY(DATE($A$1,$B$1,1))+1+7)=$B$1,DATE($A$1,$B$1,1)-WEEKDAY(DATE($A$1,$B$1,1))+1+7,"") | B8: =IF(MONTH(DATE($A$1,$B$1,1)-WEEKDAY(DATE($A$1,$B$1,1))+1+8)=$B$1,DATE($A$1,$B$1,1)-WEEKDAY(DATE($A$1,$B$1,1))+1+8,"") | C8: =IF(MONTH(DATE($A$1,$B$1,1)-WEEKDAY(DATE($A$1,$B$1,1))+1+9)=$B$1,DATE($A$1,$B$1,1)-WEEKDAY(DATE($A$1,$B$1,1))+1+9,"") | D8: =IF(MONTH(DATE($A$1,$B$1,1)-WEEKDAY(DATE($A$1,$B$1,1))+1+10)=$B$1,DATE($A$1,$B$1,1)-WEEKDAY(DATE($A$1,$B$1,1))+1+10,"") | E8: =IF(MONTH(DATE($A$1,$B$1,1)-WEEKDAY(DATE($A$1,$B$1,1))+1+11)=$B$1,DATE($A$1,$B$1,1)-WEEKDAY(DATE($A$1,$B$1,1))+1+11,"") | F8: =IF(MONTH(DATE($A$1,$B$1,1)-WEEKDAY(DATE($A$1,$B$1,1))+1+12)=$B$1,DATE($A$1,$B$1,1)-WEEKDAY(DATE($A$1,$B$1,1))+1+12,"") | G8: =IF(MONTH(DATE($A$1,$B$1,1)-WEEKDAY(DATE($A$1,$B$1,1))+1+13)=$B$1,DATE($A$1,$B$1,1)-WEEKDAY(DATE($A$1,$B$1,1))+1+13,"")
A9: =IF(A8="","",IFERROR(VLOOKUP(A8,祝日!$A$2:$B$65,2,FALSE),"")) | B9: =IF(B8="","",IFERROR(VLOOKUP(B8,祝日!$A$2:$B$65,2,FALSE),"")) | C9: =IF(C8="","",IFERROR(VLOOKUP(C8,祝日!$A$2:$B$65,2,FALSE),"")) | D9: =IF(D8="","",IFERROR(VLOOKUP(D8,祝日!$A$2:$B$65,2,FALSE),"")) | E9: =IF(E8="","",IFERROR(VLOOKUP(E8,祝日!$A$2:$B$65,2,FALSE),"")) | F9: =IF(F8="","",IFERROR(VLOOKUP(F8,祝日!$A$2:$B$65,2,FALSE),"")) | G9: =IF(G8="","",IFERROR(VLOOKUP(G8,祝日!$A$2:$B$65,2,FALSE),""))
A12: =IF(MONTH(DATE($A$1,$B$1,1)-WEEKDAY(DATE($A$1,$B$1,1))+1+14)=$B$1,DATE($A$1,$B$1,1)-WEEKDAY(DATE($A$1,$B$1,1))+1+14,"") | B12: =IF(MONTH(DATE($A$1,$B$1,1)-WEEKDAY(DATE($A$1,$B$1,1))+1+15)=$B$1,DATE($A$1,$B$1,1)-WEEKDAY(DATE($A$1,$B$1,1))+1+15,"") | C12: =IF(MONTH(DATE($A$1,$B$1,1)-WEEKDAY(DATE($A$1,$B$1,1))+1+16)=$B$1,DATE($A$1,$B$1,1)-WEEKDAY(DATE($A$1,$B$1,1))+1+16,"") | D12: =IF(MONTH(DATE($A$1,$B$1,1)-WEEKDAY(DATE($A$1,$B$1,1))+1+17)=$B$1,DATE($A$1,$B$1,1)-WEEKDAY(DATE($A$1,$B$1,1))+1+17,"") | E12: =IF(MONTH(DATE($A$1,$B$1,1)-WEEKDAY(DATE($A$1,$B$1,1))+1+18)=$B$1,DATE($A$1,$B$1,1)-WEEKDAY(DATE($A$1,$B$1,1))+1+18,"") | F12: =IF(MONTH(DATE($A$1,$B$1,1)-WEEKDAY(DATE($A$1,$B$1,1))+1+19)=$B$1,DATE($A$1,$B$1,1)-WEEKDAY(DATE($A$1,$B$1,1))+1+19,"") | G12: =IF(MONTH(DATE($A$1,$B$1,1)-WEEKDAY(DATE($A$1,$B$1,1))+1+20)=$B$1,DATE($A$1,$B$1,1)-WEEKDAY(DATE($A$1,$B$1,1))+1+20,"")
A13: =IF(A12="","",IFERROR(VLOOKUP(A12,祝日!$A$2:$B$65,2,FALSE),"")) | B13: =IF(B12="","",IFERROR(VLOOKUP(B12,祝日!$A$2:$B$65,2,FALSE),"")) | C13: =IF(C12="","",IFERROR(VLOOKUP(C12,祝日!$A$2:$B$65,2,FALSE),"")) | D13: =IF(D12="","",IFERROR(VLOOKUP(D12,祝日!$A$2:$B$65,2,FALSE),"")) | E13: =IF(E12="","",IFERROR(VLOOKUP(E12,祝日!$A$2:$B$65,2,FALSE),"")) | F13: =IF(F12="","",IFERROR(VLOOKUP(F12,祝日!$A$2:$B$65,2,FALSE),"")) | G13: =IF(G12="","",IFERROR(VLOOKUP(G12,祝日!$A$2:$B$65,2,FALSE),""))
A16: =IF(MONTH(DATE($A$1,$B$1,1)-WEEKDAY(DATE($A$1,$B$1,1))+1+21)=$B$1,DATE($A$1,$B$1,1)-WEEKDAY(DATE($A$1,$B$1,1))+1+21,"") | B16: =IF(MONTH(DATE($A$1,$B$1,1)-WEEKDAY(DATE($A$1,$B$1,1))+1+22)=$B$1,DATE($A$1,$B$1,1)-WEEKDAY(DATE($A$1,$B$1,1))+1+22,"") | C16: =IF(MONTH(DATE($A$1,$B$1,1)-WEEKDAY(DATE($A$1,$B$1,1))+1+23)=$B$1,DATE($A$1,$B$1,1)-WEEKDAY(DATE($A$1,$B$1,1))+1+23,"") | D16: =IF(MONTH(DATE($A$1,$B$1,1)-WEEKDAY(DATE($A$1,$B$1,1))+1+24)=$B$1,DATE($A$1,$B$1,1)-WEEKDAY(DATE($A$1,$B$1,1))+1+24,"") | E16: =IF(MONTH(DATE($A$1,$B$1,1)-WEEKDAY(DATE($A$1,$B$1,1))+1+25)=$B$1,DATE($A$1,$B$1,1)-WEEKDAY(DATE($A$1,$B$1,1))+1+25,"") | F16: =IF(MONTH(DATE($A$1,$B$1,1)-WEEKDAY(DATE($A$1,$B$1,1))+1+26)=$B$1,DATE($A$1,$B$1,1)-WEEKDAY(DATE($A$1,$B$1,1))+1+26,"") | G16: =IF(MONTH(DATE($A$1,$B$1,1)-WEEKDAY(DATE($A$1,$B$1,1))+1+27)=$B$1,DATE($A$1,$B$1,1)-WEEKDAY(DATE($A$1,$B$1,1))+1+27,"")
A17: =IF(A16="","",IFERROR(VLOOKUP(A16,祝日!$A$2:$B$65,2,FALSE),"")) | B17: =IF(B16="","",IFERROR(VLOOKUP(B16,祝日!$A$2:$B$65,2,FALSE),"")) | C17: =IF(C16="","",IFERROR(VLOOKUP(C16,祝日!$A$2:$B$65,2,FALSE),"")) | D17: =IF(D16="","",IFERROR(VLOOKUP(D16,祝日!$A$2:$B$65,2,FALSE),"")) | E17: =IF(E16="","",IFERROR(VLOOKUP(E16,祝日!$A$2:$B$65,2,FALSE),"")) | F17: =IF(F16="","",IFERROR(VLOOKUP(F16,祝日!$A$2:$B$65,2,FALSE),"")) | G17: =IF(G16="","",IFERROR(VLOOKUP(G16,祝日!$A$2:$B$65,2,FALSE),""))
A20: =IF(MONTH(DATE($A$1,$B$1,1)-WEEKDAY(DATE($A$1,$B$1,1))+1+28)=$B$1,DATE($A$1,$B$1,1)-WEEKDAY(DATE($A$1,$B$1,1))+1+28,"") | B20: =IF(MONTH(DATE($A$1,$B$1,1)-WEEKDAY(DATE($A$1,$B$1,1))+1+29)=$B$1,DATE($A$1,$B$1,1)-WEEKDAY(DATE($A$1,$B$1,1))+1+29,"") | C20: =IF(MONTH(DATE($A$1,$B$1,1)-WEEKDAY(DATE($A$1,$B$1,1))+1+30)=$B$1,DATE($A$1,$B$1,1)-WEEKDAY(DATE($A$1,$B$1,1))+1+30,"") | D20: =IF(MONTH(DATE($A$1,$B$1,1)-WEEKDAY(DATE($A$1,$B$1,1))+1+31)=$B$1,DATE($A$1,$B$1,1)-WEEKDAY(DATE($A$1,$B$1,1))+1+31,"") | E20: =IF(MONTH(DATE($A$1,$B$1,1)-WEEKDAY(DATE($A$1,$B$1,1))+1+32)=$B$1,DATE($A$1,$B$1,1)-WEEKDAY(DATE($A$1,$B$1,1))+1+32,"") | F20: =IF(MONTH(DATE($A$1,$B$1,1)-WEEKDAY(DATE($A$1,$B$1,1))+1+33)=$B$1,DATE($A$1,$B$1,1)-WEEKDAY(DATE($A$1,$B$1,1))+1+33,"") | G20: =IF(MONTH(DATE($A$1,$B$1,1)-WEEKDAY(DATE($A$1,$B$1,1))+1+34)=$B$1,DATE($A$1,$B$1,1)-WEEKDAY(DATE($A$1,$B$1,1))+1+34,"")
A21: =IF(A20="","",IFERROR(VLOOKUP(A20,祝日!$A$2:$B$65,2,FALSE),"")) | B21: =IF(B20="","",IFERROR(VLOOKUP(B20,祝日!$A$2:$B$65,2,FALSE),"")) | C21: =IF(C20="","",IFERROR(VLOOKUP(C20,祝日!$A$2:$B$65,2,FALSE),"")) | D21: =IF(D20="","",IFERROR(VLOOKUP(D20,祝日!$A$2:$B$65,2,FALSE),"")) | E21: =IF(E20="","",IFERROR(VLOOKUP(E20,祝日!$A$2:$B$65,2,FALSE),"")) | F21: =IF(F20="","",IFERROR(VLOOKUP(F20,祝日!$A$2:$B$65,2,FALSE),"")) | G21: =IF(G20="","",IFERROR(VLOOKUP(G20,祝日!$A$2:$B$65,2,FALSE),""))
A24: =IF(MONTH(DATE($A$1,$B$1,1)-WEEKDAY(DATE($A$1,$B$1,1))+1+35)=$B$1,DATE($A$1,$B$1,1)-WEEKDAY(DATE($A$1,$B$1,1))+1+35,"") | B24: =IF(MONTH(DATE($A$1,$B$1,1)-WEEKDAY(DATE($A$1,$B$1,1))+1+36)=$B$1,DATE($A$1,$B$1,1)-WEEKDAY(DATE($A$1,$B$1,1))+1+36,"") | C24: =IF(MONTH(DATE($A$1,$B$1,1)-WEEKDAY(DATE($A$1,$B$1,1))+1+37)=$B$1,DATE($A$1,$B$1,1)-WEEKDAY(DATE($A$1,$B$1,1))+1+37,"") | D24: =IF(MONTH(DATE($A$1,$B$1,1)-WEEKDAY(DATE($A$1,$B$1,1))+1+38)=$B$1,DATE($A$1,$B$1,1)-WEEKDAY(DATE($A$1,$B$1,1))+1+38,"") | E24: =IF(MONTH(DATE($A$1,$B$1,1)-WEEKDAY(DATE($A$1,$B$1,1))+1+39)=$B$1,DATE($A$1,$B$1,1)-WEEKDAY(DATE($A$1,$B$1,1))+1+39,"") | F24: =IF(MONTH(DATE($A$1,$B$1,1)-WEEKDAY(DATE($A$1,$B$1,1))+1+40)=$B$1,DATE($A$1,$B$1,1)-WEEKDAY(DATE($A$1,$B$1,1))+1+40,"") | G24: =IF(MONTH(DATE($A$1,$B$1,1)-WEEKDAY(DATE($A$1,$B$1,1))+1+41)=$B$1,DATE($A$1,$B$1,1)-WEEKDAY(DATE($A$1,$B$1,1))+1+41,"")
A25: =IF(A24="","",IFERROR(VLOOKUP(A24,祝日!$A$2:$B$65,2,FALSE),"")) | B25: =IF(B24="","",IFERROR(VLOOKUP(B24,祝日!$A$2:$B$65,2,FALSE),"")) | C25: =IF(C24="","",IFERROR(VLOOKUP(C24,祝日!$A$2:$B$65,2,FALSE),"")) | D25: =IF(D24="","",IFERROR(VLOOKUP(D24,祝日!$A$2:$B$65,2,FALSE),"")) | E25: =IF(E24="","",IFERROR(VLOOKUP(E24,祝日!$A$2:$B$65,2,FALSE),"")) | F25: =IF(F24="","",IFERROR(VLOOKUP(F24,祝日!$A$2:$B$65,2,FALSE),"")) | G25: =IF(G24="","",IFERROR(VLOOKUP(G24,祝日!$A$2:$B$65,2,FALSE),""))
A29: 今月の目標・メモ

Sheet 家族の週間予定表
A1: 家族の週間予定表
A2: 週のはじめ | B2: 46363 | C2: ← 月曜日の日付を入れると7日分の日付が入ります
A4: 日付 | B4: パパ | C4: ママ | D4: さくら | E4: はると | F4: 家族みんな
A5: =$B$2+0 | D5: スイミング 17:00 | F5: ゴミ出し(燃える)
A6: =$B$2+1
A7: =$B$2+2 | B7: 飲み会 | E7: サッカー 16:00
A8: =$B$2+3
A9: =$B$2+4
A10: =$B$2+5 | C10: 美容院 10:00 | F10: 買い物
A11: =$B$2+6 | F11: おばあちゃんの家

Sheet 祝日
A1: 日付 | B1: 祝日名 | D1: ※2028年以降の祝日は、内閣府の発表後にこの表の下に追加すると予定表に反映されます。
A2: 46023 | B2: 元日
A3: 46034 | B3: 成人の日
A4: 46064 | B4: 建国記念の日
A5: 46076 | B5: 天皇誕生日
A6: 46101 | B6: 春分の日
A7: 46141 | B7: 昭和の日
A8: 46145 | B8: 憲法記念日
A9: 46146 | B9: みどりの日
A10: 46147 | B10: こどもの日
A11: 46148 | B11: 振替休日
A12: 46223 | B12: 海の日
A13: 46245 | B13: 山の日
... A36: 46714 | B36: 勤労感謝の日
