Workbook

Sheet 商品一覧
A1: 在庫管理表
A3: 商品コード | B3: 商品名 | C3: 単位 | D3: 初期在庫 | E3: 入庫計 | F3: 出庫計 | G3: 現在の在庫 | H3: 発注点 | I3: 状態
A4: A-001 | B4: コピー用紙 A4 | C4: 箱 | D4: 5 | E4: =IF(A4="","",SUMIF(入出庫記録!$B$4:$B$303,A4,入出庫記録!$D$4:$D$303)) | F4: =IF(A4="","",SUMIF(入出庫記録!$B$4:$B$303,A4,入出庫記録!$E$4:$E$303)) | G4: =IF(A4="","",N(D4)+E4-F4) | H4: 10 | I4: =IF(OR(A4="",H4=""),"",IF(G4<=H4,"要発注","OK"))
A5: A-002 | B5: ボールペン(黒) | C5: 本 | D5: 20 | E5: =IF(A5="","",SUMIF(入出庫記録!$B$4:$B$303,A5,入出庫記録!$D$4:$D$303)) | F5: =IF(A5="","",SUMIF(入出庫記録!$B$4:$B$303,A5,入出庫記録!$E$4:$E$303)) | G5: =IF(A5="","",N(D5)+E5-F5) | H5: 30 | I5: =IF(OR(A5="",H5=""),"",IF(G5<=H5,"要発注","OK"))
A6: A-003 | B6: クリアファイル | C6: 枚 | D6: 50 | E6: =IF(A6="","",SUMIF(入出庫記録!$B$4:$B$303,A6,入出庫記録!$D$4:$D$303)) | F6: =IF(A6="","",SUMIF(入出庫記録!$B$4:$B$303,A6,入出庫記録!$E$4:$E$303)) | G6: =IF(A6="","",N(D6)+E6-F6) | H6: 100 | I6: =IF(OR(A6="",H6=""),"",IF(G6<=H6,"要発注","OK"))
A7: B-001 | B7: トナー(黒) | C7: 本 | D7: 1 | E7: =IF(A7="","",SUMIF(入出庫記録!$B$4:$B$303,A7,入出庫記録!$D$4:$D$303)) | F7: =IF(A7="","",SUMIF(入出庫記録!$B$4:$B$303,A7,入出庫記録!$E$4:$E$303)) | G7: =IF(A7="","",N(D7)+E7-F7) | H7: 2 | I7: =IF(OR(A7="",H7=""),"",IF(G7<=H7,"要発注","OK"))
A8: B-002 | B8: 封筒 長形3号 | C8: 枚 | D8: 100 | E8: =IF(A8="","",SUMIF(入出庫記録!$B$4:$B$303,A8,入出庫記録!$D$4:$D$303)) | F8: =IF(A8="","",SUMIF(入出庫記録!$B$4:$B$303,A8,入出庫記録!$E$4:$E$303)) | G8: =IF(A8="","",N(D8)+E8-F8) | H8: 200 | I8: =IF(OR(A8="",H8=""),"",IF(G8<=H8,"要発注","OK"))
E9: =IF(A9="","",SUMIF(入出庫記録!$B$4:$B$303,A9,入出庫記録!$D$4:$D$303)) | F9: =IF(A9="","",SUMIF(入出庫記録!$B$4:$B$303,A9,入出庫記録!$E$4:$E$303)) | G9: =IF(A9="","",N(D9)+E9-F9) | I9: =IF(OR(A9="",H9=""),"",IF(G9<=H9,"要発注","OK"))
E10: =IF(A10="","",SUMIF(入出庫記録!$B$4:$B$303,A10,入出庫記録!$D$4:$D$303)) | F10: =IF(A10="","",SUMIF(入出庫記録!$B$4:$B$303,A10,入出庫記録!$E$4:$E$303)) | G10: =IF(A10="","",N(D10)+E10-F10) | I10: =IF(OR(A10="",H10=""),"",IF(G10<=H10,"要発注","OK"))
E11: =IF(A11="","",SUMIF(入出庫記録!$B$4:$B$303,A11,入出庫記録!$D$4:$D$303)) | F11: =IF(A11="","",SUMIF(入出庫記録!$B$4:$B$303,A11,入出庫記録!$E$4:$E$303)) | G11: =IF(A11="","",N(D11)+E11-F11) | I11: =IF(OR(A11="",H11=""),"",IF(G11<=H11,"要発注","OK"))
E12: =IF(A12="","",SUMIF(入出庫記録!$B$4:$B$303,A12,入出庫記録!$D$4:$D$303)) | F12: =IF(A12="","",SUMIF(入出庫記録!$B$4:$B$303,A12,入出庫記録!$E$4:$E$303)) | G12: =IF(A12="","",N(D12)+E12-F12) | I12: =IF(OR(A12="",H12=""),"",IF(G12<=H12,"要発注","OK"))
E13: =IF(A13="","",SUMIF(入出庫記録!$B$4:$B$303,A13,入出庫記録!$D$4:$D$303)) | F13: =IF(A13="","",SUMIF(入出庫記録!$B$4:$B$303,A13,入出庫記録!$E$4:$E$303)) | G13: =IF(A13="","",N(D13)+E13-F13) | I13: =IF(OR(A13="",H13=""),"",IF(G13<=H13,"要発注","OK"))
E14: =IF(A14="","",SUMIF(入出庫記録!$B$4:$B$303,A14,入出庫記録!$D$4:$D$303)) | F14: =IF(A14="","",SUMIF(入出庫記録!$B$4:$B$303,A14,入出庫記録!$E$4:$E$303)) | G14: =IF(A14="","",N(D14)+E14-F14) | I14: =IF(OR(A14="",H14=""),"",IF(G14<=H14,"要発注","OK"))
E15: =IF(A15="","",SUMIF(入出庫記録!$B$4:$B$303,A15,入出庫記録!$D$4:$D$303)) | F15: =IF(A15="","",SUMIF(入出庫記録!$B$4:$B$303,A15,入出庫記録!$E$4:$E$303)) | G15: =IF(A15="","",N(D15)+E15-F15) | I15: =IF(OR(A15="",H15=""),"",IF(G15<=H15,"要発注","OK"))
E16: =IF(A16="","",SUMIF(入出庫記録!$B$4:$B$303,A16,入出庫記録!$D$4:$D$303)) | F16: =IF(A16="","",SUMIF(入出庫記録!$B$4:$B$303,A16,入出庫記録!$E$4:$E$303)) | G16: =IF(A16="","",N(D16)+E16-F16) | I16: =IF(OR(A16="",H16=""),"",IF(G16<=H16,"要発注","OK"))
E17: =IF(A17="","",SUMIF(入出庫記録!$B$4:$B$303,A17,入出庫記録!$D$4:$D$303)) | F17: =IF(A17="","",SUMIF(入出庫記録!$B$4:$B$303,A17,入出庫記録!$E$4:$E$303)) | G17: =IF(A17="","",N(D17)+E17-F17) | I17: =IF(OR(A17="",H17=""),"",IF(G17<=H17,"要発注","OK"))
E18: =IF(A18="","",SUMIF(入出庫記録!$B$4:$B$303,A18,入出庫記録!$D$4:$D$303)) | F18: =IF(A18="","",SUMIF(入出庫記録!$B$4:$B$303,A18,入出庫記録!$E$4:$E$303)) | G18: =IF(A18="","",N(D18)+E18-F18) | I18: =IF(OR(A18="",H18=""),"",IF(G18<=H18,"要発注","OK"))
E19: =IF(A19="","",SUMIF(入出庫記録!$B$4:$B$303,A19,入出庫記録!$D$4:$D$303)) | F19: =IF(A19="","",SUMIF(入出庫記録!$B$4:$B$303,A19,入出庫記録!$E$4:$E$303)) | G19: =IF(A19="","",N(D19)+E19-F19) | I19: =IF(OR(A19="",H19=""),"",IF(G19<=H19,"要発注","OK"))
E20: =IF(A20="","",SUMIF(入出庫記録!$B$4:$B$303,A20,入出庫記録!$D$4:$D$303)) | F20: =IF(A20="","",SUMIF(入出庫記録!$B$4:$B$303,A20,入出庫記録!$E$4:$E$303)) | G20: =IF(A20="","",N(D20)+E20-F20) | I20: =IF(OR(A20="",H20=""),"",IF(G20<=H20,"要発注","OK"))
... E53: =IF(A53="","",SUMIF(入出庫記録!$B$4:$B$303,A53,入出庫記録!$D$4:$D$303)) | F53: =IF(A53="","",SUMIF(入出庫記録!$B$4:$B$303,A53,入出庫記録!$E$4:$E$303)) | G53: =IF(A53="","",N(D53)+E53-F53) | I53: =IF(OR(A53="",H53=""),"",IF(G53<=H53,"要発注","OK"))

Sheet 入出庫記録
A1: 入出庫記録
A2: ※商品コードは「商品一覧」のコードをリストから選びます。商品名は自動で入ります。
A3: 日付 | B3: 商品コード | C3: 商品名 | D3: 入庫数 | E3: 出庫数 | F3: 担当 | G3: 備考
A4: 46327 | B4: A-001 | C4: =IF(B4="","",IFERROR(VLOOKUP(B4,商品一覧!$A$4:$B$53,2,FALSE),"(コードなし)")) | D4: 20
A5: 46329 | B5: A-001 | C5: =IF(B5="","",IFERROR(VLOOKUP(B5,商品一覧!$A$4:$B$53,2,FALSE),"(コードなし)")) | E5: 6
A6: 46329 | B6: A-002 | C6: =IF(B6="","",IFERROR(VLOOKUP(B6,商品一覧!$A$4:$B$53,2,FALSE),"(コードなし)")) | D6: 50
A7: 46331 | B7: A-002 | C7: =IF(B7="","",IFERROR(VLOOKUP(B7,商品一覧!$A$4:$B$53,2,FALSE),"(コードなし)")) | E7: 12
A8: 46334 | B8: B-001 | C8: =IF(B8="","",IFERROR(VLOOKUP(B8,商品一覧!$A$4:$B$53,2,FALSE),"(コードなし)")) | D8: 3
A9: 46336 | B9: B-001 | C9: =IF(B9="","",IFERROR(VLOOKUP(B9,商品一覧!$A$4:$B$53,2,FALSE),"(コードなし)")) | E9: 2
A10: 46338 | B10: A-003 | C10: =IF(B10="","",IFERROR(VLOOKUP(B10,商品一覧!$A$4:$B$53,2,FALSE),"(コードなし)")) | E10: 30
A11: 46341 | B11: A-001 | C11: =IF(B11="","",IFERROR(VLOOKUP(B11,商品一覧!$A$4:$B$53,2,FALSE),"(コードなし)")) | E11: 8
C12: =IF(B12="","",IFERROR(VLOOKUP(B12,商品一覧!$A$4:$B$53,2,FALSE),"(コードなし)"))
C13: =IF(B13="","",IFERROR(VLOOKUP(B13,商品一覧!$A$4:$B$53,2,FALSE),"(コードなし)"))
C14: =IF(B14="","",IFERROR(VLOOKUP(B14,商品一覧!$A$4:$B$53,2,FALSE),"(コードなし)"))
C15: =IF(B15="","",IFERROR(VLOOKUP(B15,商品一覧!$A$4:$B$53,2,FALSE),"(コードなし)"))
C16: =IF(B16="","",IFERROR(VLOOKUP(B16,商品一覧!$A$4:$B$53,2,FALSE),"(コードなし)"))
C17: =IF(B17="","",IFERROR(VLOOKUP(B17,商品一覧!$A$4:$B$53,2,FALSE),"(コードなし)"))
C18: =IF(B18="","",IFERROR(VLOOKUP(B18,商品一覧!$A$4:$B$53,2,FALSE),"(コードなし)"))
C19: =IF(B19="","",IFERROR(VLOOKUP(B19,商品一覧!$A$4:$B$53,2,FALSE),"(コードなし)"))
C20: =IF(B20="","",IFERROR(VLOOKUP(B20,商品一覧!$A$4:$B$53,2,FALSE),"(コードなし)"))
C21: =IF(B21="","",IFERROR(VLOOKUP(B21,商品一覧!$A$4:$B$53,2,FALSE),"(コードなし)"))
C22: =IF(B22="","",IFERROR(VLOOKUP(B22,商品一覧!$A$4:$B$53,2,FALSE),"(コードなし)"))
C23: =IF(B23="","",IFERROR(VLOOKUP(B23,商品一覧!$A$4:$B$53,2,FALSE),"(コードなし)"))
... C303: =IF(B303="","",IFERROR(VLOOKUP(B303,商品一覧!$A$4:$B$53,2,FALSE),"(コードなし)"))
