Workbook

Sheet 座席表(教室)
B1: 座席表(教室) | J1: クラス | L1: ○年○組
B2: 名簿シートの名前が入ります。「ランダム」を選ぶと席替え(F9キーで並べ直し)。 | J2: 席の決め方 | L2: 出席番号順
D4: 黒 板
F6: 教卓
B8: 1 | D8: 2 | F8: 3 | H8: 4 | J8: 5 | L8: 6
B9: =IFERROR(""&INDEX(名簿!$B$3:$B$42,MATCH(1,IF($L$2="ランダム",名簿!$D$3:$D$42,名簿!$A$3:$A$42),0)),"") | D9: =IFERROR(""&INDEX(名簿!$B$3:$B$42,MATCH(2,IF($L$2="ランダム",名簿!$D$3:$D$42,名簿!$A$3:$A$42),0)),"") | F9: =IFERROR(""&INDEX(名簿!$B$3:$B$42,MATCH(3,IF($L$2="ランダム",名簿!$D$3:$D$42,名簿!$A$3:$A$42),0)),"") | H9: =IFERROR(""&INDEX(名簿!$B$3:$B$42,MATCH(4,IF($L$2="ランダム",名簿!$D$3:$D$42,名簿!$A$3:$A$42),0)),"") | J9: =IFERROR(""&INDEX(名簿!$B$3:$B$42,MATCH(5,IF($L$2="ランダム",名簿!$D$3:$D$42,名簿!$A$3:$A$42),0)),"") | L9: =IFERROR(""&INDEX(名簿!$B$3:$B$42,MATCH(6,IF($L$2="ランダム",名簿!$D$3:$D$42,名簿!$A$3:$A$42),0)),"")
B11: 7 | D11: 8 | F11: 9 | H11: 10 | J11: 11 | L11: 12
B12: =IFERROR(""&INDEX(名簿!$B$3:$B$42,MATCH(7,IF($L$2="ランダム",名簿!$D$3:$D$42,名簿!$A$3:$A$42),0)),"") | D12: =IFERROR(""&INDEX(名簿!$B$3:$B$42,MATCH(8,IF($L$2="ランダム",名簿!$D$3:$D$42,名簿!$A$3:$A$42),0)),"") | F12: =IFERROR(""&INDEX(名簿!$B$3:$B$42,MATCH(9,IF($L$2="ランダム",名簿!$D$3:$D$42,名簿!$A$3:$A$42),0)),"") | H12: =IFERROR(""&INDEX(名簿!$B$3:$B$42,MATCH(10,IF($L$2="ランダム",名簿!$D$3:$D$42,名簿!$A$3:$A$42),0)),"") | J12: =IFERROR(""&INDEX(名簿!$B$3:$B$42,MATCH(11,IF($L$2="ランダム",名簿!$D$3:$D$42,名簿!$A$3:$A$42),0)),"") | L12: =IFERROR(""&INDEX(名簿!$B$3:$B$42,MATCH(12,IF($L$2="ランダム",名簿!$D$3:$D$42,名簿!$A$3:$A$42),0)),"")
B14: 13 | D14: 14 | F14: 15 | H14: 16 | J14: 17 | L14: 18
B15: =IFERROR(""&INDEX(名簿!$B$3:$B$42,MATCH(13,IF($L$2="ランダム",名簿!$D$3:$D$42,名簿!$A$3:$A$42),0)),"") | D15: =IFERROR(""&INDEX(名簿!$B$3:$B$42,MATCH(14,IF($L$2="ランダム",名簿!$D$3:$D$42,名簿!$A$3:$A$42),0)),"") | F15: =IFERROR(""&INDEX(名簿!$B$3:$B$42,MATCH(15,IF($L$2="ランダム",名簿!$D$3:$D$42,名簿!$A$3:$A$42),0)),"") | H15: =IFERROR(""&INDEX(名簿!$B$3:$B$42,MATCH(16,IF($L$2="ランダム",名簿!$D$3:$D$42,名簿!$A$3:$A$42),0)),"") | J15: =IFERROR(""&INDEX(名簿!$B$3:$B$42,MATCH(17,IF($L$2="ランダム",名簿!$D$3:$D$42,名簿!$A$3:$A$42),0)),"") | L15: =IFERROR(""&INDEX(名簿!$B$3:$B$42,MATCH(18,IF($L$2="ランダム",名簿!$D$3:$D$42,名簿!$A$3:$A$42),0)),"")
B17: 19 | D17: 20 | F17: 21 | H17: 22 | J17: 23 | L17: 24
B18: =IFERROR(""&INDEX(名簿!$B$3:$B$42,MATCH(19,IF($L$2="ランダム",名簿!$D$3:$D$42,名簿!$A$3:$A$42),0)),"") | D18: =IFERROR(""&INDEX(名簿!$B$3:$B$42,MATCH(20,IF($L$2="ランダム",名簿!$D$3:$D$42,名簿!$A$3:$A$42),0)),"") | F18: =IFERROR(""&INDEX(名簿!$B$3:$B$42,MATCH(21,IF($L$2="ランダム",名簿!$D$3:$D$42,名簿!$A$3:$A$42),0)),"") | H18: =IFERROR(""&INDEX(名簿!$B$3:$B$42,MATCH(22,IF($L$2="ランダム",名簿!$D$3:$D$42,名簿!$A$3:$A$42),0)),"") | J18: =IFERROR(""&INDEX(名簿!$B$3:$B$42,MATCH(23,IF($L$2="ランダム",名簿!$D$3:$D$42,名簿!$A$3:$A$42),0)),"") | L18: =IFERROR(""&INDEX(名簿!$B$3:$B$42,MATCH(24,IF($L$2="ランダム",名簿!$D$3:$D$42,名簿!$A$3:$A$42),0)),"")
B20: 25 | D20: 26 | F20: 27 | H20: 28 | J20: 29 | L20: 30
B21: =IFERROR(""&INDEX(名簿!$B$3:$B$42,MATCH(25,IF($L$2="ランダム",名簿!$D$3:$D$42,名簿!$A$3:$A$42),0)),"") | D21: =IFERROR(""&INDEX(名簿!$B$3:$B$42,MATCH(26,IF($L$2="ランダム",名簿!$D$3:$D$42,名簿!$A$3:$A$42),0)),"") | F21: =IFERROR(""&INDEX(名簿!$B$3:$B$42,MATCH(27,IF($L$2="ランダム",名簿!$D$3:$D$42,名簿!$A$3:$A$42),0)),"") | H21: =IFERROR(""&INDEX(名簿!$B$3:$B$42,MATCH(28,IF($L$2="ランダム",名簿!$D$3:$D$42,名簿!$A$3:$A$42),0)),"") | J21: =IFERROR(""&INDEX(名簿!$B$3:$B$42,MATCH(29,IF($L$2="ランダム",名簿!$D$3:$D$42,名簿!$A$3:$A$42),0)),"") | L21: =IFERROR(""&INDEX(名簿!$B$3:$B$42,MATCH(30,IF($L$2="ランダム",名簿!$D$3:$D$42,名簿!$A$3:$A$42),0)),"")
B23: 31 | D23: 32 | F23: 33 | H23: 34 | J23: 35 | L23: 36
B24: =IFERROR(""&INDEX(名簿!$B$3:$B$42,MATCH(31,IF($L$2="ランダム",名簿!$D$3:$D$42,名簿!$A$3:$A$42),0)),"") | D24: =IFERROR(""&INDEX(名簿!$B$3:$B$42,MATCH(32,IF($L$2="ランダム",名簿!$D$3:$D$42,名簿!$A$3:$A$42),0)),"") | F24: =IFERROR(""&INDEX(名簿!$B$3:$B$42,MATCH(33,IF($L$2="ランダム",名簿!$D$3:$D$42,名簿!$A$3:$A$42),0)),"") | H24: =IFERROR(""&INDEX(名簿!$B$3:$B$42,MATCH(34,IF($L$2="ランダム",名簿!$D$3:$D$42,名簿!$A$3:$A$42),0)),"") | J24: =IFERROR(""&INDEX(名簿!$B$3:$B$42,MATCH(35,IF($L$2="ランダム",名簿!$D$3:$D$42,名簿!$A$3:$A$42),0)),"") | L24: =IFERROR(""&INDEX(名簿!$B$3:$B$42,MATCH(36,IF($L$2="ランダム",名簿!$D$3:$D$42,名簿!$A$3:$A$42),0)),"")
B26: 37 | D26: 38 | F26: 39 | H26: 40 | J26: 41 | L26: 42
B27: =IFERROR(""&INDEX(名簿!$B$3:$B$42,MATCH(37,IF($L$2="ランダム",名簿!$D$3:$D$42,名簿!$A$3:$A$42),0)),"") | D27: =IFERROR(""&INDEX(名簿!$B$3:$B$42,MATCH(38,IF($L$2="ランダム",名簿!$D$3:$D$42,名簿!$A$3:$A$42),0)),"") | F27: =IFERROR(""&INDEX(名簿!$B$3:$B$42,MATCH(39,IF($L$2="ランダム",名簿!$D$3:$D$42,名簿!$A$3:$A$42),0)),"") | H27: =IFERROR(""&INDEX(名簿!$B$3:$B$42,MATCH(40,IF($L$2="ランダム",名簿!$D$3:$D$42,名簿!$A$3:$A$42),0)),"") | J27: =IFERROR(""&INDEX(名簿!$B$3:$B$42,MATCH(41,IF($L$2="ランダム",名簿!$D$3:$D$42,名簿!$A$3:$A$42),0)),"") | L27: =IFERROR(""&INDEX(名簿!$B$3:$B$42,MATCH(42,IF($L$2="ランダム",名簿!$D$3:$D$42,名簿!$A$3:$A$42),0)),"")
B29: ※小さい数字は席の番号です。空いている席は空欄になります。

Sheet 名簿
A1: 名簿(ここに入れた名前が座席表に入ります)
A2: 出席番号 | B2: 名前 | C2: 乱数(席替え用) | D2: ランダム順 | F2: ※乱数は、ファイルを開いたり、どこかのセルを変えたりするたびに変わります。
A3: 1 | B3: 青木 大和 | C3: =IF(B3="","",RAND()) | D3: =IF(B3="","",RANK(C3,$C$3:$C$42)+COUNTIF($C$3:C3,C3)-1) | F3: 席替えの結果を残すときは、座席表を印刷するか、［値の貼り付け］で別のシートにコピーします。
A4: 2 | B4: 石井 さくら | C4: =IF(B4="","",RAND()) | D4: =IF(B4="","",RANK(C4,$C$3:$C$42)+COUNTIF($C$3:C4,C4)-1)
A5: 3 | B5: 上田 蓮 | C5: =IF(B5="","",RAND()) | D5: =IF(B5="","",RANK(C5,$C$3:$C$42)+COUNTIF($C$3:C5,C5)-1)
A6: 4 | B6: 江口 結衣 | C6: =IF(B6="","",RAND()) | D6: =IF(B6="","",RANK(C6,$C$3:$C$42)+COUNTIF($C$3:C6,C6)-1)
A7: 5 | B7: 大野 陽翔 | C7: =IF(B7="","",RAND()) | D7: =IF(B7="","",RANK(C7,$C$3:$C$42)+COUNTIF($C$3:C7,C7)-1)
A8: 6 | B8: 加藤 美咲 | C8: =IF(B8="","",RAND()) | D8: =IF(B8="","",RANK(C8,$C$3:$C$42)+COUNTIF($C$3:C8,C8)-1)
A9: 7 | B9: 木村 湊 | C9: =IF(B9="","",RAND()) | D9: =IF(B9="","",RANK(C9,$C$3:$C$42)+COUNTIF($C$3:C9,C9)-1)
A10: 8 | B10: 工藤 葵 | C10: =IF(B10="","",RAND()) | D10: =IF(B10="","",RANK(C10,$C$3:$C$42)+COUNTIF($C$3:C10,C10)-1)
A11: 9 | B11: 小林 悠真 | C11: =IF(B11="","",RAND()) | D11: =IF(B11="","",RANK(C11,$C$3:$C$42)+COUNTIF($C$3:C11,C11)-1)
A12: 10 | B12: 斉藤 陽菜 | C12: =IF(B12="","",RAND()) | D12: =IF(B12="","",RANK(C12,$C$3:$C$42)+COUNTIF($C$3:C12,C12)-1)
A13: 11 | B13: 佐々木 樹 | C13: =IF(B13="","",RAND()) | D13: =IF(B13="","",RANK(C13,$C$3:$C$42)+COUNTIF($C$3:C13,C13)-1)
A14: 12 | B14: 清水 芽依 | C14: =IF(B14="","",RAND()) | D14: =IF(B14="","",RANK(C14,$C$3:$C$42)+COUNTIF($C$3:C14,C14)-1)
A15: 13 | B15: 鈴木 大翔 | C15: =IF(B15="","",RAND()) | D15: =IF(B15="","",RANK(C15,$C$3:$C$42)+COUNTIF($C$3:C15,C15)-1)
... A37: 35 | B37: 和田 瑛太 | C37: =IF(B37="","",RAND()) | D37: =IF(B37="","",RANK(C37,$C$3:$C$42)+COUNTIF($C$3:C37,C37)-1)
A38: 36 | C38: =IF(B38="","",RAND()) | D38: =IF(B38="","",RANK(C38,$C$3:$C$42)+COUNTIF($C$3:C38,C38)-1)
A39: 37 | C39: =IF(B39="","",RAND()) | D39: =IF(B39="","",RANK(C39,$C$3:$C$42)+COUNTIF($C$3:C39,C39)-1)
A40: 38 | C40: =IF(B40="","",RAND()) | D40: =IF(B40="","",RANK(C40,$C$3:$C$42)+COUNTIF($C$3:C40,C40)-1)
A41: 39 | C41: =IF(B41="","",RAND()) | D41: =IF(B41="","",RANK(C41,$C$3:$C$42)+COUNTIF($C$3:C41,C41)-1)
A42: 40 | C42: =IF(B42="","",RAND()) | D42: =IF(B42="","",RANK(C42,$C$3:$C$42)+COUNTIF($C$3:C42,C42)-1)

Sheet 座席表(会議・宴会)
B1: 座席表(会議・宴会)
B2: 会の名前:○○会議 日時:20XX年○月○日(○) 会場:○階 会議室
D4: 議長・司会(上座)
D6: 社長 ○○ ○○
B8: 部長 ○○ | D8: テーブル | F8: 部長 △△
B10: 課長 ○○ | F10: 課長 △△
B12: 主任 ○○ | F12: 主任 △△
B14: ○○ | F14: △△
B16: ○○ | F16: △△
D21: 書記 ○○
D22: 入口(下座)
B24: ※上座は入口からいちばん遠い席。役職の高い人やお客様から、上座に近い席に座ってもらいます。
