Workbook

Sheet 入力
A1: クーポン券の入力
A2: 黄色のセルを書きかえると、印刷用のシートに自動で入ります。
A4: 店名 | B4: ○○○○(お店の名前)
A5: 大きな文字(割引) | B5: 10%OFF
A6: 対象 | B6: お会計から10%割引
A7: 条件 | B7: 1回のお会計につき1枚。ほかの割引との併用はできません。
A8: 有効期限 | B8: 2027年1月31日まで
A9: 連絡先 | B9: TEL 000-000-0000
A11: ・A4に8枚。点線で切って使います。 ・大きな文字は「500円引き」「1杯無料」なども入ります。長いと小さくなるので、10文字くらいまでがおすすめです。

Sheet クーポン(8枚)
A1: =入力!B4 | H1: =入力!B4
A2: =入力!B5 | H2: =入力!B5
A5: =入力!B6 | H5: =入力!B6
A6: ="条件:"&入力!B7 | H6: ="条件:"&入力!B7
A8: ="有効期限 "&入力!B8&" "&入力!B9 | H8: ="有効期限 "&入力!B8&" "&入力!B9
A10: =入力!B4 | H10: =入力!B4
A11: =入力!B5 | H11: =入力!B5
A14: =入力!B6 | H14: =入力!B6
A15: ="条件:"&入力!B7 | H15: ="条件:"&入力!B7
A17: ="有効期限 "&入力!B8&" "&入力!B9 | H17: ="有効期限 "&入力!B8&" "&入力!B9
A19: =入力!B4 | H19: =入力!B4
A20: =入力!B5 | H20: =入力!B5
A23: =入力!B6 | H23: =入力!B6
A24: ="条件:"&入力!B7 | H24: ="条件:"&入力!B7
A26: ="有効期限 "&入力!B8&" "&入力!B9 | H26: ="有効期限 "&入力!B8&" "&入力!B9
A28: =入力!B4 | H28: =入力!B4
A29: =入力!B5 | H29: =入力!B5
A32: =入力!B6 | H32: =入力!B6
A33: ="条件:"&入力!B7 | H33: ="条件:"&入力!B7
A35: ="有効期限 "&入力!B8&" "&入力!B9 | H35: ="有効期限 "&入力!B8&" "&入力!B9
