Workbook

Sheet 入力
A1: 回数券の入力
A2: 黄色のセルを書きかえると、印刷用のシートに自動で入ります。
A4: 店名・サービス名 | B4: ○○○○(お店の名前)
A5: 券の種類 | B5: 10回分のお値段で11回
A6: 1回の内容 | B6: コーヒー1杯
A7: 有効期限 | B7: 発行日から6か月
A8: 連絡先 | B8: TEL 000-000-0000
A9: 通し番号(はじめ) | B9: 1
A11: ・カード型は名刺くらいの大きさで、A4に10枚。スタンプ・日付・サインの欄に使います。 ・切り取り式は表紙1枚+券11枚。点線で切り、使うたびに1枚ずつ回収します。 ・通し番号は、カードごとに1ずつ増えます。

Sheet カード型(10枚)
A1: =入力!B4 | I1: =入力!B4
A2: =入力!B5&" "&入力!B6 | I2: =入力!B5&" "&入力!B6
A3: 1 | B3: 2 | C3: 3 | D3: 4 | E3: 5 | F3: 6 | I3: 1 | J3: 2 | K3: 3 | L3: 4 | M3: 5 | N3: 6
A5: 7 | B5: 8 | C5: 9 | D5: 10 | F5: サービス | I5: 7 | J5: 8 | K5: 9 | L5: 10 | N5: サービス
A7: ="有効期限 "&入力!B7 | I7: ="有効期限 "&入力!B7
A8: =入力!B8&" No."&TEXT(入力!B9+0,"000") | I8: =入力!B8&" No."&TEXT(入力!B9+1,"000")
A9: =入力!B4 | I9: =入力!B4
A10: =入力!B5&" "&入力!B6 | I10: =入力!B5&" "&入力!B6
A11: 1 | B11: 2 | C11: 3 | D11: 4 | E11: 5 | F11: 6 | I11: 1 | J11: 2 | K11: 3 | L11: 4 | M11: 5 | N11: 6
A13: 7 | B13: 8 | C13: 9 | D13: 10 | F13: サービス | I13: 7 | J13: 8 | K13: 9 | L13: 10 | N13: サービス
A15: ="有効期限 "&入力!B7 | I15: ="有効期限 "&入力!B7
A16: =入力!B8&" No."&TEXT(入力!B9+2,"000") | I16: =入力!B8&" No."&TEXT(入力!B9+3,"000")
A17: =入力!B4 | I17: =入力!B4
A18: =入力!B5&" "&入力!B6 | I18: =入力!B5&" "&入力!B6
A19: 1 | B19: 2 | C19: 3 | D19: 4 | E19: 5 | F19: 6 | I19: 1 | J19: 2 | K19: 3 | L19: 4 | M19: 5 | N19: 6
A21: 7 | B21: 8 | C21: 9 | D21: 10 | F21: サービス | I21: 7 | J21: 8 | K21: 9 | L21: 10 | N21: サービス
A23: ="有効期限 "&入力!B7 | I23: ="有効期限 "&入力!B7
A24: =入力!B8&" No."&TEXT(入力!B9+4,"000") | I24: =入力!B8&" No."&TEXT(入力!B9+5,"000")
A25: =入力!B4 | I25: =入力!B4
A26: =入力!B5&" "&入力!B6 | I26: =入力!B5&" "&入力!B6
A27: 1 | B27: 2 | C27: 3 | D27: 4 | E27: 5 | F27: 6 | I27: 1 | J27: 2 | K27: 3 | L27: 4 | M27: 5 | N27: 6
A29: 7 | B29: 8 | C29: 9 | D29: 10 | F29: サービス | I29: 7 | J29: 8 | K29: 9 | L29: 10 | N29: サービス
A31: ="有効期限 "&入力!B7 | I31: ="有効期限 "&入力!B7
A32: =入力!B8&" No."&TEXT(入力!B9+6,"000") | I32: =入力!B8&" No."&TEXT(入力!B9+7,"000")
A33: =入力!B4 | I33: =入力!B4
A34: =入力!B5&" "&入力!B6 | I34: =入力!B5&" "&入力!B6
A35: 1 | B35: 2 | C35: 3 | D35: 4 | E35: 5 | F35: 6 | I35: 1 | J35: 2 | K35: 3 | L35: 4 | M35: 5 | N35: 6
A37: 7 | B37: 8 | C37: 9 | D37: 10 | F37: サービス | I37: 7 | J37: 8 | K37: 9 | L37: 10 | N37: サービス
A39: ="有効期限 "&入力!B7 | I39: ="有効期限 "&入力!B7
A40: =入力!B8&" No."&TEXT(入力!B9+8,"000") | I40: =入力!B8&" No."&TEXT(入力!B9+9,"000")

Sheet 切り取り式(11枚つづり)
A2: =入力!B4 | D2: =入力!B4
A4: ="回数券(11枚つづり) "&入力!B5 | D4: =入力!B6&" 1回券"
A5: ="有効期限 "&入力!B7
A6: =入力!B8 | D6: ="No."&TEXT(入力!B9,"000")&"-"&TEXT(1,"00")&" 有効期限 "&入力!B7
A9: =入力!B4 | D9: =入力!B4
A11: =入力!B6&" 1回券" | D11: =入力!B6&" 1回券"
A13: ="No."&TEXT(入力!B9,"000")&"-"&TEXT(2,"00")&" 有効期限 "&入力!B7 | D13: ="No."&TEXT(入力!B9,"000")&"-"&TEXT(3,"00")&" 有効期限 "&入力!B7
A16: =入力!B4 | D16: =入力!B4
A18: =入力!B6&" 1回券" | D18: =入力!B6&" 1回券"
A20: ="No."&TEXT(入力!B9,"000")&"-"&TEXT(4,"00")&" 有効期限 "&入力!B7 | D20: ="No."&TEXT(入力!B9,"000")&"-"&TEXT(5,"00")&" 有効期限 "&入力!B7
A23: =入力!B4 | D23: =入力!B4
A25: =入力!B6&" 1回券" | D25: =入力!B6&" 1回券"
A27: ="No."&TEXT(入力!B9,"000")&"-"&TEXT(6,"00")&" 有効期限 "&入力!B7 | D27: ="No."&TEXT(入力!B9,"000")&"-"&TEXT(7,"00")&" 有効期限 "&入力!B7
A30: =入力!B4 | D30: =入力!B4
A32: =入力!B6&" 1回券" | D32: =入力!B6&" 1回券"
A34: ="No."&TEXT(入力!B9,"000")&"-"&TEXT(8,"00")&" 有効期限 "&入力!B7 | D34: ="No."&TEXT(入力!B9,"000")&"-"&TEXT(9,"00")&" 有効期限 "&入力!B7
A37: =入力!B4 | D37: =入力!B4
A39: =入力!B6&" 1回券" | D39: =入力!B6&" 1回券"
A41: ="No."&TEXT(入力!B9,"000")&"-"&TEXT(10,"00")&" 有効期限 "&入力!B7 | D41: ="No."&TEXT(入力!B9,"000")&"-"&TEXT(11,"00")&" 有効期限 "&入力!B7
