Workbook

Sheet 工具台帳
A1: 工具管理表(工具台帳)
A2: 黄色のセルに入力します。点検日と点検の間隔(か月)を入れると次回点検日が出て、30日前からオレンジ、過ぎると赤になります。
A4: No | B4: 管理番号 | C4: 工具名 | D4: メーカー・型番 | E4: 数量 | F4: 保管場所 | G4: 購入日 | H4: 最後の 点検日 | I4: 点検の 間隔(月) | J4: 次回 点検日 | K4: 状態 | L4: 備考
A5: 1 | J5: =IF(OR(H5="",I5=""),"",EDATE(H5,I5))
A6: 2 | J6: =IF(OR(H6="",I6=""),"",EDATE(H6,I6))
A7: 3 | J7: =IF(OR(H7="",I7=""),"",EDATE(H7,I7))
A8: 4 | J8: =IF(OR(H8="",I8=""),"",EDATE(H8,I8))
A9: 5 | J9: =IF(OR(H9="",I9=""),"",EDATE(H9,I9))
A10: 6 | J10: =IF(OR(H10="",I10=""),"",EDATE(H10,I10))
A11: 7 | J11: =IF(OR(H11="",I11=""),"",EDATE(H11,I11))
A12: 8 | J12: =IF(OR(H12="",I12=""),"",EDATE(H12,I12))
A13: 9 | J13: =IF(OR(H13="",I13=""),"",EDATE(H13,I13))
A14: 10 | J14: =IF(OR(H14="",I14=""),"",EDATE(H14,I14))
A15: 11 | J15: =IF(OR(H15="",I15=""),"",EDATE(H15,I15))
A16: 12 | J16: =IF(OR(H16="",I16=""),"",EDATE(H16,I16))
... A34: 30 | J34: =IF(OR(H34="",I34=""),"",EDATE(H34,I34))
A36: もてなしお motenashio.com

Sheet 貸出記録
A1: 工具の貸出記録(持ち出し・返却)
A2: 管理番号を入れると、工具台帳から工具名が入ります。返却予定日を過ぎても返却日が空いていると赤になります。
A4: 貸出日 | B4: 管理番号 | C4: 工具名(自動) | D4: 借りた人 | E4: 持出先・現場 | F4: 返却予定日 | G4: 返却日 | H4: 返却時の 状態 | I4: 確認者 | J4: 状況
C5: =IF(B5="","",IFERROR(VLOOKUP(B5,'工具台帳'!$B$5:$C$34,2,FALSE),"台帳にありません")) | J5: =IF(A5="","",IF(G5<>"","返却済",IF(AND(F5<>"",F5<TODAY()),"期限切れ","貸出中")))
C6: =IF(B6="","",IFERROR(VLOOKUP(B6,'工具台帳'!$B$5:$C$34,2,FALSE),"台帳にありません")) | J6: =IF(A6="","",IF(G6<>"","返却済",IF(AND(F6<>"",F6<TODAY()),"期限切れ","貸出中")))
C7: =IF(B7="","",IFERROR(VLOOKUP(B7,'工具台帳'!$B$5:$C$34,2,FALSE),"台帳にありません")) | J7: =IF(A7="","",IF(G7<>"","返却済",IF(AND(F7<>"",F7<TODAY()),"期限切れ","貸出中")))
C8: =IF(B8="","",IFERROR(VLOOKUP(B8,'工具台帳'!$B$5:$C$34,2,FALSE),"台帳にありません")) | J8: =IF(A8="","",IF(G8<>"","返却済",IF(AND(F8<>"",F8<TODAY()),"期限切れ","貸出中")))
C9: =IF(B9="","",IFERROR(VLOOKUP(B9,'工具台帳'!$B$5:$C$34,2,FALSE),"台帳にありません")) | J9: =IF(A9="","",IF(G9<>"","返却済",IF(AND(F9<>"",F9<TODAY()),"期限切れ","貸出中")))
C10: =IF(B10="","",IFERROR(VLOOKUP(B10,'工具台帳'!$B$5:$C$34,2,FALSE),"台帳にありません")) | J10: =IF(A10="","",IF(G10<>"","返却済",IF(AND(F10<>"",F10<TODAY()),"期限切れ","貸出中")))
C11: =IF(B11="","",IFERROR(VLOOKUP(B11,'工具台帳'!$B$5:$C$34,2,FALSE),"台帳にありません")) | J11: =IF(A11="","",IF(G11<>"","返却済",IF(AND(F11<>"",F11<TODAY()),"期限切れ","貸出中")))
C12: =IF(B12="","",IFERROR(VLOOKUP(B12,'工具台帳'!$B$5:$C$34,2,FALSE),"台帳にありません")) | J12: =IF(A12="","",IF(G12<>"","返却済",IF(AND(F12<>"",F12<TODAY()),"期限切れ","貸出中")))
C13: =IF(B13="","",IFERROR(VLOOKUP(B13,'工具台帳'!$B$5:$C$34,2,FALSE),"台帳にありません")) | J13: =IF(A13="","",IF(G13<>"","返却済",IF(AND(F13<>"",F13<TODAY()),"期限切れ","貸出中")))
C14: =IF(B14="","",IFERROR(VLOOKUP(B14,'工具台帳'!$B$5:$C$34,2,FALSE),"台帳にありません")) | J14: =IF(A14="","",IF(G14<>"","返却済",IF(AND(F14<>"",F14<TODAY()),"期限切れ","貸出中")))
C15: =IF(B15="","",IFERROR(VLOOKUP(B15,'工具台帳'!$B$5:$C$34,2,FALSE),"台帳にありません")) | J15: =IF(A15="","",IF(G15<>"","返却済",IF(AND(F15<>"",F15<TODAY()),"期限切れ","貸出中")))
C16: =IF(B16="","",IFERROR(VLOOKUP(B16,'工具台帳'!$B$5:$C$34,2,FALSE),"台帳にありません")) | J16: =IF(A16="","",IF(G16<>"","返却済",IF(AND(F16<>"",F16<TODAY()),"期限切れ","貸出中")))
... C34: =IF(B34="","",IFERROR(VLOOKUP(B34,'工具台帳'!$B$5:$C$34,2,FALSE),"台帳にありません")) | J34: =IF(A34="","",IF(G34<>"","返却済",IF(AND(F34<>"",F34<TODAY()),"期限切れ","貸出中")))
A36: もてなしお motenashio.com

Sheet 記入例(台帳)
A1: 工具管理表(工具台帳)
A2: 黄色のセルに入力します。点検日と点検の間隔(か月)を入れると次回点検日が出て、30日前からオレンジ、過ぎると赤になります。
B3: 記入例
A4: No | B4: 管理番号 | C4: 工具名 | D4: メーカー・型番 | E4: 数量 | F4: 保管場所 | G4: 購入日 | H4: 最後の 点検日 | I4: 点検の 間隔(月) | J4: 次回 点検日 | K4: 状態 | L4: 備考
A5: 1 | B5: T-001 | C5: インパクトドライバー | D5: マキタ TD173D | E5: 2 | F5: 倉庫A-1 | G5: 45757 | H5: 46157 | I5: 6 | J5: =IF(OR(H5="",I5=""),"",EDATE(H5,I5)) | K5: 良好 | L5: バッテリー2個
A6: 2 | B6: T-002 | C6: 電動ドリル | D6: HiKOKI DS18DD | E6: 1 | F6: 倉庫A-1 | G6: 45536 | H6: 46082 | I6: 6 | J6: =IF(OR(H6="",I6=""),"",EDATE(H6,I6)) | K6: 要点検 | L6: チャックのゆるみ
A7: 3 | B7: T-003 | C7: ディスクグラインダー | D7: マキタ GA404DN | E7: 1 | F7: 倉庫A-2 | G7: 45097 | H7: 46254 | I7: 3 | J7: =IF(OR(H7="",I7=""),"",EDATE(H7,I7)) | K7: 良好 | L7: 砥石の予備あり
A8: 4 | B8: T-004 | C8: トルクレンチ | D8: 東日製作所 QL50N | E8: 1 | F8: 工具棚B | G8: 44870 | H8: 45962 | I8: 12 | J8: =IF(OR(H8="",I8=""),"",EDATE(H8,I8)) | K8: 良好 | L8: 校正証明書あり
A9: 5 | B9: T-005 | C9: レーザー墨出し器 | D9: タジマ ZEROBL-KJC | E9: 1 | F9: 工具棚B | G9: 45672 | H9: 46218 | I9: 6 | J9: =IF(OR(H9="",I9=""),"",EDATE(H9,I9)) | K9: 修理中 | L9: 11/4 修理に出した
A10: 6 | B10: T-006 | C10: 脚立(6尺) | D10: アルミ製 | E10: 3 | F10: 倉庫C | G10: 44287 | H10: 46296 | I10: 6 | J10: =IF(OR(H10="",I10=""),"",EDATE(H10,I10)) | K10: 良好
A11: 7 | J11: =IF(OR(H11="",I11=""),"",EDATE(H11,I11))
A12: 8 | J12: =IF(OR(H12="",I12=""),"",EDATE(H12,I12))
A13: 9 | J13: =IF(OR(H13="",I13=""),"",EDATE(H13,I13))
A14: 10 | J14: =IF(OR(H14="",I14=""),"",EDATE(H14,I14))
A15: 11 | J15: =IF(OR(H15="",I15=""),"",EDATE(H15,I15))
A16: 12 | J16: =IF(OR(H16="",I16=""),"",EDATE(H16,I16))
A17: 13 | J17: =IF(OR(H17="",I17=""),"",EDATE(H17,I17))
A18: 14 | J18: =IF(OR(H18="",I18=""),"",EDATE(H18,I18))
A19: 15 | J19: =IF(OR(H19="",I19=""),"",EDATE(H19,I19))
A20: 16 | J20: =IF(OR(H20="",I20=""),"",EDATE(H20,I20))
A21: 17 | J21: =IF(OR(H21="",I21=""),"",EDATE(H21,I21))
A22: 18 | J22: =IF(OR(H22="",I22=""),"",EDATE(H22,I22))
... A34: 30 | J34: =IF(OR(H34="",I34=""),"",EDATE(H34,I34))
A36: もてなしお motenashio.com

Sheet 記入例(貸出)
A1: 工具の貸出記録(持ち出し・返却)
A2: 管理番号を入れると、工具台帳から工具名が入ります。返却予定日を過ぎても返却日が空いていると赤になります。
A3: 記入例
A4: 貸出日 | B4: 管理番号 | C4: 工具名(自動) | D4: 借りた人 | E4: 持出先・現場 | F4: 返却予定日 | G4: 返却日 | H4: 返却時の 状態 | I4: 確認者 | J4: 状況
A5: 46328 | B5: T-001 | C5: =IF(B5="","",IFERROR(VLOOKUP(B5,'記入例(台帳)'!$B$5:$C$34,2,FALSE),"台帳にありません")) | D5: 鈴木 一郎 | E5: ○○ビル 改修工事 | F5: 46332 | G5: 46331 | H5: 良好 | I5: 田中 | J5: =IF(A5="","",IF(G5<>"","返却済",IF(AND(F5<>"",F5<TODAY()),"期限切れ","貸出中")))
A6: 46330 | B6: T-003 | C6: =IF(B6="","",IFERROR(VLOOKUP(B6,'記入例(台帳)'!$B$5:$C$34,2,FALSE),"台帳にありません")) | D6: 高橋 健 | E6: △△邸 外構工事 | F6: 46331 | J6: =IF(A6="","",IF(G6<>"","返却済",IF(AND(F6<>"",F6<TODAY()),"期限切れ","貸出中")))
A7: 46331 | B7: T-006 | C7: =IF(B7="","",IFERROR(VLOOKUP(B7,'記入例(台帳)'!$B$5:$C$34,2,FALSE),"台帳にありません")) | D7: 鈴木 一郎 | E7: ○○ビル 改修工事 | F7: 46346 | J7: =IF(A7="","",IF(G7<>"","返却済",IF(AND(F7<>"",F7<TODAY()),"期限切れ","貸出中")))
A8: 46331 | B8: T-004 | C8: =IF(B8="","",IFERROR(VLOOKUP(B8,'記入例(台帳)'!$B$5:$C$34,2,FALSE),"台帳にありません")) | D8: 伊藤 誠 | E8: 工場ライン点検 | F8: 46333 | G8: 46332 | H8: 傷あり | I8: 田中 | J8: =IF(A8="","",IF(G8<>"","返却済",IF(AND(F8<>"",F8<TODAY()),"期限切れ","貸出中")))
C9: =IF(B9="","",IFERROR(VLOOKUP(B9,'記入例(台帳)'!$B$5:$C$34,2,FALSE),"台帳にありません")) | J9: =IF(A9="","",IF(G9<>"","返却済",IF(AND(F9<>"",F9<TODAY()),"期限切れ","貸出中")))
C10: =IF(B10="","",IFERROR(VLOOKUP(B10,'記入例(台帳)'!$B$5:$C$34,2,FALSE),"台帳にありません")) | J10: =IF(A10="","",IF(G10<>"","返却済",IF(AND(F10<>"",F10<TODAY()),"期限切れ","貸出中")))
C11: =IF(B11="","",IFERROR(VLOOKUP(B11,'記入例(台帳)'!$B$5:$C$34,2,FALSE),"台帳にありません")) | J11: =IF(A11="","",IF(G11<>"","返却済",IF(AND(F11<>"",F11<TODAY()),"期限切れ","貸出中")))
C12: =IF(B12="","",IFERROR(VLOOKUP(B12,'記入例(台帳)'!$B$5:$C$34,2,FALSE),"台帳にありません")) | J12: =IF(A12="","",IF(G12<>"","返却済",IF(AND(F12<>"",F12<TODAY()),"期限切れ","貸出中")))
C13: =IF(B13="","",IFERROR(VLOOKUP(B13,'記入例(台帳)'!$B$5:$C$34,2,FALSE),"台帳にありません")) | J13: =IF(A13="","",IF(G13<>"","返却済",IF(AND(F13<>"",F13<TODAY()),"期限切れ","貸出中")))
C14: =IF(B14="","",IFERROR(VLOOKUP(B14,'記入例(台帳)'!$B$5:$C$34,2,FALSE),"台帳にありません")) | J14: =IF(A14="","",IF(G14<>"","返却済",IF(AND(F14<>"",F14<TODAY()),"期限切れ","貸出中")))
C15: =IF(B15="","",IFERROR(VLOOKUP(B15,'記入例(台帳)'!$B$5:$C$34,2,FALSE),"台帳にありません")) | J15: =IF(A15="","",IF(G15<>"","返却済",IF(AND(F15<>"",F15<TODAY()),"期限切れ","貸出中")))
C16: =IF(B16="","",IFERROR(VLOOKUP(B16,'記入例(台帳)'!$B$5:$C$34,2,FALSE),"台帳にありません")) | J16: =IF(A16="","",IF(G16<>"","返却済",IF(AND(F16<>"",F16<TODAY()),"期限切れ","貸出中")))
C17: =IF(B17="","",IFERROR(VLOOKUP(B17,'記入例(台帳)'!$B$5:$C$34,2,FALSE),"台帳にありません")) | J17: =IF(A17="","",IF(G17<>"","返却済",IF(AND(F17<>"",F17<TODAY()),"期限切れ","貸出中")))
C18: =IF(B18="","",IFERROR(VLOOKUP(B18,'記入例(台帳)'!$B$5:$C$34,2,FALSE),"台帳にありません")) | J18: =IF(A18="","",IF(G18<>"","返却済",IF(AND(F18<>"",F18<TODAY()),"期限切れ","貸出中")))
C19: =IF(B19="","",IFERROR(VLOOKUP(B19,'記入例(台帳)'!$B$5:$C$34,2,FALSE),"台帳にありません")) | J19: =IF(A19="","",IF(G19<>"","返却済",IF(AND(F19<>"",F19<TODAY()),"期限切れ","貸出中")))
C20: =IF(B20="","",IFERROR(VLOOKUP(B20,'記入例(台帳)'!$B$5:$C$34,2,FALSE),"台帳にありません")) | J20: =IF(A20="","",IF(G20<>"","返却済",IF(AND(F20<>"",F20<TODAY()),"期限切れ","貸出中")))
... C34: =IF(B34="","",IFERROR(VLOOKUP(B34,'記入例(台帳)'!$B$5:$C$34,2,FALSE),"台帳にありません")) | J34: =IF(A34="","",IF(G34<>"","返却済",IF(AND(F34<>"",F34<TODAY()),"期限切れ","貸出中")))
A36: もてなしお motenashio.com
