Workbook

Sheet 入力
A1: 整理券の入力
A2: 黄色のセルを書きかえると、印刷用のシートに自動で入ります。
A4: 見出し | B4: 整理券
A5: 店名・下の文字 | B5: ○○○○ ご来店ありがとうございます
A6: はじめの番号 | B6: 1
A8: ・A4に20枚。はじめの番号を1にすると1〜20、21にすると21〜40が印刷されます。 ・番号だけのPDF(1〜100・101〜200)もダウンロードできます。

Sheet 整理券(20枚)
A1: =入力!B4 | C1: =入力!B4 | E1: =入力!B4 | G1: =入力!B4
A2: =入力!B6+0 | C2: =入力!B6+1 | E2: =入力!B6+2 | G2: =入力!B6+3
A5: =入力!B5 | C5: =入力!B5 | E5: =入力!B5 | G5: =入力!B5
A7: =入力!B4 | C7: =入力!B4 | E7: =入力!B4 | G7: =入力!B4
A8: =入力!B6+4 | C8: =入力!B6+5 | E8: =入力!B6+6 | G8: =入力!B6+7
A11: =入力!B5 | C11: =入力!B5 | E11: =入力!B5 | G11: =入力!B5
A13: =入力!B4 | C13: =入力!B4 | E13: =入力!B4 | G13: =入力!B4
A14: =入力!B6+8 | C14: =入力!B6+9 | E14: =入力!B6+10 | G14: =入力!B6+11
A17: =入力!B5 | C17: =入力!B5 | E17: =入力!B5 | G17: =入力!B5
A19: =入力!B4 | C19: =入力!B4 | E19: =入力!B4 | G19: =入力!B4
A20: =入力!B6+12 | C20: =入力!B6+13 | E20: =入力!B6+14 | G20: =入力!B6+15
A23: =入力!B5 | C23: =入力!B5 | E23: =入力!B5 | G23: =入力!B5
A25: =入力!B4 | C25: =入力!B4 | E25: =入力!B4 | G25: =入力!B4
A26: =入力!B6+16 | C26: =入力!B6+17 | E26: =入力!B6+18 | G26: =入力!B6+19
A29: =入力!B5 | C29: =入力!B5 | E29: =入力!B5 | G29: =入力!B5
