Workbook

Sheet 入力
A1: チケットの入力
A2: 黄色のセルを書きかえると、印刷用のシートに自動で入ります。
A4: 主催者 | B4: 主催:○○○○実行委員会
A5: イベント名 | B5: ○○○○コンサート
A6: 日時 | B6: 2026年12月20日(日) 開場13:30 開演14:00
A7: 会場 | B7: ○○市民ホール 大ホール
A8: 料金 | B8: 1,000円(全席自由)
A9: 問い合わせ | B9: TEL 000-000-0000
A10: 通し番号(はじめ) | B10: 1
A12: ・A4に5枚。左が本券、右が半券です。受付で半券を切り取ります。 ・2ページ目以降を作るときは、通し番号(はじめ)を6、11…に変えて印刷します。

Sheet チケット(5枚)
A2: =入力!B4 | H2: 半券
A3: =入力!B5
H4: =入力!B5
A5: ="日時 "&入力!B6
A6: ="会場 "&入力!B7 | H6: =入力!B6
A7: ="料金 "&入力!B8 | E7: ="No."&TEXT(入力!B10+0,"0000") | H7: ="No."&TEXT(入力!B10+0,"0000")
A9: =入力!B4 | H9: 半券
A10: =入力!B5
H11: =入力!B5
A12: ="日時 "&入力!B6
A13: ="会場 "&入力!B7 | H13: =入力!B6
A14: ="料金 "&入力!B8 | E14: ="No."&TEXT(入力!B10+1,"0000") | H14: ="No."&TEXT(入力!B10+1,"0000")
A16: =入力!B4 | H16: 半券
A17: =入力!B5
H18: =入力!B5
A19: ="日時 "&入力!B6
A20: ="会場 "&入力!B7 | H20: =入力!B6
A21: ="料金 "&入力!B8 | E21: ="No."&TEXT(入力!B10+2,"0000") | H21: ="No."&TEXT(入力!B10+2,"0000")
A23: =入力!B4 | H23: 半券
A24: =入力!B5
H25: =入力!B5
A26: ="日時 "&入力!B6
A27: ="会場 "&入力!B7 | H27: =入力!B6
A28: ="料金 "&入力!B8 | E28: ="No."&TEXT(入力!B10+3,"0000") | H28: ="No."&TEXT(入力!B10+3,"0000")
A30: =入力!B4 | H30: 半券
A31: =入力!B5
H32: =入力!B5
A33: ="日時 "&入力!B6
A34: ="会場 "&入力!B7 | H34: =入力!B6
A35: ="料金 "&入力!B8 | E35: ="No."&TEXT(入力!B10+4,"0000") | H35: ="No."&TEXT(入力!B10+4,"0000")
